{"text_format":"1","workbook":"xlsx","n_sheets":4,"sheets":["SYNTHESE","Nouveau","Notice","RECAP"],"not_rendered":{"charts":0,"images":2,"macros":1,"external_links":0,"defined_names":3,"comments":0,"pivot_tables":0},"unopened":[],"bounds":{"document_bytes":16777216,"sheet_cells":100000,"rows_first":2000,"rows_last":500,"rows_between":2000,"halvings":0,"cell_chars":16384,"cell_head_chars":4096},"cells_cut":0,"cells_raw":0,"read":"whole","date_system":"1900"}

{"sheet":"SYNTHESE","index":0,"n_rows":19,"n_cols":8,"rows_kept":19,"cut":false,"hidden":false,"merged":[[1,1,1,2],[16,1,16,2]]}
[]
[null,"Éléments de synthèse"]
[null,"Année",{"$f":"YEAR(NOW())","v":2017}]
[]
[]
[]
[]
[]
[null,"Année en cours",null,null,null,null,"Reconnaissance administrative",{"$f":"YEAR(NOW())","v":2017}]
[null,{"$f":"YEAR(NOW())","v":2017},null,null,null,null,"RQTH",{"$f":"SUM(Nouveau:Notice!C21)","v":0}]
["Nombre de BOE",{"$f":"SUM(H10:H19)","v":0},null,null,null,null,"AT/MP avec IP>10%",{"$f":"SUM(Nouveau:Notice!C22)","v":0}]
[null,null,null,null,null,null,"PI",{"$f":"SUM(Nouveau:Notice!C22)","v":0}]
[null,null,null,null,null,null,"Anciens militaires et assimilés",{"$f":"SUM(Nouveau:Notice!C23)","v":0}]
[null,null,null,null,null,null,"Veuves de guerre",{"$f":"SUM(Nouveau:Notice!C24)","v":0}]
[null,"Hommes","Femmes",null,null,null,"Orphelins de guerre",{"$f":"SUM(Nouveau:Notice!C25)","v":0}]
["Nombre",{"$f":"RECAP!$G$1","v":0},{"$f":"RECAP!$F$1","v":0},null,null,null,"Allocation d'invalidité des sapeurs-pompiers",{"$f":"SUM(Nouveau:Notice!C26)","v":0}]
["Moyenne d'âge",{"$f":"RECAP!$D$1","v":{"$error":"#DIV/0!"}},null,null,null,null,"CI",{"$f":"SUM(Nouveau:Notice!C27)","v":0}]
[null,null,null,null,null,null,"AAH",{"$f":"SUM(Nouveau:Notice!C28)","v":0}]
[null,null,null,null,null,null,"Reclassement/inaptitude",{"$f":"SUM(Nouveau:Notice!C30)","v":0}]

{"sheet":"Nouveau","index":1,"n_rows":35,"n_cols":6,"rows_kept":35,"cut":false,"hidden":false,"merged":[[0,2,0,4],[16,1,16,2],[2,1,2,2],[2,4,2,5],[13,1,13,2],[9,4,9,5],[11,4,11,5],[8,1,8,2],[8,4,8,5],[10,4,10,5]]}
[null,null,"FICHE INDIVIDUELLE"]
[]
[null,"Identification de l'agent",null,null,"Affectation de l'agent"]
[{"$f":"C4&A5","v":"1900"},"NOM",null,null,"Métier"]
[{"$f":"YEAR(C6)","v":1900},"Prénom",null,null,"UF d'affectation principale"]
[null,"Date de naissance",null,null,"Date de la dernière affectation"]
[null,"Sexe",null,null,"Date de sortie de l'établissement"]
[]
[null,"Critères BOE",null,null,"Aides du FIPHFP mobilisées"]
[null,"Reconnaissance administrative du handicap"]
[]
[]
[]
[null,"En cas de RQTH"]
[null,"Date d'échéance de la RQTH en cours"]
[]
[null,"En cas de reclassement / Inaptitude"]
[null,"Date de passage en CMD/CDR"]
[]
[]
[null,"RQTH",{"$f":"COUNTIF(C10,\"=RQTH\")","v":0},null,"Nom",{"$f":"$C$4","v":0}]
[null,"AT/MP avec IP>10%",{"$f":"COUNTIF(C10,\"=AT/MP avec IP>10%\")","v":0},null,"Prénom",{"$f":"$C$5","v":0}]
[null,"PI",{"$f":"COUNTIF(C10,\"=PI\")","v":0},null,"Date de naissance",{"$f":"$C$6","v":"00:00:00"}]
[null,"Anciens militaires et assimilés",{"$f":"COUNTIF(C15,\"=Anciens militaires et assimilés\")","v":0},null,"Sexe",{"$f":"$C$7","v":"00:00:00"}]
[null,"Veuves de guerre",{"$f":"COUNTIF(C10,\"=Veuves de guerre\")","v":0},null,"Reconnaissance administrative du handicap",{"$f":"$C$10","v":0}]
[null,"Orphelins de guerre",{"$f":"COUNTIF(C10,\"=Orphelins de guerre\")","v":0},null,"Justificatif ",{"$f":"$C$11","v":0}]
[null,"Allocation d'invalidité des sapeurs-pompiers",{"$f":"COUNTIF(C10,\"=Allocation d'invalidité des sapeurs-pompiers\")","v":0},null,"Date d'échéance de la RQTH",{"$f":"$C$15","v":"00:00:00"}]
[null,"CI",{"$f":"COUNTIF(C10,\"=CI\")","v":0},null,"Date de passage en CMD/CDR",{"$f":"$C$18","v":"00:00:00"}]
[null,"AAH",{"$f":"COUNTIF(C10,\"=AAH\")","v":0},null,"Métier",{"$f":"$F$4","v":0}]
[null,"Reclassement/inaptitude",{"$f":"COUNTIF(C10,\"=Reclassement/inaptitude\")","v":0},null,"UF d'affectation principale",{"$f":"$F$5","v":0}]
[null,null,null,null,"Date de la dernière affectation",{"$f":"$F$6","v":"00:00:00"}]
[null,null,null,null,"Aide du FIPHFP 1",{"$f":"$E$10","v":0}]
[null,null,null,null,"Aide du FIPHFP 2",{"$f":"$E$11","v":0}]
[null,null,null,null,"Aide du FIPHFP 3",{"$f":"$E$12","v":0}]
[null,null,null,null,"Date de sortie de l'établissement",{"$f":"$F$7","v":0}]

{"sheet":"Notice","index":2,"n_rows":53,"n_cols":3,"rows_kept":53,"cut":false,"hidden":false,"merged":[[5,0,5,1],[17,0,17,1],[0,0,0,2]]}
["Notice d'utilisation"]
[]
[]
[]
[]
["Liste des reconnaissances administratives du handicap BOE",null,"Pièces justificatives"]
["RQTH","Reconnaissance de la qualité de travailleur handicapé","Copie de l'avis de la MDPH"]
["AT/MP avec IP>10%","Les victimes d'accidents du travail ou de maladies professionnelles ayant entraîné une incapacité permanente au moins égale à 10% et titulaires d'une rente attribuée au titre du régime général de sécurité sociale ou de tout autre régime de protection sociale obligatoire","Copie de l'attestion AT/MP"]
["PI","Les titulaires d'une pension d'invalidité attribuée au titre du régime général de sécurité sociale, de tout autre régime de protection sociale obligatoire ou au titre des dispositions régissant les agents publics à condition que l'invalidité des intéressés réduise au moins des deux tiers leur capacité de travail ou de gain","Copie de la pension d'invalidité"]
["Anciens militaires et assimilés","Les anciens militaires et assimilés, titulaires d'une pension militaire d'invalidité au titre du code des pensions militaires d'invalidité et des victimes de la guerre"]
["Veuves de guerre","Selon les conditions prévues par l'article L323-3 du code du travail"]
["Orphelins de guerre","les orphelins de guerre âgés de moins de 21 ans et les mères veuves non remariées ou les mères célibataires, dont respectivement le père ou l'enfant, militaire ou assimilé, est décédé des suites d'une blessure ou d'une maladie imputable à un service de guerre ou alors qu'il était en possession d'un droit à pension d'invalidité d'un taux au moins égal à 85%"]
["Allocation d'invalidité des sapeurs-pompiers","les titulaires d'une allocation ou d'une rente d'invalidité attribuée dans les conditions définies par la loi n° 91-1389 du 31 décembre 1991 modifiée relative à la protection sociale des sapeurs-pompiers volontaires en cas d'accident survenu ou de maladie contractée en service"]
["CI","les titulaires de la carte d'invalidité définie à l'article L.241-3 du code de l'action sociale et des familles","Copie de la carte d'invalidité (avec le taux d'incapacité)"]
["AAH","Les titulaires de l'allocation aux adultes handicapés","Copie de l'attestation du statut d'allocataire de l'AAH"]
["Reclassement/inaptitude","Les agents reclassés ou déclarés inaptes suite au passage en Comité Médical Départemental ou en Commission de Réforme","L'avis favorable du comité médical ou de la CR, la note de service des ressources humaines et l'avis de la commission administrative paritaire."]
[]
["Liste des aides du FIPHFP mobilisables"]
[1,"1. Prothèse auditive"]
[2,"2. Autre prothèse et orthèse"]
[3,"3. Fauteuil roulant"]
[4,"4. Chèque emploi service, chèque vacances"]
[5,"5. Auide au déménagement"]
[6,"6. Transport adapté domicile/travail"]
[7,"7. Transport adapté dans le cadre des activités professionnelles"]
[8,"8. Aménagement du véhicule personnel"]
[9,"9. Accessibilité au poste de travail"]
[10,"10. Etude relative à la politique handicap"]
[11,"11. Abonnement plateforme milieu protégé"]
[12,"12. Accompagnement socio-pédagogique"]
[13,"13. Indémnité d'apprentissage"]
[14,"14. Aide financière pour l'apprenti"]
[15,"15. Prime d'insertion (apprentissage)"]
[16,"16. Prime d'insertion (CUI-CAE, Emploi d'avenir)"]
[17,"17. Indemnité de stage"]
[18,"18. Etude ergonomique de poste et analyse de la situation de travail"]
[19,"19. Aménagement de l'environnement de travail"]
[20,"20. Télétravail"]
[21,"21. Auxiliaire dans le cadre des actes du quotidiens dans la vie professionnelle"]
[22,"22. Auxiliaire dans le cadre des activité professionnelles"]
[23,"23. Tutorat"]
[24,"24. Interprète en langue des signes, codeur, transcripteur"]
[25,"25. Dispositif d'accompagnement pour l'emploi des personnes en situation de handicap psychique"]
[26,"26. Sensibilisation et formation à l'accessibilité numérique"]
[27,"27. Diagnostic d'accessibilité des sites et applicatifs internet ou à usage de handicap psychique"]
[28,"28. Mise en accessibilité des sites et applicatifs internet ou à usage strictement interne"]
[29,"29. Bilan de compétence et bilan professionnel"]
[30,"30. Formation destinée à compenser le handicap"]
[31,"31. Formation dans le cadre d'un reclassement ou d'une reconversion professionnelle pour raison de santé"]
[32,"32. Surcoput des actions de formation"]
[33,"33. Communication, information et sensibilisation des collaborateurs"]
[34,"34. Formation des collaborateurs en charge de l'accompagnement des personnes en situation de handicao"]
[35,"35. Formation à la fonction de tuteur"]

{"sheet":"RECAP","index":3,"n_rows":6998,"n_cols":18,"rows_kept":4500,"cut":true,"hidden":false,"merged":[],"bounds":{"rows_first":2000,"rows_last":500,"rows_between":2000,"halvings":0}}
[null,null,null,{"$f":"AVERAGEIF(E5:E6338,\"<100\")","v":{"$error":"#DIV/0!"}},null,{"$f":"COUNTIF(F3:F6663,\"Femme\")","v":0},{"$f":"COUNTIF(F3:F6663,\"Homme\")","v":0}]
[null,"Nom","Prénom","Date de naissance","Age","Sexe","Reconnaissance administrative du handicap","Justificatif ","Date d'échéance de la RQTH","Date de passage en CMD/CDR","Métier","UF d'affectation principale","Date de la dernière affectation","Aide du FIPHFP 1","Aide du FIPHFP 2","Aide du FIPHFP 3","Date de sortie de l'établissement"]
["SYNTHESE",{"$f":"IF(ISERROR(INDIRECT($A3&\"!F21\")),\"\",(INDIRECT($A3&\"!F21\")))","v":0},{"$f":"IF(ISERROR(INDIRECT($A3&\"!F22\")),\"\",(INDIRECT($A3&\"!F22\")))","v":0},{"$f":"IF((INDIRECT($A3&\"!F23\")=\"\"),\"\",INDIRECT($A3&\"!F23\"))","v":""},{"$f":"IF(D3<>\"\",DATEDIF(D3,TODAY(),\"y\"),\"\")","v":""},{"$f":"IF(ISERROR(INDIRECT($A3&\"!F24\")),\"\",(INDIRECT($A3&\"!F24\")))","v":0},{"$f":"IF(ISERROR(INDIRECT($A3&\"!F25\")),\"\",(INDIRECT($A3&\"!F25\")))","v":0},{"$f":"IF(ISERROR(INDIRECT($A3&\"!F26\")),\"\",(INDIRECT($A3&\"!F26\")))","v":0},{"$f":"IF((INDIRECT($A3&\"!F27\")=\"\"),\"\",INDIRECT($A3&\"!F27\"))","v":""},{"$f":"IF(ISERROR(INDIRECT($A3&\"!F28\")),\"\",(INDIRECT($A3&\"!F28\")))","v":"00:00:00"},{"$f":"IF(ISERROR(INDIRECT($A3&\"!F29\")),\"\",(INDIRECT($A3&\"!F29\")))","v":0},{"$f":"IF(ISERROR(INDIRECT($A3&\"!F30\")),\"\",(INDIRECT($A3&\"!F30\")))","v":0},{"$f":"IF(ISERROR(INDIRECT($A3&\"!F31\")),\"\",(INDIRECT($A3&\"!F31\")))","v":"00:00:00"},{"$f":"IF(ISERROR(INDIRECT($A3&\"!F32\")),\"\",(INDIRECT($A3&\"!F32\")))","v":0},{"$f":"IF(ISERROR(INDIRECT($A3&\"!F33\")),\"\",(INDIRECT($A3&\"!F33\")))","v":0},{"$f":"IF(ISERROR(INDIRECT($A3&\"!F34\")),\"\",(INDIRECT($A3&\"!F34\")))","v":0},{"$f":"IF(ISERROR(INDIRECT($A3&\"!F35\")),\"\",(INDIRECT($A3&\"!F35\")))","v":"00:00:00"}]
["Nouveau",0,0,{"$f":"IF((INDIRECT($A4&\"!F23\")=\"\"),\"\",INDIRECT($A4&\"!F23\"))","v":"00:00:00"},117,0,{"$f":"IF(ISERROR(INDIRECT($A4&\"!F25\")),\"\",(INDIRECT($A4&\"!F25\")))","v":0},0,{"$f":"IF((INDIRECT($A4&\"!F27\")=\"\"),\"\",INDIRECT($A4&\"!F27\"))","v":"00:00:00"},"00:00:00",0,0,"00:00:00",0,0,0,"00:00:00"]
["Notice",0,0,{"$f":"IF((INDIRECT($A5&\"!F23\")=\"\"),\"\",INDIRECT($A5&\"!F23\"))","v":""},"",{"$f":"IF(ISERROR(INDIRECT($A5&\"!F24\")),\"\",(INDIRECT($A5&\"!F24\")))","v":0},{"$f":"IF(ISERROR(INDIRECT($A5&\"!F25\")),\"\",(INDIRECT($A5&\"!F25\")))","v":0},{"$f":"IF(ISERROR(INDIRECT($A5&\"!F26\")),\"\",(INDIRECT($A5&\"!F26\")))","v":0},{"$f":"IF((INDIRECT($A5&\"!F27\")=\"\"),\"\",INDIRECT($A5&\"!F27\"))","v":""},{"$f":"IF(ISERROR(INDIRECT($A5&\"!F28\")),\"\",(INDIRECT($A5&\"!F28\")))","v":"00:00:00"},{"$f":"IF(ISERROR(INDIRECT($A5&\"!F29\")),\"\",(INDIRECT($A5&\"!F29\")))","v":0},{"$f":"IF(ISERROR(INDIRECT($A5&\"!F30\")),\"\",(INDIRECT($A5&\"!F30\")))","v":0},{"$f":"IF(ISERROR(INDIRECT($A5&\"!F31\")),\"\",(INDIRECT($A5&\"!F31\")))","v":"00:00:00"},{"$f":"IF(ISERROR(INDIRECT($A5&\"!F32\")),\"\",(INDIRECT($A5&\"!F32\")))","v":0},{"$f":"IF(ISERROR(INDIRECT($A5&\"!F33\")),\"\",(INDIRECT($A5&\"!F33\")))","v":0},{"$f":"IF(ISERROR(INDIRECT($A5&\"!F34\")),\"\",(INDIRECT($A5&\"!F34\")))","v":0},{"$f":"IF(ISERROR(INDIRECT($A5&\"!F35\")),\"\",(INDIRECT($A5&\"!F35\")))","v":"00:00:00"}]
["RECAP","","",{"$f":"IF((INDIRECT($A6&\"!F23\")=\"\"),\"\",INDIRECT($A6&\"!F23\"))","v":""},"","",{"$f":"IF(ISERROR(INDIRECT($A6&\"!F25\")),\"\",(INDIRECT($A6&\"!F25\")))","v":""},"","","","","","","","","",""]
[null,"","",{"$f":"IF(ISERROR(INDIRECT($A7&\"!F23\")),\"\",(INDIRECT($A7&\"!F23\")))","v":""},"","","","",{"$f":"IF(ISERROR(INDIRECT($A7&\"!F27\")),\"\",(INDIRECT($A7&\"!F27\")))","v":""},"","","","","","","",""]
[null,"","","","","","","","","","","","","","","",""]
[null,"","","","","","","","","","","","","","","",""]
[null,"","","","","","","","","","","","","","","",""]
[null,"","","","","","","","","","","","","","","",""]
[null,"","","","","","","","","","","","","","","",""]
[null,"","","","","","","","","","","","","","","",""]
[null,"","","","","","","","","","","","","","","",""]
[null,"","","","","","","","","","","","","","","",""]
[null,"","","","","","","","","","","","","","","",""]
[null,"","","","","","","","","","","","","","","",""]
[null,"","","","","","","","","","","","","","","",""]
[null,"","","","","","","","","","","","","","","",""]
[null,"","","","","","","","","","","","","","","",""]
[null,"","","","","","","","","","","","","","","",""]
[null,"","","","","","","","","","","","","","","",""]
[null,"","","","","","","","","","","","","","","",""]
[null,"","","","","","","","","","","","","","","",""]
[null,"","","","","","","","","","","","","","","",""]
[null,"","","","","","","","","","","","","","","",""]
[null,"","","","","","","","","","","","","","","",""]
[null,"","","","","","","","","","","","","","","",""]
[null,"","","","","","","","","","","","","","","",""]
[null,"","","","","","","","","","","","","","","",""]
[null,"","","","","","","","","","","","","","","",""]
[null,"","","","","","","","","","","","","","","",""]
[null,"","","","","","","","","","","","","","","",""]
[null,"","","","","","","","","","","","","","","",""]
[null,"","","","","","","","","","","","","","","",""]
[null,"","","","","","","","","","","","","","","",""]
[null,"","","","","","","","","","","","","","","",""]
[null,"","","","","","","","","","","","","","","",""]
[null,"","","","","","","","","","","","","","","",""]
[null,"","","","","","","","","","","","","","","",""]
[null,"","","","","","","","","","","","","","","",""]
[null,"","","","","","","","","","","","","","","",""]
[null,"","","","","","","","","","","","","","","",""]
[null,"","","","","","","","","","","","","","","",""]
[null,"","","","","","","","","","","","","","","",""]
[null,"","","","","","","","","","","","","","","",""]
[null,"","","","","","","","","","","","","","","",""]
[null,"","","","","","","","","","","","","","","",""]
[null,"","","","","","","","","","","","","","","",""]
[null,"","","","","","","","","","","","","","","",""]
[null,"","","","","","","","","","","","","","","",""]
[null,"","","","","","","","","","","","","","","",""]
[null,"","","","","","","","","","","","","","","",""]
[null,"","","","","","","","","","","","","","","",""]
[null,"","","","","","","","","","","","","","","",""]
[null,"","","","","","","","","","","","","","","",""]
[null,"","","","","","","","","","","","","","","",""]
[null,"","","","","","","","","","","","","","","",""]
[null,"","","","","","","","","","","","","","","",""]
[null,"","","","","","","","","","","","","","","",""]
[null,"","","","","","","","","","","","","","","",""]
[null,"","","","","","","","","","","","","","","",""]
[null,"","","","","","","","","","","","","","","",""]
[null,{"$f":"IF(ISERROR(INDIRECT($A64&\"!F21\")),\"\",(INDIRECT($A64&\"!F21\")))","v":""},{"$f":"IF(ISERROR(INDIRECT($A64&\"!F22\")),\"\",(INDIRECT($A64&\"!F22\")))","v":""},{"$f":"IF(ISERROR(INDIRECT($A64&\"!F23\")),\"\",(INDIRECT($A64&\"!F23\")))","v":""},"",{"$f":"IF(ISERROR(INDIRECT($A64&\"!F24\")),\"\",(INDIRECT($A64&\"!F24\")))","v":""},{"$f":"IF(ISERROR(INDIRECT($A64&\"!F25\")),\"\",(INDIRECT($A64&\"!F25\")))","v":""},{"$f":"IF(ISERROR(INDIRECT($A64&\"!F26\")),\"\",(INDIRECT($A64&\"!F26\")))","v":""},{"$f":"IF(ISERROR(INDIRECT($A64&\"!F27\")),\"\",(INDIRECT($A64&\"!F27\")))","v":""},{"$f":"IF(ISERROR(INDIRECT($A64&\"!F28\")),\"\",(INDIRECT($A64&\"!F28\")))","v":""},{"$f":"IF(ISERROR(INDIRECT($A64&\"!F29\")),\"\",(INDIRECT($A64&\"!F29\")))","v":""},{"$f":"IF(ISERROR(INDIRECT($A64&\"!F30\")),\"\",(INDIRECT($A64&\"!F30\")))","v":""},{"$f":"IF(ISERROR(INDIRECT($A64&\"!F31\")),\"\",(INDIRECT($A64&\"!F31\")))","v":""},{"$f":"IF(ISERROR(INDIRECT($A64&\"!F32\")),\"\",(INDIRECT($A64&\"!F32\")))","v":""},{"$f":"IF(ISERROR(INDIRECT($A64&\"!F33\")),\"\",(INDIRECT($A64&\"!F33\")))","v":""},{"$f":"IF(ISERROR(INDIRECT($A64&\"!F34\")),\"\",(INDIRECT($A64&\"!F34\")))","v":""},{"$f":"IF(ISERROR(INDIRECT($A64&\"!F35\")),\"\",(INDIRECT($A64&\"!F35\")))","v":""}]
[null,"","","","","","","","","","","","","","","",""]
[null,"","","",{"$f":"IF(D66<>\"\",DATEDIF(D66,TODAY(),\"y\"),\"\")","v":""},"","","","","","","","","","","",""]
[null,"","","","","","","","","","","","","","","",""]
[null,"","","","","","","","","","","","","","","",""]
[null,"","","","","","","","","","","","","","","",""]
[null,"","","","","","","","","","","","","","","",""]
[null,"","","","","","","","","","","","","","","",""]
[null,"","","","","","","","","","","","","","","",""]
[null,"","","","","","","","","","","","","","","",""]
[null,"","","","","","","","","","","","","","","",""]
[null,"","","","","","","","","","","","","","","",""]
[null,"","","","","","","","","","","","","","","",""]
[null,"","","","","","","","","","","","","","","",""]
[null,"","","","","","","","","","","","","","","",""]
[null,"","","","","","","","","","","","","","","",""]
[null,"","","","","","","","","","","","","","","",""]
[null,"","","","","","","","","","","","","","","",""]
[null,"","","","","","","","","","","","","","","",""]
[null,"","","","","","","","","","","","","","","",""]
[null,"","","","","","","","","","","","","","","",""]
[null,"","","","","","","","","","","","","","","",""]
[null,"","","","","","","","","","","","","","","",""]
[null,"","","","","","","","","","","","","","","",""]
[null,"","","","","","","","","","","","","","","",""]
[null,"","","","","","","","","","","","","","","",""]
[null,"","","","","","","","","","","","","","","",""]
[null,"","","","","","","","","","","","","","","",""]
[null,"","","","","","","","","","","","","","","",""]
[null,"","","","","","","","","","","","","","","",""]
[null,"","","","","","","","","","","","","","","",""]
[null,"","","","","","","","","","","","","","","",""]
[null,"","","","","","","","","","","","","","","",""]
[null,"","","","","","","","","","","","","","","",""]
[null,"","","","","","","","","","","","","","","",""]
[null,"","","","","","","","","","","","","","","",""]
[null,"","","","","","","","","","","","","","","",""]
[null,"","","","","","","","","","","","","","","",""]
[null,"","","","","","","","","","","","","","","",""]
[null,"","","","","","","","","","","","","","","",""]
[null,"","","","","","","","","","","","","","","",""]
[null,"","","","","","","","","","","","","","","",""]
[null,"","","","","","","","","","","","","","","",""]
[null,"","","","","","","","","","","","","","","",""]
[null,"","","","","","","","","","","","","","","",""]
[null,"","","","","","","","","","","","","","","",""]
[null,"","","","","","","","","","","","","","","",""]
[null,"","","","","","","","","","","","","","","",""]
[null,"","","","","","","","","","","","","","","",""]
[null,"","","","","","","","","","","","","","","",""]
[null,"","","","","","","","","","","","","","","",""]
[null,"","","","","","","","","","","","","","","",""]
[null,"","","","","","","","","","","","","","","",""]
[null,"","","","","","","","","","","","","","","",""]
[null,"","","","","","","","","","","","","","","",""]
[null,"","","","","","","","","","","","","","","",""]
[null,"","","","","","","","","","","","","","","",""]
[null,"","","","","","","","","","","","","","","",""]
[null,"","","","","","","","","","","","","","","",""]
[null,"","","","","","","","","","","","","","","",""]
[null,"","","","","","","","","","","","","","","",""]
[null,"","","","","","","","","","","","","","","",""]
[null,"","","","","","","","","","","","","","","",""]
[null,"","","","","","","","","","","","","","","",""]
[null,{"$f":"IF(ISERROR(INDIRECT($A128&\"!F21\")),\"\",(INDIRECT($A128&\"!F21\")))","v":""},{"$f":"IF(ISERROR(INDIRECT($A128&\"!F22\")),\"\",(INDIRECT($A128&\"!F22\")))","v":""},{"$f":"IF(ISERROR(INDIRECT($A128&\"!F23\")),\"\",(INDIRECT($A128&\"!F23\")))","v":""},"",{"$f":"IF(ISERROR(INDIRECT($A128&\"!F24\")),\"\",(INDIRECT($A128&\"!F24\")))","v":""},{"$f":"IF(ISERROR(INDIRECT($A128&\"!F25\")),\"\",(INDIRECT($A128&\"!F25\")))","v":""},{"$f":"IF(ISERROR(INDIRECT($A128&\"!F26\")),\"\",(INDIRECT($A128&\"!F26\")))","v":""},{"$f":"IF(ISERROR(INDIRECT($A128&\"!F27\")),\"\",(INDIRECT($A128&\"!F27\")))","v":""},{"$f":"IF(ISERROR(INDIRECT($A128&\"!F28\")),\"\",(INDIRECT($A128&\"!F28\")))","v":""},{"$f":"IF(ISERROR(INDIRECT($A128&\"!F29\")),\"\",(INDIRECT($A128&\"!F29\")))","v":""},{"$f":"IF(ISERROR(INDIRECT($A128&\"!F30\")),\"\",(INDIRECT($A128&\"!F30\")))","v":""},{"$f":"IF(ISERROR(INDIRECT($A128&\"!F31\")),\"\",(INDIRECT($A128&\"!F31\")))","v":""},{"$f":"IF(ISERROR(INDIRECT($A128&\"!F32\")),\"\",(INDIRECT($A128&\"!F32\")))","v":""},{"$f":"IF(ISERROR(INDIRECT($A128&\"!F33\")),\"\",(INDIRECT($A128&\"!F33\")))","v":""},{"$f":"IF(ISERROR(INDIRECT($A128&\"!F34\")),\"\",(INDIRECT($A128&\"!F34\")))","v":""},{"$f":"IF(ISERROR(INDIRECT($A128&\"!F35\")),\"\",(INDIRECT($A128&\"!F35\")))","v":""}]
[null,"","","","","","","","","","","","","","","",""]
[null,"","","",{"$f":"IF(D130<>\"\",DATEDIF(D130,TODAY(),\"y\"),\"\")","v":""},"","","","","","","","","","","",""]
[null,"","","","","","","","","","","","","","","",""]
[null,"","","","","","","","","","","","","","","",""]
[null,"","","","","","","","","","","","","","","",""]
[null,"","","","","","","","","","","","","","","",""]
[null,"","","","","","","","","","","","","","","",""]
[null,"","","","","","","","","","","","","","","",""]
[null,"","","","","","","","","","","","","","","",""]
[null,"","","","","","","","","","","","","","","",""]
[null,"","","","","","","","","","","","","","","",""]
[null,"","","","","","","","","","","","","","","",""]
[null,"","","","","","","","","","","","","","","",""]
[null,"","","","","","","","","","","","","","","",""]
[null,"","","","","","","","","","","","","","","",""]
[null,"","","","","","","","","","","","","","","",""]
[null,"","","","","","","","","","","","","","","",""]
[null,"","","","","","","","","","","","","","","",""]
[null,"","","","","","","","","","","","","","","",""]
[null,"","","","","","","","","","","","","","","",""]
[null,"","","","","","","","","","","","","","","",""]
[null,"","","","","","","","","","","","","","","",""]
[null,"","","","","","","","","","","","","","","",""]
[null,"","","","","","","","","","","","","","","",""]
[null,"","","","","","","","","","","","","","","",""]
[null,"","","","","","","","","","","","","","","",""]
[null,"","","","","","","","","","","","","","","",""]
[null,"","","","","","","","","","","","","","","",""]
[null,"","","","","","","","","","","","","","","",""]
[null,"","","","","","","","","","","","","","","",""]
[null,"","","","","","","","","","","","","","","",""]
[null,"","","","","","","","","","","","","","","",""]
[null,"","","","","","","","","","","","","","","",""]
[null,"","","","","","","","","","","","","","","",""]
[null,"","","","","","","","","","","","","","","",""]
[null,"","","","","","","","","","","","","","","",""]
[null,"","","","","","","","","","","","","","","",""]
[null,"","","","","","","","","","","","","","","",""]
[null,"","","","","","","","","","","","","","","",""]
[null,"","","","","","","","","","","","","","","",""]
[null,"","","","","","","","","","","","","","","",""]
[null,"","","","","","","","","","","","","","","",""]
[null,"","","","","","","","","","","","","","","",""]
[null,"","","","","","","","","","","","","","","",""]
[null,"","","","","","","","","","","","","","","",""]
[null,"","","","","","","","","","","","","","","",""]
[null,"","","","","","","","","","","","","","","",""]
[null,"","","","","","","","","","","","","","","",""]
[null,"","","","","","","","","","","","","","","",""]
[null,"","","","","","","","","","","","","","","",""]
[null,"","","","","","","","","","","","","","","",""]
[null,"","","","","","","","","","","","","","","",""]
[null,"","","","","","","","","","","","","","","",""]
[null,"","","","","","","","","","","","","","","",""]
[null,"","","","","","","","","","","","","","","",""]
[null,"","","","","","","","","","","","","","","",""]
[null,"","","","","","","","","","","","","","","",""]
[null,"","","","","","","","","","","","","","","",""]
[null,"","","","","","","","","","","","","","","",""]
[null,"","","","","","","","","","","","","","","",""]
[null,"","","","","","","","","","","","","","","",""]
[null,"","","","","","","","","","","","","","","",""]
[null,"","","","","","","","","","","","","","","",""]
[null,{"$f":"IF(ISERROR(INDIRECT($A192&\"!F21\")),\"\",(INDIRECT($A192&\"!F21\")))","v":""},{"$f":"IF(ISERROR(INDIRECT($A192&\"!F22\")),\"\",(INDIRECT($A192&\"!F22\")))","v":""},{"$f":"IF(ISERROR(INDIRECT($A192&\"!F23\")),\"\",(INDIRECT($A192&\"!F23\")))","v":""},"",{"$f":"IF(ISERROR(INDIRECT($A192&\"!F24\")),\"\",(INDIRECT($A192&\"!F24\")))","v":""},{"$f":"IF(ISERROR(INDIRECT($A192&\"!F25\")),\"\",(INDIRECT($A192&\"!F25\")))","v":""},{"$f":"IF(ISERROR(INDIRECT($A192&\"!F26\")),\"\",(INDIRECT($A192&\"!F26\")))","v":""},{"$f":"IF(ISERROR(INDIRECT($A192&\"!F27\")),\"\",(INDIRECT($A192&\"!F27\")))","v":""},{"$f":"IF(ISERROR(INDIRECT($A192&\"!F28\")),\"\",(INDIRECT($A192&\"!F28\")))","v":""},{"$f":"IF(ISERROR(INDIRECT($A192&\"!F29\")),\"\",(INDIRECT($A192&\"!F29\")))","v":""},{"$f":"IF(ISERROR(INDIRECT($A192&\"!F30\")),\"\",(INDIRECT($A192&\"!F30\")))","v":""},{"$f":"IF(ISERROR(INDIRECT($A192&\"!F31\")),\"\",(INDIRECT($A192&\"!F31\")))","v":""},{"$f":"IF(ISERROR(INDIRECT($A192&\"!F32\")),\"\",(INDIRECT($A192&\"!F32\")))","v":""},{"$f":"IF(ISERROR(INDIRECT($A192&\"!F33\")),\"\",(INDIRECT($A192&\"!F33\")))","v":""},{"$f":"IF(ISERROR(INDIRECT($A192&\"!F34\")),\"\",(INDIRECT($A192&\"!F34\")))","v":""},{"$f":"IF(ISERROR(INDIRECT($A192&\"!F35\")),\"\",(INDIRECT($A192&\"!F35\")))","v":""}]
[null,"","","","","","","","","","","","","","","",""]
[null,"","","",{"$f":"IF(D194<>\"\",DATEDIF(D194,TODAY(),\"y\"),\"\")","v":""},"","","","","","","","","","","",""]
[null,"","","","","","","","","","","","","","","",""]
[null,"","","","","","","","","","","","","","","",""]
[null,"","","","","","","","","","","","","","","",""]
[null,"","","","","","","","","","","","","","","",""]
[null,"","","","","","","","","","","","","","","",""]
[null,"","","","","","","","","","","","","","","",""]
[null,"","","","","","","","","","","","","","","",""]
[null,"","","","","","","","","","","","","","","",""]
[null,"","","","","","","","","","","","","","","",""]
[null,"","","","","","","","","","","","","","","",""]
[null,"","","","","","","","","","","","","","","",""]
[null,"","","","","","","","","","","","","","","",""]
[null,"","","","","","","","","","","","","","","",""]
[null,"","","","","","","","","","","","","","","",""]
[null,"","","","","","","","","","","","","","","",""]
[null,"","","","","","","","","","","","","","","",""]
[null,"","","","","","","","","","","","","","","",""]
[null,"","","","","","","","","","","","","","","",""]
[null,"","","","","","","","","","","","","","","",""]
[null,"","","","","","","","","","","","","","","",""]
[null,"","","","","","","","","","","","","","","",""]
[null,"","","","","","","","","","","","","","","",""]
[null,"","","","","","","","","","","","","","","",""]
[null,"","","","","","","","","","","","","","","",""]
[null,"","","","","","","","","","","","","","","",""]
[null,"","","","","","","","","","","","","","","",""]
[null,"","","","","","","","","","","","","","","",""]
[null,"","","","","","","","","","","","","","","",""]
[null,"","","","","","","","","","","","","","","",""]
[null,"","","","","","","","","","","","","","","",""]
[null,"","","","","","","","","","","","","","","",""]
[null,"","","","","","","","","","","","","","","",""]
[null,"","","","","","","","","","","","","","","",""]
[null,"","","","","","","","","","","","","","","",""]
[null,"","","","","","","","","","","","","","","",""]
[null,"","","","","","","","","","","","","","","",""]
[null,"","","","","","","","","","","","","","","",""]
[null,"","","","","","","","","","","","","","","",""]
[null,"","","","","","","","","","","","","","","",""]
[null,"","","","","","","","","","","","","","","",""]
[null,"","","","","","","","","","","","","","","",""]
[null,"","","","","","","","","","","","","","","",""]
[null,"","","","","","","","","","","","","","","",""]
[null,"","","","","","","","","","","","","","","",""]
[null,"","","","","","","","","","","","","","","",""]
[null,"","","","","","","","","","","","","","","",""]
[null,"","","","","","","","","","","","","","","",""]
[null,"","","","","","","","","","","","","","","",""]
[null,"","","","","","","","","","","","","","","",""]
[null,"","","","","","","","","","","","","","","",""]
[null,"","","","","","","","","","","","","","","",""]
[null,"","","","","","","","","","","","","","","",""]
[null,"","","","","","","","","","","","","","","",""]
[null,"","","","","","","","","","","","","","","",""]
[null,"","","","","","","","","","","","","","","",""]
[null,"","","","","","","","","","","","","","","",""]
[null,"","","","","","","","","","","","","","","",""]
[null,"","","","","","","","","","","","","","","",""]
[null,"","","","","","","","","","","","","","","",""]
[null,"","","","","","","","","","","","","","","",""]
[null,"","","","","","","","","","","","","","","",""]
[null,{"$f":"IF(ISERROR(INDIRECT($A256&\"!F21\")),\"\",(INDIRECT($A256&\"!F21\")))","v":""},{"$f":"IF(ISERROR(INDIRECT($A256&\"!F22\")),\"\",(INDIRECT($A256&\"!F22\")))","v":""},{"$f":"IF(ISERROR(INDIRECT($A256&\"!F23\")),\"\",(INDIRECT($A256&\"!F23\")))","v":""},"",{"$f":"IF(ISERROR(INDIRECT($A256&\"!F24\")),\"\",(INDIRECT($A256&\"!F24\")))","v":""},{"$f":"IF(ISERROR(INDIRECT($A256&\"!F25\")),\"\",(INDIRECT($A256&\"!F25\")))","v":""},{"$f":"IF(ISERROR(INDIRECT($A256&\"!F26\")),\"\",(INDIRECT($A256&\"!F26\")))","v":""},{"$f":"IF(ISERROR(INDIRECT($A256&\"!F27\")),\"\",(INDIRECT($A256&\"!F27\")))","v":""},{"$f":"IF(ISERROR(INDIRECT($A256&\"!F28\")),\"\",(INDIRECT($A256&\"!F28\")))","v":""},{"$f":"IF(ISERROR(INDIRECT($A256&\"!F29\")),\"\",(INDIRECT($A256&\"!F29\")))","v":""},{"$f":"IF(ISERROR(INDIRECT($A256&\"!F30\")),\"\",(INDIRECT($A256&\"!F30\")))","v":""},{"$f":"IF(ISERROR(INDIRECT($A256&\"!F31\")),\"\",(INDIRECT($A256&\"!F31\")))","v":""},{"$f":"IF(ISERROR(INDIRECT($A256&\"!F32\")),\"\",(INDIRECT($A256&\"!F32\")))","v":""},{"$f":"IF(ISERROR(INDIRECT($A256&\"!F33\")),\"\",(INDIRECT($A256&\"!F33\")))","v":""},{"$f":"IF(ISERROR(INDIRECT($A256&\"!F34\")),\"\",(INDIRECT($A256&\"!F34\")))","v":""},{"$f":"IF(ISERROR(INDIRECT($A256&\"!F35\")),\"\",(INDIRECT($A256&\"!F35\")))","v":""}]
[null,"","","","","","","","","","","","","","","",""]
[null,"","","",{"$f":"IF(D258<>\"\",DATEDIF(D258,TODAY(),\"y\"),\"\")","v":""},"","","","","","","","","","","",""]
[null,"","","","","","","","","","","","","","","",""]
[null,"","","","","","","","","","","","","","","",""]
[null,"","","","","","","","","","","","","","","",""]
[null,"","","","","","","","","","","","","","","",""]
[null,"","","","","","","","","","","","","","","",""]
[null,"","","","","","","","","","","","","","","",""]
[null,"","","","","","","","","","","","","","","",""]
[null,"","","","","","","","","","","","","","","",""]
[null,"","","","","","","","","","","","","","","",""]
[null,"","","","","","","","","","","","","","","",""]
[null,"","","","","","","","","","","","","","","",""]
[null,"","","","","","","","","","","","","","","",""]
[null,"","","","","","","","","","","","","","","",""]
[null,"","","","","","","","","","","","","","","",""]
[null,"","","","","","","","","","","","","","","",""]
[null,"","","","","","","","","","","","","","","",""]
[null,"","","","","","","","","","","","","","","",""]
[null,"","","","","","","","","","","","","","","",""]
[null,"","","","","","","","","","","","","","","",""]
[null,"","","","","","","","","","","","","","","",""]
[null,"","","","","","","","","","","","","","","",""]
[null,"","","","","","","","","","","","","","","",""]
[null,"","","","","","","","","","","","","","","",""]
[null,"","","","","","","","","","","","","","","",""]
[null,"","","","","","","","","","","","","","","",""]
[null,"","","","","","","","","","","","","","","",""]
[null,"","","","","","","","","","","","","","","",""]
[null,"","","","","","","","","","","","","","","",""]
[null,"","","","","","","","","","","","","","","",""]
[null,"","","","","","","","","","","","","","","",""]
[null,"","","","","","","","","","","","","","","",""]
[null,"","","","","","","","","","","","","","","",""]
[null,"","","","","","","","","","","","","","","",""]
[null,"","","","","","","","","","","","","","","",""]
[null,"","","","","","","","","","","","","","","",""]
[null,"","","","","","","","","","","","","","","",""]
[null,"","","","","","","","","","","","","","","",""]
[null,"","","","","","","","","","","","","","","",""]
[null,"","","","","","","","","","","","","","","",""]
[null,"","","","","","","","","","","","","","","",""]
[null,"","","","","","","","","","","","","","","",""]
[null,"","","","","","","","","","","","","","","",""]
[null,"","","","","","","","","","","","","","","",""]
[null,"","","","","","","","","","","","","","","",""]
[null,"","","","","","","","","","","","","","","",""]
[null,"","","","","","","","","","","","","","","",""]
[null,"","","","","","","","","","","","","","","",""]
[null,"","","","","","","","","","","","","","","",""]
[null,"","","","","","","","","","","","","","","",""]
[null,"","","","","","","","","","","","","","","",""]
[null,"","","","","","","","","","","","","","","",""]
[null,"","","","","","","","","","","","","","","",""]
[null,"","","","","","","","","","","","","","","",""]
[null,"","","","","","","","","","","","","","","",""]
[null,"","","","","","","","","","","","","","","",""]
[null,"","","","","","","","","","","","","","","",""]
[null,"","","","","","","","","","","","","","","",""]
[null,"","","","","","","","","","","","","","","",""]
[null,"","","","","","","","","","","","","","","",""]
[null,"","","","","","","","","","","","","","","",""]
[null,"","","","","","","","","","","","","","","",""]
[null,{"$f":"IF(ISERROR(INDIRECT($A320&\"!F21\")),\"\",(INDIRECT($A320&\"!F21\")))","v":""},{"$f":"IF(ISERROR(INDIRECT($A320&\"!F22\")),\"\",(INDIRECT($A320&\"!F22\")))","v":""},{"$f":"IF(ISERROR(INDIRECT($A320&\"!F23\")),\"\",(INDIRECT($A320&\"!F23\")))","v":""},"",{"$f":"IF(ISERROR(INDIRECT($A320&\"!F24\")),\"\",(INDIRECT($A320&\"!F24\")))","v":""},{"$f":"IF(ISERROR(INDIRECT($A320&\"!F25\")),\"\",(INDIRECT($A320&\"!F25\")))","v":""},{"$f":"IF(ISERROR(INDIRECT($A320&\"!F26\")),\"\",(INDIRECT($A320&\"!F26\")))","v":""},{"$f":"IF(ISERROR(INDIRECT($A320&\"!F27\")),\"\",(INDIRECT($A320&\"!F27\")))","v":""},{"$f":"IF(ISERROR(INDIRECT($A320&\"!F28\")),\"\",(INDIRECT($A320&\"!F28\")))","v":""},{"$f":"IF(ISERROR(INDIRECT($A320&\"!F29\")),\"\",(INDIRECT($A320&\"!F29\")))","v":""},{"$f":"IF(ISERROR(INDIRECT($A320&\"!F30\")),\"\",(INDIRECT($A320&\"!F30\")))","v":""},{"$f":"IF(ISERROR(INDIRECT($A320&\"!F31\")),\"\",(INDIRECT($A320&\"!F31\")))","v":""},{"$f":"IF(ISERROR(INDIRECT($A320&\"!F32\")),\"\",(INDIRECT($A320&\"!F32\")))","v":""},{"$f":"IF(ISERROR(INDIRECT($A320&\"!F33\")),\"\",(INDIRECT($A320&\"!F33\")))","v":""},{"$f":"IF(ISERROR(INDIRECT($A320&\"!F34\")),\"\",(INDIRECT($A320&\"!F34\")))","v":""},{"$f":"IF(ISERROR(INDIRECT($A320&\"!F35\")),\"\",(INDIRECT($A320&\"!F35\")))","v":""}]
[null,"","","","","","","","","","","","","","","",""]
[null,"","","",{"$f":"IF(D322<>\"\",DATEDIF(D322,TODAY(),\"y\"),\"\")","v":""},"","","","","","","","","","","",""]
[null,"","","","","","","","","","","","","","","",""]
[null,"","","","","","","","","","","","","","","",""]
[null,"","","","","","","","","","","","","","","",""]
[null,"","","","","","","","","","","","","","","",""]
[null,"","","","","","","","","","","","","","","",""]
[null,"","","","","","","","","","","","","","","",""]
[null,"","","","","","","","","","","","","","","",""]
[null,"","","","","","","","","","","","","","","",""]
[null,"","","","","","","","","","","","","","","",""]
[null,"","","","","","","","","","","","","","","",""]
[null,"","","","","","","","","","","","","","","",""]
[null,"","","","","","","","","","","","","","","",""]
[null,"","","","","","","","","","","","","","","",""]
[null,"","","","","","","","","","","","","","","",""]
[null,"","","","","","","","","","","","","","","",""]
[null,"","","","","","","","","","","","","","","",""]
[null,"","","","","","","","","","","","","","","",""]
[null,"","","","","","","","","","","","","","","",""]
[null,"","","","","","","","","","","","","","","",""]
[null,"","","","","","","","","","","","","","","",""]
[null,"","","","","","","","","","","","","","","",""]
[null,"","","","","","","","","","","","","","","",""]
[null,"","","","","","","","","","","","","","","",""]
[null,"","","","","","","","","","","","","","","",""]
[null,"","","","","","","","","","","","","","","",""]
[null,"","","","","","","","","","","","","","","",""]
[null,"","","","","","","","","","","","","","","",""]
[null,"","","","","","","","","","","","","","","",""]
[null,"","","","","","","","","","","","","","","",""]
[null,"","","","","","","","","","","","","","","",""]
[null,"","","","","","","","","","","","","","","",""]
[null,"","","","","","","","","","","","","","","",""]
[null,"","","","","","","","","","","","","","","",""]
[null,"","","","","","","","","","","","","","","",""]
[null,"","","","","","","","","","","","","","","",""]
[null,"","","","","","","","","","","","","","","",""]
[null,"","","","","","","","","","","","","","","",""]
[null,"","","","","","","","","","","","","","","",""]
[null,"","","","","","","","","","","","","","","",""]
[null,"","","","","","","","","","","","","","","",""]
[null,"","","","","","","","","","","","","","","",""]
[null,"","","","","","","","","","","","","","","",""]
[null,"","","","","","","","","","","","","","","",""]
[null,"","","","","","","","","","","","","","","",""]
[null,"","","","","","","","","","","","","","","",""]
[null,"","","","","","","","","","","","","","","",""]
[null,"","","","","","","","","","","","","","","",""]
[null,"","","","","","","","","","","","","","","",""]
[null,"","","","","","","","","","","","","","","",""]
[null,"","","","","","","","","","","","","","","",""]
[null,"","","","","","","","","","","","","","","",""]
[null,"","","","","","","","","","","","","","","",""]
[null,"","","","","","","","","","","","","","","",""]
[null,"","","","","","","","","","","","","","","",""]
[null,"","","","","","","","","","","","","","","",""]
[null,"","","","","","","","","","","","","","","",""]
[null,"","","","","","","","","","","","","","","",""]
[null,"","","","","","","","","","","","","","","",""]
[null,"","","","","","","","","","","","","","","",""]
[null,"","","","","","","","","","","","","","","",""]
[null,"","","","","","","","","","","","","","","",""]
[null,{"$f":"IF(ISERROR(INDIRECT($A384&\"!F21\")),\"\",(INDIRECT($A384&\"!F21\")))","v":""},{"$f":"IF(ISERROR(INDIRECT($A384&\"!F22\")),\"\",(INDIRECT($A384&\"!F22\")))","v":""},{"$f":"IF(ISERROR(INDIRECT($A384&\"!F23\")),\"\",(INDIRECT($A384&\"!F23\")))","v":""},"",{"$f":"IF(ISERROR(INDIRECT($A384&\"!F24\")),\"\",(INDIRECT($A384&\"!F24\")))","v":""},{"$f":"IF(ISERROR(INDIRECT($A384&\"!F25\")),\"\",(INDIRECT($A384&\"!F25\")))","v":""},{"$f":"IF(ISERROR(INDIRECT($A384&\"!F26\")),\"\",(INDIRECT($A384&\"!F26\")))","v":""},{"$f":"IF(ISERROR(INDIRECT($A384&\"!F27\")),\"\",(INDIRECT($A384&\"!F27\")))","v":""},{"$f":"IF(ISERROR(INDIRECT($A384&\"!F28\")),\"\",(INDIRECT($A384&\"!F28\")))","v":""},{"$f":"IF(ISERROR(INDIRECT($A384&\"!F29\")),\"\",(INDIRECT($A384&\"!F29\")))","v":""},{"$f":"IF(ISERROR(INDIRECT($A384&\"!F30\")),\"\",(INDIRECT($A384&\"!F30\")))","v":""},{"$f":"IF(ISERROR(INDIRECT($A384&\"!F31\")),\"\",(INDIRECT($A384&\"!F31\")))","v":""},{"$f":"IF(ISERROR(INDIRECT($A384&\"!F32\")),\"\",(INDIRECT($A384&\"!F32\")))","v":""},{"$f":"IF(ISERROR(INDIRECT($A384&\"!F33\")),\"\",(INDIRECT($A384&\"!F33\")))","v":""},{"$f":"IF(ISERROR(INDIRECT($A384&\"!F34\")),\"\",(INDIRECT($A384&\"!F34\")))","v":""},{"$f":"IF(ISERROR(INDIRECT($A384&\"!F35\")),\"\",(INDIRECT($A384&\"!F35\")))","v":""}]
[null,"","","","","","","","","","","","","","","",""]
[null,"","","",{"$f":"IF(D386<>\"\",DATEDIF(D386,TODAY(),\"y\"),\"\")","v":""},"","","","","","","","","","","",""]
[null,"","","","","","","","","","","","","","","",""]
[null,"","","","","","","","","","","","","","","",""]
[null,"","","","","","","","","","","","","","","",""]
[null,"","","","","","","","","","","","","","","",""]
[null,"","","","","","","","","","","","","","","",""]
[null,"","","","","","","","","","","","","","","",""]
[null,"","","","","","","","","","","","","","","",""]
[null,"","","","","","","","","","","","","","","",""]
[null,"","","","","","","","","","","","","","","",""]
[null,"","","","","","","","","","","","","","","",""]
[null,"","","","","","","","","","","","","","","",""]
[null,"","","","","","","","","","","","","","","",""]
[null,"","","","","","","","","","","","","","","",""]
[null,"","","","","","","","","","","","","","","",""]
[null,"","","","","","","","","","","","","","","",""]
[null,"","","","","","","","","","","","","","","",""]
[null,"","","","","","","","","","","","","","","",""]
[null,"","","","","","","","","","","","","","","",""]
[null,"","","","","","","","","","","","","","","",""]
[null,"","","","","","","","","","","","","","","",""]
[null,"","","","","","","","","","","","","","","",""]
[null,"","","","","","","","","","","","","","","",""]
[null,"","","","","","","","","","","","","","","",""]
[null,"","","","","","","","","","","","","","","",""]
[null,"","","","","","","","","","","","","","","",""]
[null,"","","","","","","","","","","","","","","",""]
[null,"","","","","","","","","","","","","","","",""]
[null,"","","","","","","","","","","","","","","",""]
[null,"","","","","","","","","","","","","","","",""]
[null,"","","","","","","","","","","","","","","",""]
[null,"","","","","","","","","","","","","","","",""]
[null,"","","","","","","","","","","","","","","",""]
[null,"","","","","","","","","","","","","","","",""]
[null,"","","","","","","","","","","","","","","",""]
[null,"","","","","","","","","","","","","","","",""]
[null,"","","","","","","","","","","","","","","",""]
[null,"","","","","","","","","","","","","","","",""]
[null,"","","","","","","","","","","","","","","",""]
[null,"","","","","","","","","","","","","","","",""]
[null,"","","","","","","","","","","","","","","",""]
[null,"","","","","","","","","","","","","","","",""]
[null,"","","","","","","","","","","","","","","",""]
[null,"","","","","","","","","","","","","","","",""]
[null,"","","","","","","","","","","","","","","",""]
[null,"","","","","","","","","","","","","","","",""]
[null,"","","","","","","","","","","","","","","",""]
[null,"","","","","","","","","","","","","","","",""]
[null,"","","","","","","","","","","","","","","",""]
[null,"","","","","","","","","","","","","","","",""]
[null,"","","","","","","","","","","","","","","",""]
[null,"","","","","","","","","","","","","","","",""]
[null,"","","","","","","","","","","","","","","",""]
[null,"","","","","","","","","","","","","","","",""]
[null,"","","","","","","","","","","","","","","",""]
[null,"","","","","","","","","","","","","","","",""]
[null,"","","","","","","","","","","","","","","",""]
[null,"","","","","","","","","","","","","","","",""]
[null,"","","","","","","","","","","","","","","",""]
[null,"","","","","","","","","","","","","","","",""]
[null,"","","","","","","","","","","","","","","",""]
[null,"","","","","","","","","","","","","","","",""]
[null,{"$f":"IF(ISERROR(INDIRECT($A448&\"!F21\")),\"\",(INDIRECT($A448&\"!F21\")))","v":""},{"$f":"IF(ISERROR(INDIRECT($A448&\"!F22\")),\"\",(INDIRECT($A448&\"!F22\")))","v":""},{"$f":"IF(ISERROR(INDIRECT($A448&\"!F23\")),\"\",(INDIRECT($A448&\"!F23\")))","v":""},"",{"$f":"IF(ISERROR(INDIRECT($A448&\"!F24\")),\"\",(INDIRECT($A448&\"!F24\")))","v":""},{"$f":"IF(ISERROR(INDIRECT($A448&\"!F25\")),\"\",(INDIRECT($A448&\"!F25\")))","v":""},{"$f":"IF(ISERROR(INDIRECT($A448&\"!F26\")),\"\",(INDIRECT($A448&\"!F26\")))","v":""},{"$f":"IF(ISERROR(INDIRECT($A448&\"!F27\")),\"\",(INDIRECT($A448&\"!F27\")))","v":""},{"$f":"IF(ISERROR(INDIRECT($A448&\"!F28\")),\"\",(INDIRECT($A448&\"!F28\")))","v":""},{"$f":"IF(ISERROR(INDIRECT($A448&\"!F29\")),\"\",(INDIRECT($A448&\"!F29\")))","v":""},{"$f":"IF(ISERROR(INDIRECT($A448&\"!F30\")),\"\",(INDIRECT($A448&\"!F30\")))","v":""},{"$f":"IF(ISERROR(INDIRECT($A448&\"!F31\")),\"\",(INDIRECT($A448&\"!F31\")))","v":""},{"$f":"IF(ISERROR(INDIRECT($A448&\"!F32\")),\"\",(INDIRECT($A448&\"!F32\")))","v":""},{"$f":"IF(ISERROR(INDIRECT($A448&\"!F33\")),\"\",(INDIRECT($A448&\"!F33\")))","v":""},{"$f":"IF(ISERROR(INDIRECT($A448&\"!F34\")),\"\",(INDIRECT($A448&\"!F34\")))","v":""},{"$f":"IF(ISERROR(INDIRECT($A448&\"!F35\")),\"\",(INDIRECT($A448&\"!F35\")))","v":""}]
[null,"","","","","","","","","","","","","","","",""]
[null,"","","",{"$f":"IF(D450<>\"\",DATEDIF(D450,TODAY(),\"y\"),\"\")","v":""},"","","","","","","","","","","",""]
[null,"","","","","","","","","","","","","","","",""]
[null,"","","","","","","","","","","","","","","",""]
[null,"","","","","","","","","","","","","","","",""]
[null,"","","","","","","","","","","","","","","",""]
[null,"","","","","","","","","","","","","","","",""]
[null,"","","","","","","","","","","","","","","",""]
[null,"","","","","","","","","","","","","","","",""]
[null,"","","","","","","","","","","","","","","",""]
[null,"","","","","","","","","","","","","","","",""]
[null,"","","","","","","","","","","","","","","",""]
[null,"","","","","","","","","","","","","","","",""]
[null,"","","","","","","","","","","","","","","",""]
[null,"","","","","","","","","","","","","","","",""]
[null,"","","","","","","","","","","","","","","",""]
[null,"","","","","","","","","","","","","","","",""]
[null,"","","","","","","","","","","","","","","",""]
[null,"","","","","","","","","","","","","","","",""]
[null,"","","","","","","","","","","","","","","",""]
[null,"","","","","","","","","","","","","","","",""]
[null,"","","","","","","","","","","","","","","",""]
[null,"","","","","","","","","","","","","","","",""]
[null,"","","","","","","","","","","","","","","",""]
[null,"","","","","","","","","","","","","","","",""]
[null,"","","","","","","","","","","","","","","",""]
[null,"","","","","","","","","","","","","","","",""]
[null,"","","","","","","","","","","","","","","",""]
[null,"","","","","","","","","","","","","","","",""]
[null,"","","","","","","","","","","","","","","",""]
[null,"","","","","","","","","","","","","","","",""]
[null,"","","","","","","","","","","","","","","",""]
[null,"","","","","","","","","","","","","","","",""]
[null,"","","","","","","","","","","","","","","",""]
[null,"","","","","","","","","","","","","","","",""]
[null,"","","","","","","","","","","","","","","",""]
[null,"","","","","","","","","","","","","","","",""]
[null,"","","","","","","","","","","","","","","",""]
[null,"","","","","","","","","","","","","","","",""]
[null,"","","","","","","","","","","","","","","",""]
[null,"","","","","","","","","","","","","","","",""]
[null,"","","","","","","","","","","","","","","",""]
[null,"","","","","","","","","","","","","","","",""]
[null,"","","","","","","","","","","","","","","",""]
[null,"","","","","","","","","","","","","","","",""]
[null,"","","","","","","","","","","","","","","",""]
[null,"","","","","","","","","","","","","","","",""]
[null,"","","","","","","","","","","","","","","",""]
[null,"","","","","","","","","","","","","","","",""]
[null,"","","","","","","","","","","","","","","",""]
[null,"","","","","","","","","","","","","","","",""]
[null,"","","","","","","","","","","","","","","",""]
[null,"","","","","","","","","","","","","","","",""]
[null,"","","","","","","","","","","","","","","",""]
[null,"","","","","","","","","","","","","","","",""]
[null,"","","","","","","","","","","","","","","",""]
[null,"","","","","","","","","","","","","","","",""]
[null,"","","","","","","","","","","","","","","",""]
[null,"","","","","","","","","","","","","","","",""]
[null,"","","","","","","","","","","","","","","",""]
[null,"","","","","","","","","","","","","","","",""]
[null,"","","","","","","","","","","","","","","",""]
[null,"","","","","","","","","","","","","","","",""]
[null,{"$f":"IF(ISERROR(INDIRECT($A512&\"!F21\")),\"\",(INDIRECT($A512&\"!F21\")))","v":""},{"$f":"IF(ISERROR(INDIRECT($A512&\"!F22\")),\"\",(INDIRECT($A512&\"!F22\")))","v":""},{"$f":"IF(ISERROR(INDIRECT($A512&\"!F23\")),\"\",(INDIRECT($A512&\"!F23\")))","v":""},"",{"$f":"IF(ISERROR(INDIRECT($A512&\"!F24\")),\"\",(INDIRECT($A512&\"!F24\")))","v":""},{"$f":"IF(ISERROR(INDIRECT($A512&\"!F25\")),\"\",(INDIRECT($A512&\"!F25\")))","v":""},{"$f":"IF(ISERROR(INDIRECT($A512&\"!F26\")),\"\",(INDIRECT($A512&\"!F26\")))","v":""},{"$f":"IF(ISERROR(INDIRECT($A512&\"!F27\")),\"\",(INDIRECT($A512&\"!F27\")))","v":""},{"$f":"IF(ISERROR(INDIRECT($A512&\"!F28\")),\"\",(INDIRECT($A512&\"!F28\")))","v":""},{"$f":"IF(ISERROR(INDIRECT($A512&\"!F29\")),\"\",(INDIRECT($A512&\"!F29\")))","v":""},{"$f":"IF(ISERROR(INDIRECT($A512&\"!F30\")),\"\",(INDIRECT($A512&\"!F30\")))","v":""},{"$f":"IF(ISERROR(INDIRECT($A512&\"!F31\")),\"\",(INDIRECT($A512&\"!F31\")))","v":""},{"$f":"IF(ISERROR(INDIRECT($A512&\"!F32\")),\"\",(INDIRECT($A512&\"!F32\")))","v":""},{"$f":"IF(ISERROR(INDIRECT($A512&\"!F33\")),\"\",(INDIRECT($A512&\"!F33\")))","v":""},{"$f":"IF(ISERROR(INDIRECT($A512&\"!F34\")),\"\",(INDIRECT($A512&\"!F34\")))","v":""},{"$f":"IF(ISERROR(INDIRECT($A512&\"!F35\")),\"\",(INDIRECT($A512&\"!F35\")))","v":""}]
[null,"","","","","","","","","","","","","","","",""]
[null,"","","",{"$f":"IF(D514<>\"\",DATEDIF(D514,TODAY(),\"y\"),\"\")","v":""},"","","","","","","","","","","",""]
[null,"","","","","","","","","","","","","","","",""]
[null,"","","","","","","","","","","","","","","",""]
[null,"","","","","","","","","","","","","","","",""]
[null,"","","","","","","","","","","","","","","",""]
[null,"","","","","","","","","","","","","","","",""]
[null,"","","","","","","","","","","","","","","",""]
[null,"","","","","","","","","","","","","","","",""]
[null,"","","","","","","","","","","","","","","",""]
[null,"","","","","","","","","","","","","","","",""]
[null,"","","","","","","","","","","","","","","",""]
[null,"","","","","","","","","","","","","","","",""]
[null,"","","","","","","","","","","","","","","",""]
[null,"","","","","","","","","","","","","","","",""]
[null,"","","","","","","","","","","","","","","",""]
[null,"","","","","","","","","","","","","","","",""]
[null,"","","","","","","","","","","","","","","",""]
[null,"","","","","","","","","","","","","","","",""]
[null,"","","","","","","","","","","","","","","",""]
[null,"","","","","","","","","","","","","","","",""]
[null,"","","","","","","","","","","","","","","",""]
[null,"","","","","","","","","","","","","","","",""]
[null,"","","","","","","","","","","","","","","",""]
[null,"","","","","","","","","","","","","","","",""]
[null,"","","","","","","","","","","","","","","",""]
[null,"","","","","","","","","","","","","","","",""]
[null,"","","","","","","","","","","","","","","",""]
[null,"","","","","","","","","","","","","","","",""]
[null,"","","","","","","","","","","","","","","",""]
[null,"","","","","","","","","","","","","","","",""]
[null,"","","","","","","","","","","","","","","",""]
[null,"","","","","","","","","","","","","","","",""]
[null,"","","","","","","","","","","","","","","",""]
[null,"","","","","","","","","","","","","","","",""]
[null,"","","","","","","","","","","","","","","",""]
[null,"","","","","","","","","","","","","","","",""]
[null,"","","","","","","","","","","","","","","",""]
[null,"","","","","","","","","","","","","","","",""]
[null,"","","","","","","","","","","","","","","",""]
[null,"","","","","","","","","","","","","","","",""]
[null,"","","","","","","","","","","","","","","",""]
[null,"","","","","","","","","","","","","","","",""]
[null,"","","","","","","","","","","","","","","",""]
[null,"","","","","","","","","","","","","","","",""]
[null,"","","","","","","","","","","","","","","",""]
[null,"","","","","","","","","","","","","","","",""]
[null,"","","","","","","","","","","","","","","",""]
[null,"","","","","","","","","","","","","","","",""]
[null,"","","","","","","","","","","","","","","",""]
[null,"","","","","","","","","","","","","","","",""]
[null,"","","","","","","","","","","","","","","",""]
[null,"","","","","","","","","","","","","","","",""]
[null,"","","","","","","","","","","","","","","",""]
[null,"","","","","","","","","","","","","","","",""]
[null,"","","","","","","","","","","","","","","",""]
[null,"","","","","","","","","","","","","","","",""]
[null,"","","","","","","","","","","","","","","",""]
[null,"","","","","","","","","","","","","","","",""]
[null,"","","","","","","","","","","","","","","",""]
[null,"","","","","","","","","","","","","","","",""]
[null,"","","","","","","","","","","","","","","",""]
[null,"","","","","","","","","","","","","","","",""]
[null,{"$f":"IF(ISERROR(INDIRECT($A576&\"!F21\")),\"\",(INDIRECT($A576&\"!F21\")))","v":""},{"$f":"IF(ISERROR(INDIRECT($A576&\"!F22\")),\"\",(INDIRECT($A576&\"!F22\")))","v":""},{"$f":"IF(ISERROR(INDIRECT($A576&\"!F23\")),\"\",(INDIRECT($A576&\"!F23\")))","v":""},"",{"$f":"IF(ISERROR(INDIRECT($A576&\"!F24\")),\"\",(INDIRECT($A576&\"!F24\")))","v":""},{"$f":"IF(ISERROR(INDIRECT($A576&\"!F25\")),\"\",(INDIRECT($A576&\"!F25\")))","v":""},{"$f":"IF(ISERROR(INDIRECT($A576&\"!F26\")),\"\",(INDIRECT($A576&\"!F26\")))","v":""},{"$f":"IF(ISERROR(INDIRECT($A576&\"!F27\")),\"\",(INDIRECT($A576&\"!F27\")))","v":""},{"$f":"IF(ISERROR(INDIRECT($A576&\"!F28\")),\"\",(INDIRECT($A576&\"!F28\")))","v":""},{"$f":"IF(ISERROR(INDIRECT($A576&\"!F29\")),\"\",(INDIRECT($A576&\"!F29\")))","v":""},{"$f":"IF(ISERROR(INDIRECT($A576&\"!F30\")),\"\",(INDIRECT($A576&\"!F30\")))","v":""},{"$f":"IF(ISERROR(INDIRECT($A576&\"!F31\")),\"\",(INDIRECT($A576&\"!F31\")))","v":""},{"$f":"IF(ISERROR(INDIRECT($A576&\"!F32\")),\"\",(INDIRECT($A576&\"!F32\")))","v":""},{"$f":"IF(ISERROR(INDIRECT($A576&\"!F33\")),\"\",(INDIRECT($A576&\"!F33\")))","v":""},{"$f":"IF(ISERROR(INDIRECT($A576&\"!F34\")),\"\",(INDIRECT($A576&\"!F34\")))","v":""},{"$f":"IF(ISERROR(INDIRECT($A576&\"!F35\")),\"\",(INDIRECT($A576&\"!F35\")))","v":""}]
[null,"","","","","","","","","","","","","","","",""]
[null,"","","",{"$f":"IF(D578<>\"\",DATEDIF(D578,TODAY(),\"y\"),\"\")","v":""},"","","","","","","","","","","",""]
[null,"","","","","","","","","","","","","","","",""]
[null,"","","","","","","","","","","","","","","",""]
[null,"","","","","","","","","","","","","","","",""]
[null,"","","","","","","","","","","","","","","",""]
[null,"","","","","","","","","","","","","","","",""]
[null,"","","","","","","","","","","","","","","",""]
[null,"","","","","","","","","","","","","","","",""]
[null,"","","","","","","","","","","","","","","",""]
[null,"","","","","","","","","","","","","","","",""]
[null,"","","","","","","","","","","","","","","",""]
[null,"","","","","","","","","","","","","","","",""]
[null,"","","","","","","","","","","","","","","",""]
[null,"","","","","","","","","","","","","","","",""]
[null,"","","","","","","","","","","","","","","",""]
[null,"","","","","","","","","","","","","","","",""]
[null,"","","","","","","","","","","","","","","",""]
[null,"","","","","","","","","","","","","","","",""]
[null,"","","","","","","","","","","","","","","",""]
[null,"","","","","","","","","","","","","","","",""]
[null,"","","","","","","","","","","","","","","",""]
[null,"","","","","","","","","","","","","","","",""]
[null,"","","","","","","","","","","","","","","",""]
[null,"","","","","","","","","","","","","","","",""]
[null,"","","","","","","","","","","","","","","",""]
[null,"","","","","","","","","","","","","","","",""]
[null,"","","","","","","","","","","","","","","",""]
[null,"","","","","","","","","","","","","","","",""]
[null,"","","","","","","","","","","","","","","",""]
[null,"","","","","","","","","","","","","","","",""]
[null,"","","","","","","","","","","","","","","",""]
[null,"","","","","","","","","","","","","","","",""]
[null,"","","","","","","","","","","","","","","",""]
[null,"","","","","","","","","","","","","","","",""]
[null,"","","","","","","","","","","","","","","",""]
[null,"","","","","","","","","","","","","","","",""]
[null,"","","","","","","","","","","","","","","",""]
[null,"","","","","","","","","","","","","","","",""]
[null,"","","","","","","","","","","","","","","",""]
[null,"","","","","","","","","","","","","","","",""]
[null,"","","","","","","","","","","","","","","",""]
[null,"","","","","","","","","","","","","","","",""]
[null,"","","","","","","","","","","","","","","",""]
[null,"","","","","","","","","","","","","","","",""]
[null,"","","","","","","","","","","","","","","",""]
[null,"","","","","","","","","","","","","","","",""]
[null,"","","","","","","","","","","","","","","",""]
[null,"","","","","","","","","","","","","","","",""]
[null,"","","","","","","","","","","","","","","",""]
[null,"","","","","","","","","","","","","","","",""]
[null,"","","","","","","","","","","","","","","",""]
[null,"","","","","","","","","","","","","","","",""]
[null,"","","","","","","","","","","","","","","",""]
[null,"","","","","","","","","","","","","","","",""]
[null,"","","","","","","","","","","","","","","",""]
[null,"","","","","","","","","","","","","","","",""]
[null,"","","","","","","","","","","","","","","",""]
[null,"","","","","","","","","","","","","","","",""]
[null,"","","","","","","","","","","","","","","",""]
[null,"","","","","","","","","","","","","","","",""]
[null,"","","","","","","","","","","","","","","",""]
[null,"","","","","","","","","","","","","","","",""]
[null,{"$f":"IF(ISERROR(INDIRECT($A640&\"!F21\")),\"\",(INDIRECT($A640&\"!F21\")))","v":""},{"$f":"IF(ISERROR(INDIRECT($A640&\"!F22\")),\"\",(INDIRECT($A640&\"!F22\")))","v":""},{"$f":"IF(ISERROR(INDIRECT($A640&\"!F23\")),\"\",(INDIRECT($A640&\"!F23\")))","v":""},"",{"$f":"IF(ISERROR(INDIRECT($A640&\"!F24\")),\"\",(INDIRECT($A640&\"!F24\")))","v":""},{"$f":"IF(ISERROR(INDIRECT($A640&\"!F25\")),\"\",(INDIRECT($A640&\"!F25\")))","v":""},{"$f":"IF(ISERROR(INDIRECT($A640&\"!F26\")),\"\",(INDIRECT($A640&\"!F26\")))","v":""},{"$f":"IF(ISERROR(INDIRECT($A640&\"!F27\")),\"\",(INDIRECT($A640&\"!F27\")))","v":""},{"$f":"IF(ISERROR(INDIRECT($A640&\"!F28\")),\"\",(INDIRECT($A640&\"!F28\")))","v":""},{"$f":"IF(ISERROR(INDIRECT($A640&\"!F29\")),\"\",(INDIRECT($A640&\"!F29\")))","v":""},{"$f":"IF(ISERROR(INDIRECT($A640&\"!F30\")),\"\",(INDIRECT($A640&\"!F30\")))","v":""},{"$f":"IF(ISERROR(INDIRECT($A640&\"!F31\")),\"\",(INDIRECT($A640&\"!F31\")))","v":""},{"$f":"IF(ISERROR(INDIRECT($A640&\"!F32\")),\"\",(INDIRECT($A640&\"!F32\")))","v":""},{"$f":"IF(ISERROR(INDIRECT($A640&\"!F33\")),\"\",(INDIRECT($A640&\"!F33\")))","v":""},{"$f":"IF(ISERROR(INDIRECT($A640&\"!F34\")),\"\",(INDIRECT($A640&\"!F34\")))","v":""},{"$f":"IF(ISERROR(INDIRECT($A640&\"!F35\")),\"\",(INDIRECT($A640&\"!F35\")))","v":""}]
[null,"","","","","","","","","","","","","","","",""]
[null,"","","",{"$f":"IF(D642<>\"\",DATEDIF(D642,TODAY(),\"y\"),\"\")","v":""},"","","","","","","","","","","",""]
[null,"","","","","","","","","","","","","","","",""]
[null,"","","","","","","","","","","","","","","",""]
[null,"","","","","","","","","","","","","","","",""]
[null,"","","","","","","","","","","","","","","",""]
[null,"","","","","","","","","","","","","","","",""]
[null,"","","","","","","","","","","","","","","",""]
[null,"","","","","","","","","","","","","","","",""]
[null,"","","","","","","","","","","","","","","",""]
[null,"","","","","","","","","","","","","","","",""]
[null,"","","","","","","","","","","","","","","",""]
[null,"","","","","","","","","","","","","","","",""]
[null,"","","","","","","","","","","","","","","",""]
[null,"","","","","","","","","","","","","","","",""]
[null,"","","","","","","","","","","","","","","",""]
[null,"","","","","","","","","","","","","","","",""]
[null,"","","","","","","","","","","","","","","",""]
[null,"","","","","","","","","","","","","","","",""]
[null,"","","","","","","","","","","","","","","",""]
[null,"","","","","","","","","","","","","","","",""]
[null,"","","","","","","","","","","","","","","",""]
[null,"","","","","","","","","","","","","","","",""]
[null,"","","","","","","","","","","","","","","",""]
[null,"","","","","","","","","","","","","","","",""]
[null,"","","","","","","","","","","","","","","",""]
[null,"","","","","","","","","","","","","","","",""]
[null,"","","","","","","","","","","","","","","",""]
[null,"","","","","","","","","","","","","","","",""]
[null,"","","","","","","","","","","","","","","",""]
[null,"","","","","","","","","","","","","","","",""]
[null,"","","","","","","","","","","","","","","",""]
[null,"","","","","","","","","","","","","","","",""]
[null,"","","","","","","","","","","","","","","",""]
[null,"","","","","","","","","","","","","","","",""]
[null,"","","","","","","","","","","","","","","",""]
[null,"","","","","","","","","","","","","","","",""]
[null,"","","","","","","","","","","","","","","",""]
[null,"","","","","","","","","","","","","","","",""]
[null,"","","","","","","","","","","","","","","",""]
[null,"","","","","","","","","","","","","","","",""]
[null,"","","","","","","","","","","","","","","",""]
[null,"","","","","","","","","","","","","","","",""]
[null,"","","","","","","","","","","","","","","",""]
[null,"","","","","","","","","","","","","","","",""]
[null,"","","","","","","","","","","","","","","",""]
[null,"","","","","","","","","","","","","","","",""]
[null,"","","","","","","","","","","","","","","",""]
[null,"","","","","","","","","","","","","","","",""]
[null,"","","","","","","","","","","","","","","",""]
[null,"","","","","","","","","","","","","","","",""]
[null,"","","","","","","","","","","","","","","",""]
[null,"","","","","","","","","","","","","","","",""]
[null,"","","","","","","","","","","","","","","",""]
[null,"","","","","","","","","","","","","","","",""]
[null,"","","","","","","","","","","","","","","",""]
[null,"","","","","","","","","","","","","","","",""]
[null,"","","","","","","","","","","","","","","",""]
[null,"","","","","","","","","","","","","","","",""]
[null,"","","","","","","","","","","","","","","",""]
[null,"","","","","","","","","","","","","","","",""]
[null,"","","","","","","","","","","","","","","",""]
[null,"","","","","","","","","","","","","","","",""]
[null,{"$f":"IF(ISERROR(INDIRECT($A704&\"!F21\")),\"\",(INDIRECT($A704&\"!F21\")))","v":""},{"$f":"IF(ISERROR(INDIRECT($A704&\"!F22\")),\"\",(INDIRECT($A704&\"!F22\")))","v":""},{"$f":"IF(ISERROR(INDIRECT($A704&\"!F23\")),\"\",(INDIRECT($A704&\"!F23\")))","v":""},"",{"$f":"IF(ISERROR(INDIRECT($A704&\"!F24\")),\"\",(INDIRECT($A704&\"!F24\")))","v":""},{"$f":"IF(ISERROR(INDIRECT($A704&\"!F25\")),\"\",(INDIRECT($A704&\"!F25\")))","v":""},{"$f":"IF(ISERROR(INDIRECT($A704&\"!F26\")),\"\",(INDIRECT($A704&\"!F26\")))","v":""},{"$f":"IF(ISERROR(INDIRECT($A704&\"!F27\")),\"\",(INDIRECT($A704&\"!F27\")))","v":""},{"$f":"IF(ISERROR(INDIRECT($A704&\"!F28\")),\"\",(INDIRECT($A704&\"!F28\")))","v":""},{"$f":"IF(ISERROR(INDIRECT($A704&\"!F29\")),\"\",(INDIRECT($A704&\"!F29\")))","v":""},{"$f":"IF(ISERROR(INDIRECT($A704&\"!F30\")),\"\",(INDIRECT($A704&\"!F30\")))","v":""},{"$f":"IF(ISERROR(INDIRECT($A704&\"!F31\")),\"\",(INDIRECT($A704&\"!F31\")))","v":""},{"$f":"IF(ISERROR(INDIRECT($A704&\"!F32\")),\"\",(INDIRECT($A704&\"!F32\")))","v":""},{"$f":"IF(ISERROR(INDIRECT($A704&\"!F33\")),\"\",(INDIRECT($A704&\"!F33\")))","v":""},{"$f":"IF(ISERROR(INDIRECT($A704&\"!F34\")),\"\",(INDIRECT($A704&\"!F34\")))","v":""},{"$f":"IF(ISERROR(INDIRECT($A704&\"!F35\")),\"\",(INDIRECT($A704&\"!F35\")))","v":""}]
[null,"","","","","","","","","","","","","","","",""]
[null,"","","",{"$f":"IF(D706<>\"\",DATEDIF(D706,TODAY(),\"y\"),\"\")","v":""},"","","","","","","","","","","",""]
[null,"","","","","","","","","","","","","","","",""]
[null,"","","","","","","","","","","","","","","",""]
[null,"","","","","","","","","","","","","","","",""]
[null,"","","","","","","","","","","","","","","",""]
[null,"","","","","","","","","","","","","","","",""]
[null,"","","","","","","","","","","","","","","",""]
[null,"","","","","","","","","","","","","","","",""]
[null,"","","","","","","","","","","","","","","",""]
[null,"","","","","","","","","","","","","","","",""]
[null,"","","","","","","","","","","","","","","",""]
[null,"","","","","","","","","","","","","","","",""]
[null,"","","","","","","","","","","","","","","",""]
[null,"","","","","","","","","","","","","","","",""]
[null,"","","","","","","","","","","","","","","",""]
[null,"","","","","","","","","","","","","","","",""]
[null,"","","","","","","","","","","","","","","",""]
[null,"","","","","","","","","","","","","","","",""]
[null,"","","","","","","","","","","","","","","",""]
[null,"","","","","","","","","","","","","","","",""]
[null,"","","","","","","","","","","","","","","",""]
[null,"","","","","","","","","","","","","","","",""]
[null,"","","","","","","","","","","","","","","",""]
[null,"","","","","","","","","","","","","","","",""]
[null,"","","","","","","","","","","","","","","",""]
[null,"","","","","","","","","","","","","","","",""]
[null,"","","","","","","","","","","","","","","",""]
[null,"","","","","","","","","","","","","","","",""]
[null,"","","","","","","","","","","","","","","",""]
[null,"","","","","","","","","","","","","","","",""]
[null,"","","","","","","","","","","","","","","",""]
[null,"","","","","","","","","","","","","","","",""]
[null,"","","","","","","","","","","","","","","",""]
[null,"","","","","","","","","","","","","","","",""]
[null,"","","","","","","","","","","","","","","",""]
[null,"","","","","","","","","","","","","","","",""]
[null,"","","","","","","","","","","","","","","",""]
[null,"","","","","","","","","","","","","","","",""]
[null,"","","","","","","","","","","","","","","",""]
[null,"","","","","","","","","","","","","","","",""]
[null,"","","","","","","","","","","","","","","",""]
[null,"","","","","","","","","","","","","","","",""]
[null,"","","","","","","","","","","","","","","",""]
[null,"","","","","","","","","","","","","","","",""]
[null,"","","","","","","","","","","","","","","",""]
[null,"","","","","","","","","","","","","","","",""]
[null,"","","","","","","","","","","","","","","",""]
[null,"","","","","","","","","","","","","","","",""]
[null,"","","","","","","","","","","","","","","",""]
[null,"","","","","","","","","","","","","","","",""]
[null,"","","","","","","","","","","","","","","",""]
[null,"","","","","","","","","","","","","","","",""]
[null,"","","","","","","","","","","","","","","",""]
[null,"","","","","","","","","","","","","","","",""]
[null,"","","","","","","","","","","","","","","",""]
[null,"","","","","","","","","","","","","","","",""]
[null,"","","","","","","","","","","","","","","",""]
[null,"","","","","","","","","","","","","","","",""]
[null,"","","","","","","","","","","","","","","",""]
[null,"","","","","","","","","","","","","","","",""]
[null,"","","","","","","","","","","","","","","",""]
[null,"","","","","","","","","","","","","","","",""]
[null,{"$f":"IF(ISERROR(INDIRECT($A768&\"!F21\")),\"\",(INDIRECT($A768&\"!F21\")))","v":""},{"$f":"IF(ISERROR(INDIRECT($A768&\"!F22\")),\"\",(INDIRECT($A768&\"!F22\")))","v":""},{"$f":"IF(ISERROR(INDIRECT($A768&\"!F23\")),\"\",(INDIRECT($A768&\"!F23\")))","v":""},"",{"$f":"IF(ISERROR(INDIRECT($A768&\"!F24\")),\"\",(INDIRECT($A768&\"!F24\")))","v":""},{"$f":"IF(ISERROR(INDIRECT($A768&\"!F25\")),\"\",(INDIRECT($A768&\"!F25\")))","v":""},{"$f":"IF(ISERROR(INDIRECT($A768&\"!F26\")),\"\",(INDIRECT($A768&\"!F26\")))","v":""},{"$f":"IF(ISERROR(INDIRECT($A768&\"!F27\")),\"\",(INDIRECT($A768&\"!F27\")))","v":""},{"$f":"IF(ISERROR(INDIRECT($A768&\"!F28\")),\"\",(INDIRECT($A768&\"!F28\")))","v":""},{"$f":"IF(ISERROR(INDIRECT($A768&\"!F29\")),\"\",(INDIRECT($A768&\"!F29\")))","v":""},{"$f":"IF(ISERROR(INDIRECT($A768&\"!F30\")),\"\",(INDIRECT($A768&\"!F30\")))","v":""},{"$f":"IF(ISERROR(INDIRECT($A768&\"!F31\")),\"\",(INDIRECT($A768&\"!F31\")))","v":""},{"$f":"IF(ISERROR(INDIRECT($A768&\"!F32\")),\"\",(INDIRECT($A768&\"!F32\")))","v":""},{"$f":"IF(ISERROR(INDIRECT($A768&\"!F33\")),\"\",(INDIRECT($A768&\"!F33\")))","v":""},{"$f":"IF(ISERROR(INDIRECT($A768&\"!F34\")),\"\",(INDIRECT($A768&\"!F34\")))","v":""},{"$f":"IF(ISERROR(INDIRECT($A768&\"!F35\")),\"\",(INDIRECT($A768&\"!F35\")))","v":""}]
[null,"","","","","","","","","","","","","","","",""]
[null,"","","",{"$f":"IF(D770<>\"\",DATEDIF(D770,TODAY(),\"y\"),\"\")","v":""},"","","","","","","","","","","",""]
[null,"","","","","","","","","","","","","","","",""]
[null,"","","","","","","","","","","","","","","",""]
[null,"","","","","","","","","","","","","","","",""]
[null,"","","","","","","","","","","","","","","",""]
[null,"","","","","","","","","","","","","","","",""]
[null,"","","","","","","","","","","","","","","",""]
[null,"","","","","","","","","","","","","","","",""]
[null,"","","","","","","","","","","","","","","",""]
[null,"","","","","","","","","","","","","","","",""]
[null,"","","","","","","","","","","","","","","",""]
[null,"","","","","","","","","","","","","","","",""]
[null,"","","","","","","","","","","","","","","",""]
[null,"","","","","","","","","","","","","","","",""]
[null,"","","","","","","","","","","","","","","",""]
[null,"","","","","","","","","","","","","","","",""]
[null,"","","","","","","","","","","","","","","",""]
[null,"","","","","","","","","","","","","","","",""]
[null,"","","","","","","","","","","","","","","",""]
[null,"","","","","","","","","","","","","","","",""]
[null,"","","","","","","","","","","","","","","",""]
[null,"","","","","","","","","","","","","","","",""]
[null,"","","","","","","","","","","","","","","",""]
[null,"","","","","","","","","","","","","","","",""]
[null,"","","","","","","","","","","","","","","",""]
[null,"","","","","","","","","","","","","","","",""]
[null,"","","","","","","","","","","","","","","",""]
[null,"","","","","","","","","","","","","","","",""]
[null,"","","","","","","","","","","","","","","",""]
[null,"","","","","","","","","","","","","","","",""]
[null,"","","","","","","","","","","","","","","",""]
[null,"","","","","","","","","","","","","","","",""]
[null,"","","","","","","","","","","","","","","",""]
[null,"","","","","","","","","","","","","","","",""]
[null,"","","","","","","","","","","","","","","",""]
[null,"","","","","","","","","","","","","","","",""]
[null,"","","","","","","","","","","","","","","",""]
[null,"","","","","","","","","","","","","","","",""]
[null,"","","","","","","","","","","","","","","",""]
[null,"","","","","","","","","","","","","","","",""]
[null,"","","","","","","","","","","","","","","",""]
[null,"","","","","","","","","","","","","","","",""]
[null,"","","","","","","","","","","","","","","",""]
[null,"","","","","","","","","","","","","","","",""]
[null,"","","","","","","","","","","","","","","",""]
[null,"","","","","","","","","","","","","","","",""]
[null,"","","","","","","","","","","","","","","",""]
[null,"","","","","","","","","","","","","","","",""]
[null,"","","","","","","","","","","","","","","",""]
[null,"","","","","","","","","","","","","","","",""]
[null,"","","","","","","","","","","","","","","",""]
[null,"","","","","","","","","","","","","","","",""]
[null,"","","","","","","","","","","","","","","",""]
[null,"","","","","","","","","","","","","","","",""]
[null,"","","","","","","","","","","","","","","",""]
[null,"","","","","","","","","","","","","","","",""]
[null,"","","","","","","","","","","","","","","",""]
[null,"","","","","","","","","","","","","","","",""]
[null,"","","","","","","","","","","","","","","",""]
[null,"","","","","","","","","","","","","","","",""]
[null,"","","","","","","","","","","","","","","",""]
[null,"","","","","","","","","","","","","","","",""]
[null,{"$f":"IF(ISERROR(INDIRECT($A832&\"!F21\")),\"\",(INDIRECT($A832&\"!F21\")))","v":""},{"$f":"IF(ISERROR(INDIRECT($A832&\"!F22\")),\"\",(INDIRECT($A832&\"!F22\")))","v":""},{"$f":"IF(ISERROR(INDIRECT($A832&\"!F23\")),\"\",(INDIRECT($A832&\"!F23\")))","v":""},"",{"$f":"IF(ISERROR(INDIRECT($A832&\"!F24\")),\"\",(INDIRECT($A832&\"!F24\")))","v":""},{"$f":"IF(ISERROR(INDIRECT($A832&\"!F25\")),\"\",(INDIRECT($A832&\"!F25\")))","v":""},{"$f":"IF(ISERROR(INDIRECT($A832&\"!F26\")),\"\",(INDIRECT($A832&\"!F26\")))","v":""},{"$f":"IF(ISERROR(INDIRECT($A832&\"!F27\")),\"\",(INDIRECT($A832&\"!F27\")))","v":""},{"$f":"IF(ISERROR(INDIRECT($A832&\"!F28\")),\"\",(INDIRECT($A832&\"!F28\")))","v":""},{"$f":"IF(ISERROR(INDIRECT($A832&\"!F29\")),\"\",(INDIRECT($A832&\"!F29\")))","v":""},{"$f":"IF(ISERROR(INDIRECT($A832&\"!F30\")),\"\",(INDIRECT($A832&\"!F30\")))","v":""},{"$f":"IF(ISERROR(INDIRECT($A832&\"!F31\")),\"\",(INDIRECT($A832&\"!F31\")))","v":""},{"$f":"IF(ISERROR(INDIRECT($A832&\"!F32\")),\"\",(INDIRECT($A832&\"!F32\")))","v":""},{"$f":"IF(ISERROR(INDIRECT($A832&\"!F33\")),\"\",(INDIRECT($A832&\"!F33\")))","v":""},{"$f":"IF(ISERROR(INDIRECT($A832&\"!F34\")),\"\",(INDIRECT($A832&\"!F34\")))","v":""},{"$f":"IF(ISERROR(INDIRECT($A832&\"!F35\")),\"\",(INDIRECT($A832&\"!F35\")))","v":""}]
[null,"","","","","","","","","","","","","","","",""]
[null,"","","",{"$f":"IF(D834<>\"\",DATEDIF(D834,TODAY(),\"y\"),\"\")","v":""},"","","","","","","","","","","",""]
[null,"","","","","","","","","","","","","","","",""]
[null,"","","","","","","","","","","","","","","",""]
[null,"","","","","","","","","","","","","","","",""]
[null,"","","","","","","","","","","","","","","",""]
[null,"","","","","","","","","","","","","","","",""]
[null,"","","","","","","","","","","","","","","",""]
[null,"","","","","","","","","","","","","","","",""]
[null,"","","","","","","","","","","","","","","",""]
[null,"","","","","","","","","","","","","","","",""]
[null,"","","","","","","","","","","","","","","",""]
[null,"","","","","","","","","","","","","","","",""]
[null,"","","","","","","","","","","","","","","",""]
[null,"","","","","","","","","","","","","","","",""]
[null,"","","","","","","","","","","","","","","",""]
[null,"","","","","","","","","","","","","","","",""]
[null,"","","","","","","","","","","","","","","",""]
[null,"","","","","","","","","","","","","","","",""]
[null,"","","","","","","","","","","","","","","",""]
[null,"","","","","","","","","","","","","","","",""]
[null,"","","","","","","","","","","","","","","",""]
[null,"","","","","","","","","","","","","","","",""]
[null,"","","","","","","","","","","","","","","",""]
[null,"","","","","","","","","","","","","","","",""]
[null,"","","","","","","","","","","","","","","",""]
[null,"","","","","","","","","","","","","","","",""]
[null,"","","","","","","","","","","","","","","",""]
[null,"","","","","","","","","","","","","","","",""]
[null,"","","","","","","","","","","","","","","",""]
[null,"","","","","","","","","","","","","","","",""]
[null,"","","","","","","","","","","","","","","",""]
[null,"","","","","","","","","","","","","","","",""]
[null,"","","","","","","","","","","","","","","",""]
[null,"","","","","","","","","","","","","","","",""]
[null,"","","","","","","","","","","","","","","",""]
[null,"","","","","","","","","","","","","","","",""]
[null,"","","","","","","","","","","","","","","",""]
[null,"","","","","","","","","","","","","","","",""]
[null,"","","","","","","","","","","","","","","",""]
[null,"","","","","","","","","","","","","","","",""]
[null,"","","","","","","","","","","","","","","",""]
[null,"","","","","","","","","","","","","","","",""]
[null,"","","","","","","","","","","","","","","",""]
[null,"","","","","","","","","","","","","","","",""]
[null,"","","","","","","","","","","","","","","",""]
[null,"","","","","","","","","","","","","","","",""]
[null,"","","","","","","","","","","","","","","",""]
[null,"","","","","","","","","","","","","","","",""]
[null,"","","","","","","","","","","","","","","",""]
[null,"","","","","","","","","","","","","","","",""]
[null,"","","","","","","","","","","","","","","",""]
[null,"","","","","","","","","","","","","","","",""]
[null,"","","","","","","","","","","","","","","",""]
[null,"","","","","","","","","","","","","","","",""]
[null,"","","","","","","","","","","","","","","",""]
[null,"","","","","","","","","","","","","","","",""]
[null,"","","","","","","","","","","","","","","",""]
[null,"","","","","","","","","","","","","","","",""]
[null,"","","","","","","","","","","","","","","",""]
[null,"","","","","","","","","","","","","","","",""]
[null,"","","","","","","","","","","","","","","",""]
[null,"","","","","","","","","","","","","","","",""]
[null,{"$f":"IF(ISERROR(INDIRECT($A896&\"!F21\")),\"\",(INDIRECT($A896&\"!F21\")))","v":""},{"$f":"IF(ISERROR(INDIRECT($A896&\"!F22\")),\"\",(INDIRECT($A896&\"!F22\")))","v":""},{"$f":"IF(ISERROR(INDIRECT($A896&\"!F23\")),\"\",(INDIRECT($A896&\"!F23\")))","v":""},"",{"$f":"IF(ISERROR(INDIRECT($A896&\"!F24\")),\"\",(INDIRECT($A896&\"!F24\")))","v":""},{"$f":"IF(ISERROR(INDIRECT($A896&\"!F25\")),\"\",(INDIRECT($A896&\"!F25\")))","v":""},{"$f":"IF(ISERROR(INDIRECT($A896&\"!F26\")),\"\",(INDIRECT($A896&\"!F26\")))","v":""},{"$f":"IF(ISERROR(INDIRECT($A896&\"!F27\")),\"\",(INDIRECT($A896&\"!F27\")))","v":""},{"$f":"IF(ISERROR(INDIRECT($A896&\"!F28\")),\"\",(INDIRECT($A896&\"!F28\")))","v":""},{"$f":"IF(ISERROR(INDIRECT($A896&\"!F29\")),\"\",(INDIRECT($A896&\"!F29\")))","v":""},{"$f":"IF(ISERROR(INDIRECT($A896&\"!F30\")),\"\",(INDIRECT($A896&\"!F30\")))","v":""},{"$f":"IF(ISERROR(INDIRECT($A896&\"!F31\")),\"\",(INDIRECT($A896&\"!F31\")))","v":""},{"$f":"IF(ISERROR(INDIRECT($A896&\"!F32\")),\"\",(INDIRECT($A896&\"!F32\")))","v":""},{"$f":"IF(ISERROR(INDIRECT($A896&\"!F33\")),\"\",(INDIRECT($A896&\"!F33\")))","v":""},{"$f":"IF(ISERROR(INDIRECT($A896&\"!F34\")),\"\",(INDIRECT($A896&\"!F34\")))","v":""},{"$f":"IF(ISERROR(INDIRECT($A896&\"!F35\")),\"\",(INDIRECT($A896&\"!F35\")))","v":""}]
[null,"","","","","","","","","","","","","","","",""]
[null,"","","",{"$f":"IF(D898<>\"\",DATEDIF(D898,TODAY(),\"y\"),\"\")","v":""},"","","","","","","","","","","",""]
[null,"","","","","","","","","","","","","","","",""]
[null,"","","","","","","","","","","","","","","",""]
[null,"","","","","","","","","","","","","","","",""]
[null,"","","","","","","","","","","","","","","",""]
[null,"","","","","","","","","","","","","","","",""]
[null,"","","","","","","","","","","","","","","",""]
[null,"","","","","","","","","","","","","","","",""]
[null,"","","","","","","","","","","","","","","",""]
[null,"","","","","","","","","","","","","","","",""]
[null,"","","","","","","","","","","","","","","",""]
[null,"","","","","","","","","","","","","","","",""]
[null,"","","","","","","","","","","","","","","",""]
[null,"","","","","","","","","","","","","","","",""]
[null,"","","","","","","","","","","","","","","",""]
[null,"","","","","","","","","","","","","","","",""]
[null,"","","","","","","","","","","","","","","",""]
[null,"","","","","","","","","","","","","","","",""]
[null,"","","","","","","","","","","","","","","",""]
[null,"","","","","","","","","","","","","","","",""]
[null,"","","","","","","","","","","","","","","",""]
[null,"","","","","","","","","","","","","","","",""]
[null,"","","","","","","","","","","","","","","",""]
[null,"","","","","","","","","","","","","","","",""]
[null,"","","","","","","","","","","","","","","",""]
[null,"","","","","","","","","","","","","","","",""]
[null,"","","","","","","","","","","","","","","",""]
[null,"","","","","","","","","","","","","","","",""]
[null,"","","","","","","","","","","","","","","",""]
[null,"","","","","","","","","","","","","","","",""]
[null,"","","","","","","","","","","","","","","",""]
[null,"","","","","","","","","","","","","","","",""]
[null,"","","","","","","","","","","","","","","",""]
[null,"","","","","","","","","","","","","","","",""]
[null,"","","","","","","","","","","","","","","",""]
[null,"","","","","","","","","","","","","","","",""]
[null,"","","","","","","","","","","","","","","",""]
[null,"","","","","","","","","","","","","","","",""]
[null,"","","","","","","","","","","","","","","",""]
[null,"","","","","","","","","","","","","","","",""]
[null,"","","","","","","","","","","","","","","",""]
[null,"","","","","","","","","","","","","","","",""]
[null,"","","","","","","","","","","","","","","",""]
[null,"","","","","","","","","","","","","","","",""]
[null,"","","","","","","","","","","","","","","",""]
[null,"","","","","","","","","","","","","","","",""]
[null,"","","","","","","","","","","","","","","",""]
[null,"","","","","","","","","","","","","","","",""]
[null,"","","","","","","","","","","","","","","",""]
[null,"","","","","","","","","","","","","","","",""]
[null,"","","","","","","","","","","","","","","",""]
[null,"","","","","","","","","","","","","","","",""]
[null,"","","","","","","","","","","","","","","",""]
[null,"","","","","","","","","","","","","","","",""]
[null,"","","","","","","","","","","","","","","",""]
[null,"","","","","","","","","","","","","","","",""]
[null,"","","","","","","","","","","","","","","",""]
[null,"","","","","","","","","","","","","","","",""]
[null,"","","","","","","","","","","","","","","",""]
[null,"","","","","","","","","","","","","","","",""]
[null,"","","","","","","","","","","","","","","",""]
[null,"","","","","","","","","","","","","","","",""]
[null,{"$f":"IF(ISERROR(INDIRECT($A960&\"!F21\")),\"\",(INDIRECT($A960&\"!F21\")))","v":""},{"$f":"IF(ISERROR(INDIRECT($A960&\"!F22\")),\"\",(INDIRECT($A960&\"!F22\")))","v":""},{"$f":"IF(ISERROR(INDIRECT($A960&\"!F23\")),\"\",(INDIRECT($A960&\"!F23\")))","v":""},"",{"$f":"IF(ISERROR(INDIRECT($A960&\"!F24\")),\"\",(INDIRECT($A960&\"!F24\")))","v":""},{"$f":"IF(ISERROR(INDIRECT($A960&\"!F25\")),\"\",(INDIRECT($A960&\"!F25\")))","v":""},{"$f":"IF(ISERROR(INDIRECT($A960&\"!F26\")),\"\",(INDIRECT($A960&\"!F26\")))","v":""},{"$f":"IF(ISERROR(INDIRECT($A960&\"!F27\")),\"\",(INDIRECT($A960&\"!F27\")))","v":""},{"$f":"IF(ISERROR(INDIRECT($A960&\"!F28\")),\"\",(INDIRECT($A960&\"!F28\")))","v":""},{"$f":"IF(ISERROR(INDIRECT($A960&\"!F29\")),\"\",(INDIRECT($A960&\"!F29\")))","v":""},{"$f":"IF(ISERROR(INDIRECT($A960&\"!F30\")),\"\",(INDIRECT($A960&\"!F30\")))","v":""},{"$f":"IF(ISERROR(INDIRECT($A960&\"!F31\")),\"\",(INDIRECT($A960&\"!F31\")))","v":""},{"$f":"IF(ISERROR(INDIRECT($A960&\"!F32\")),\"\",(INDIRECT($A960&\"!F32\")))","v":""},{"$f":"IF(ISERROR(INDIRECT($A960&\"!F33\")),\"\",(INDIRECT($A960&\"!F33\")))","v":""},{"$f":"IF(ISERROR(INDIRECT($A960&\"!F34\")),\"\",(INDIRECT($A960&\"!F34\")))","v":""},{"$f":"IF(ISERROR(INDIRECT($A960&\"!F35\")),\"\",(INDIRECT($A960&\"!F35\")))","v":""}]
[null,"","","","","","","","","","","","","","","",""]
[null,"","","",{"$f":"IF(D962<>\"\",DATEDIF(D962,TODAY(),\"y\"),\"\")","v":""},"","","","","","","","","","","",""]
[null,"","","","","","","","","","","","","","","",""]
[null,"","","","","","","","","","","","","","","",""]
[null,"","","","","","","","","","","","","","","",""]
[null,"","","","","","","","","","","","","","","",""]
[null,"","","","","","","","","","","","","","","",""]
[null,"","","","","","","","","","","","","","","",""]
[null,"","","","","","","","","","","","","","","",""]
[null,"","","","","","","","","","","","","","","",""]
[null,"","","","","","","","","","","","","","","",""]
[null,"","","","","","","","","","","","","","","",""]
[null,"","","","","","","","","","","","","","","",""]
[null,"","","","","","","","","","","","","","","",""]
[null,"","","","","","","","","","","","","","","",""]
[null,"","","","","","","","","","","","","","","",""]
[null,"","","","","","","","","","","","","","","",""]
[null,"","","","","","","","","","","","","","","",""]
[null,"","","","","","","","","","","","","","","",""]
[null,"","","","","","","","","","","","","","","",""]
[null,"","","","","","","","","","","","","","","",""]
[null,"","","","","","","","","","","","","","","",""]
[null,"","","","","","","","","","","","","","","",""]
[null,"","","","","","","","","","","","","","","",""]
[null,"","","","","","","","","","","","","","","",""]
[null,"","","","","","","","","","","","","","","",""]
[null,"","","","","","","","","","","","","","","",""]
[null,"","","","","","","","","","","","","","","",""]
[null,"","","","","","","","","","","","","","","",""]
[null,"","","","","","","","","","","","","","","",""]
[null,"","","","","","","","","","","","","","","",""]
[null,"","","","","","","","","","","","","","","",""]
[null,"","","","","","","","","","","","","","","",""]
[null,"","","","","","","","","","","","","","","",""]
[null,"","","","","","","","","","","","","","","",""]
[null,"","","","","","","","","","","","","","","",""]
[null,"","","","","","","","","","","","","","","",""]
[null,"","","","","","","","","","","","","","","",""]
[null,"","","","","","","","","","","","","","","",""]
[null,"","","","","","","","","","","","","","","",""]
[null,"","","","","","","","","","","","","","","",""]
[null,"","","","","","","","","","","","","","","",""]
[null,"","","","","","","","","","","","","","","",""]
[null,"","","","","","","","","","","","","","","",""]
[null,"","","","","","","","","","","","","","","",""]
[null,"","","","","","","","","","","","","","","",""]
[null,"","","","","","","","","","","","","","","",""]
[null,"","","","","","","","","","","","","","","",""]
[null,"","","","","","","","","","","","","","","",""]
[null,"","","","","","","","","","","","","","","",""]
[null,"","","","","","","","","","","","","","","",""]
[null,"","","","","","","","","","","","","","","",""]
[null,"","","","","","","","","","","","","","","",""]
[null,"","","","","","","","","","","","","","","",""]
[null,"","","","","","","","","","","","","","","",""]
[null,"","","","","","","","","","","","","","","",""]
[null,"","","","","","","","","","","","","","","",""]
[null,"","","","","","","","","","","","","","","",""]
[null,"","","","","","","","","","","","","","","",""]
[null,"","","","","","","","","","","","","","","",""]
[null,"","","","","","","","","","","","","","","",""]
[null,"","","","","","","","","","","","","","","",""]
[null,"","","","","","","","","","","","","","","",""]
[null,{"$f":"IF(ISERROR(INDIRECT($A1024&\"!F21\")),\"\",(INDIRECT($A1024&\"!F21\")))","v":""},{"$f":"IF(ISERROR(INDIRECT($A1024&\"!F22\")),\"\",(INDIRECT($A1024&\"!F22\")))","v":""},{"$f":"IF(ISERROR(INDIRECT($A1024&\"!F23\")),\"\",(INDIRECT($A1024&\"!F23\")))","v":""},"",{"$f":"IF(ISERROR(INDIRECT($A1024&\"!F24\")),\"\",(INDIRECT($A1024&\"!F24\")))","v":""},{"$f":"IF(ISERROR(INDIRECT($A1024&\"!F25\")),\"\",(INDIRECT($A1024&\"!F25\")))","v":""},{"$f":"IF(ISERROR(INDIRECT($A1024&\"!F26\")),\"\",(INDIRECT($A1024&\"!F26\")))","v":""},{"$f":"IF(ISERROR(INDIRECT($A1024&\"!F27\")),\"\",(INDIRECT($A1024&\"!F27\")))","v":""},{"$f":"IF(ISERROR(INDIRECT($A1024&\"!F28\")),\"\",(INDIRECT($A1024&\"!F28\")))","v":""},{"$f":"IF(ISERROR(INDIRECT($A1024&\"!F29\")),\"\",(INDIRECT($A1024&\"!F29\")))","v":""},{"$f":"IF(ISERROR(INDIRECT($A1024&\"!F30\")),\"\",(INDIRECT($A1024&\"!F30\")))","v":""},{"$f":"IF(ISERROR(INDIRECT($A1024&\"!F31\")),\"\",(INDIRECT($A1024&\"!F31\")))","v":""},{"$f":"IF(ISERROR(INDIRECT($A1024&\"!F32\")),\"\",(INDIRECT($A1024&\"!F32\")))","v":""},{"$f":"IF(ISERROR(INDIRECT($A1024&\"!F33\")),\"\",(INDIRECT($A1024&\"!F33\")))","v":""},{"$f":"IF(ISERROR(INDIRECT($A1024&\"!F34\")),\"\",(INDIRECT($A1024&\"!F34\")))","v":""},{"$f":"IF(ISERROR(INDIRECT($A1024&\"!F35\")),\"\",(INDIRECT($A1024&\"!F35\")))","v":""}]
[null,"","","","","","","","","","","","","","","",""]
[null,"","","",{"$f":"IF(D1026<>\"\",DATEDIF(D1026,TODAY(),\"y\"),\"\")","v":""},"","","","","","","","","","","",""]
[null,"","","","","","","","","","","","","","","",""]
[null,"","","","","","","","","","","","","","","",""]
[null,"","","","","","","","","","","","","","","",""]
[null,"","","","","","","","","","","","","","","",""]
[null,"","","","","","","","","","","","","","","",""]
[null,"","","","","","","","","","","","","","","",""]
[null,"","","","","","","","","","","","","","","",""]
[null,"","","","","","","","","","","","","","","",""]
[null,"","","","","","","","","","","","","","","",""]
[null,"","","","","","","","","","","","","","","",""]
[null,"","","","","","","","","","","","","","","",""]
[null,"","","","","","","","","","","","","","","",""]
[null,"","","","","","","","","","","","","","","",""]
[null,"","","","","","","","","","","","","","","",""]
[null,"","","","","","","","","","","","","","","",""]
[null,"","","","","","","","","","","","","","","",""]
[null,"","","","","","","","","","","","","","","",""]
[null,"","","","","","","","","","","","","","","",""]
[null,"","","","","","","","","","","","","","","",""]
[null,"","","","","","","","","","","","","","","",""]
[null,"","","","","","","","","","","","","","","",""]
[null,"","","","","","","","","","","","","","","",""]
[null,"","","","","","","","","","","","","","","",""]
[null,"","","","","","","","","","","","","","","",""]
[null,"","","","","","","","","","","","","","","",""]
[null,"","","","","","","","","","","","","","","",""]
[null,"","","","","","","","","","","","","","","",""]
[null,"","","","","","","","","","","","","","","",""]
[null,"","","","","","","","","","","","","","","",""]
[null,"","","","","","","","","","","","","","","",""]
[null,"","","","","","","","","","","","","","","",""]
[null,"","","","","","","","","","","","","","","",""]
[null,"","","","","","","","","","","","","","","",""]
[null,"","","","","","","","","","","","","","","",""]
[null,"","","","","","","","","","","","","","","",""]
[null,"","","","","","","","","","","","","","","",""]
[null,"","","","","","","","","","","","","","","",""]
[null,"","","","","","","","","","","","","","","",""]
[null,"","","","","","","","","","","","","","","",""]
[null,"","","","","","","","","","","","","","","",""]
[null,"","","","","","","","","","","","","","","",""]
[null,"","","","","","","","","","","","","","","",""]
[null,"","","","","","","","","","","","","","","",""]
[null,"","","","","","","","","","","","","","","",""]
[null,"","","","","","","","","","","","","","","",""]
[null,"","","","","","","","","","","","","","","",""]
[null,"","","","","","","","","","","","","","","",""]
[null,"","","","","","","","","","","","","","","",""]
[null,"","","","","","","","","","","","","","","",""]
[null,"","","","","","","","","","","","","","","",""]
[null,"","","","","","","","","","","","","","","",""]
[null,"","","","","","","","","","","","","","","",""]
[null,"","","","","","","","","","","","","","","",""]
[null,"","","","","","","","","","","","","","","",""]
[null,"","","","","","","","","","","","","","","",""]
[null,"","","","","","","","","","","","","","","",""]
[null,"","","","","","","","","","","","","","","",""]
[null,"","","","","","","","","","","","","","","",""]
[null,"","","","","","","","","","","","","","","",""]
[null,"","","","","","","","","","","","","","","",""]
[null,"","","","","","","","","","","","","","","",""]
[null,{"$f":"IF(ISERROR(INDIRECT($A1088&\"!F21\")),\"\",(INDIRECT($A1088&\"!F21\")))","v":""},{"$f":"IF(ISERROR(INDIRECT($A1088&\"!F22\")),\"\",(INDIRECT($A1088&\"!F22\")))","v":""},{"$f":"IF(ISERROR(INDIRECT($A1088&\"!F23\")),\"\",(INDIRECT($A1088&\"!F23\")))","v":""},"",{"$f":"IF(ISERROR(INDIRECT($A1088&\"!F24\")),\"\",(INDIRECT($A1088&\"!F24\")))","v":""},{"$f":"IF(ISERROR(INDIRECT($A1088&\"!F25\")),\"\",(INDIRECT($A1088&\"!F25\")))","v":""},{"$f":"IF(ISERROR(INDIRECT($A1088&\"!F26\")),\"\",(INDIRECT($A1088&\"!F26\")))","v":""},{"$f":"IF(ISERROR(INDIRECT($A1088&\"!F27\")),\"\",(INDIRECT($A1088&\"!F27\")))","v":""},{"$f":"IF(ISERROR(INDIRECT($A1088&\"!F28\")),\"\",(INDIRECT($A1088&\"!F28\")))","v":""},{"$f":"IF(ISERROR(INDIRECT($A1088&\"!F29\")),\"\",(INDIRECT($A1088&\"!F29\")))","v":""},{"$f":"IF(ISERROR(INDIRECT($A1088&\"!F30\")),\"\",(INDIRECT($A1088&\"!F30\")))","v":""},{"$f":"IF(ISERROR(INDIRECT($A1088&\"!F31\")),\"\",(INDIRECT($A1088&\"!F31\")))","v":""},{"$f":"IF(ISERROR(INDIRECT($A1088&\"!F32\")),\"\",(INDIRECT($A1088&\"!F32\")))","v":""},{"$f":"IF(ISERROR(INDIRECT($A1088&\"!F33\")),\"\",(INDIRECT($A1088&\"!F33\")))","v":""},{"$f":"IF(ISERROR(INDIRECT($A1088&\"!F34\")),\"\",(INDIRECT($A1088&\"!F34\")))","v":""},{"$f":"IF(ISERROR(INDIRECT($A1088&\"!F35\")),\"\",(INDIRECT($A1088&\"!F35\")))","v":""}]
[null,"","","","","","","","","","","","","","","",""]
[null,"","","",{"$f":"IF(D1090<>\"\",DATEDIF(D1090,TODAY(),\"y\"),\"\")","v":""},"","","","","","","","","","","",""]
[null,"","","","","","","","","","","","","","","",""]
[null,"","","","","","","","","","","","","","","",""]
[null,"","","","","","","","","","","","","","","",""]
[null,"","","","","","","","","","","","","","","",""]
[null,"","","","","","","","","","","","","","","",""]
[null,"","","","","","","","","","","","","","","",""]
[null,"","","","","","","","","","","","","","","",""]
[null,"","","","","","","","","","","","","","","",""]
[null,"","","","","","","","","","","","","","","",""]
[null,"","","","","","","","","","","","","","","",""]
[null,"","","","","","","","","","","","","","","",""]
[null,"","","","","","","","","","","","","","","",""]
[null,"","","","","","","","","","","","","","","",""]
[null,"","","","","","","","","","","","","","","",""]
[null,"","","","","","","","","","","","","","","",""]
[null,"","","","","","","","","","","","","","","",""]
[null,"","","","","","","","","","","","","","","",""]
[null,"","","","","","","","","","","","","","","",""]
[null,"","","","","","","","","","","","","","","",""]
[null,"","","","","","","","","","","","","","","",""]
[null,"","","","","","","","","","","","","","","",""]
[null,"","","","","","","","","","","","","","","",""]
[null,"","","","","","","","","","","","","","","",""]
[null,"","","","","","","","","","","","","","","",""]
[null,"","","","","","","","","","","","","","","",""]
[null,"","","","","","","","","","","","","","","",""]
[null,"","","","","","","","","","","","","","","",""]
[null,"","","","","","","","","","","","","","","",""]
[null,"","","","","","","","","","","","","","","",""]
[null,"","","","","","","","","","","","","","","",""]
[null,"","","","","","","","","","","","","","","",""]
[null,"","","","","","","","","","","","","","","",""]
[null,"","","","","","","","","","","","","","","",""]
[null,"","","","","","","","","","","","","","","",""]
[null,"","","","","","","","","","","","","","","",""]
[null,"","","","","","","","","","","","","","","",""]
[null,"","","","","","","","","","","","","","","",""]
[null,"","","","","","","","","","","","","","","",""]
[null,"","","","","","","","","","","","","","","",""]
[null,"","","","","","","","","","","","","","","",""]
[null,"","","","","","","","","","","","","","","",""]
[null,"","","","","","","","","","","","","","","",""]
[null,"","","","","","","","","","","","","","","",""]
[null,"","","","","","","","","","","","","","","",""]
[null,"","","","","","","","","","","","","","","",""]
[null,"","","","","","","","","","","","","","","",""]
[null,"","","","","","","","","","","","","","","",""]
[null,"","","","","","","","","","","","","","","",""]
[null,"","","","","","","","","","","","","","","",""]
[null,"","","","","","","","","","","","","","","",""]
[null,"","","","","","","","","","","","","","","",""]
[null,"","","","","","","","","","","","","","","",""]
[null,"","","","","","","","","","","","","","","",""]
[null,"","","","","","","","","","","","","","","",""]
[null,"","","","","","","","","","","","","","","",""]
[null,"","","","","","","","","","","","","","","",""]
[null,"","","","","","","","","","","","","","","",""]
[null,"","","","","","","","","","","","","","","",""]
[null,"","","","","","","","","","","","","","","",""]
[null,"","","","","","","","","","","","","","","",""]
[null,"","","","","","","","","","","","","","","",""]
[null,{"$f":"IF(ISERROR(INDIRECT($A1152&\"!F21\")),\"\",(INDIRECT($A1152&\"!F21\")))","v":""},{"$f":"IF(ISERROR(INDIRECT($A1152&\"!F22\")),\"\",(INDIRECT($A1152&\"!F22\")))","v":""},{"$f":"IF(ISERROR(INDIRECT($A1152&\"!F23\")),\"\",(INDIRECT($A1152&\"!F23\")))","v":""},"",{"$f":"IF(ISERROR(INDIRECT($A1152&\"!F24\")),\"\",(INDIRECT($A1152&\"!F24\")))","v":""},{"$f":"IF(ISERROR(INDIRECT($A1152&\"!F25\")),\"\",(INDIRECT($A1152&\"!F25\")))","v":""},{"$f":"IF(ISERROR(INDIRECT($A1152&\"!F26\")),\"\",(INDIRECT($A1152&\"!F26\")))","v":""},{"$f":"IF(ISERROR(INDIRECT($A1152&\"!F27\")),\"\",(INDIRECT($A1152&\"!F27\")))","v":""},{"$f":"IF(ISERROR(INDIRECT($A1152&\"!F28\")),\"\",(INDIRECT($A1152&\"!F28\")))","v":""},{"$f":"IF(ISERROR(INDIRECT($A1152&\"!F29\")),\"\",(INDIRECT($A1152&\"!F29\")))","v":""},{"$f":"IF(ISERROR(INDIRECT($A1152&\"!F30\")),\"\",(INDIRECT($A1152&\"!F30\")))","v":""},{"$f":"IF(ISERROR(INDIRECT($A1152&\"!F31\")),\"\",(INDIRECT($A1152&\"!F31\")))","v":""},{"$f":"IF(ISERROR(INDIRECT($A1152&\"!F32\")),\"\",(INDIRECT($A1152&\"!F32\")))","v":""},{"$f":"IF(ISERROR(INDIRECT($A1152&\"!F33\")),\"\",(INDIRECT($A1152&\"!F33\")))","v":""},{"$f":"IF(ISERROR(INDIRECT($A1152&\"!F34\")),\"\",(INDIRECT($A1152&\"!F34\")))","v":""},{"$f":"IF(ISERROR(INDIRECT($A1152&\"!F35\")),\"\",(INDIRECT($A1152&\"!F35\")))","v":""}]
[null,"","","","","","","","","","","","","","","",""]
[null,"","","",{"$f":"IF(D1154<>\"\",DATEDIF(D1154,TODAY(),\"y\"),\"\")","v":""},"","","","","","","","","","","",""]
[null,"","","","","","","","","","","","","","","",""]
[null,"","","","","","","","","","","","","","","",""]
[null,"","","","","","","","","","","","","","","",""]
[null,"","","","","","","","","","","","","","","",""]
[null,"","","","","","","","","","","","","","","",""]
[null,"","","","","","","","","","","","","","","",""]
[null,"","","","","","","","","","","","","","","",""]
[null,"","","","","","","","","","","","","","","",""]
[null,"","","","","","","","","","","","","","","",""]
[null,"","","","","","","","","","","","","","","",""]
[null,"","","","","","","","","","","","","","","",""]
[null,"","","","","","","","","","","","","","","",""]
[null,"","","","","","","","","","","","","","","",""]
[null,"","","","","","","","","","","","","","","",""]
[null,"","","","","","","","","","","","","","","",""]
[null,"","","","","","","","","","","","","","","",""]
[null,"","","","","","","","","","","","","","","",""]
[null,"","","","","","","","","","","","","","","",""]
[null,"","","","","","","","","","","","","","","",""]
[null,"","","","","","","","","","","","","","","",""]
[null,"","","","","","","","","","","","","","","",""]
[null,"","","","","","","","","","","","","","","",""]
[null,"","","","","","","","","","","","","","","",""]
[null,"","","","","","","","","","","","","","","",""]
[null,"","","","","","","","","","","","","","","",""]
[null,"","","","","","","","","","","","","","","",""]
[null,"","","","","","","","","","","","","","","",""]
[null,"","","","","","","","","","","","","","","",""]
[null,"","","","","","","","","","","","","","","",""]
[null,"","","","","","","","","","","","","","","",""]
[null,"","","","","","","","","","","","","","","",""]
[null,"","","","","","","","","","","","","","","",""]
[null,"","","","","","","","","","","","","","","",""]
[null,"","","","","","","","","","","","","","","",""]
[null,"","","","","","","","","","","","","","","",""]
[null,"","","","","","","","","","","","","","","",""]
[null,"","","","","","","","","","","","","","","",""]
[null,"","","","","","","","","","","","","","","",""]
[null,"","","","","","","","","","","","","","","",""]
[null,"","","","","","","","","","","","","","","",""]
[null,"","","","","","","","","","","","","","","",""]
[null,"","","","","","","","","","","","","","","",""]
[null,"","","","","","","","","","","","","","","",""]
[null,"","","","","","","","","","","","","","","",""]
[null,"","","","","","","","","","","","","","","",""]
[null,"","","","","","","","","","","","","","","",""]
[null,"","","","","","","","","","","","","","","",""]
[null,"","","","","","","","","","","","","","","",""]
[null,"","","","","","","","","","","","","","","",""]
[null,"","","","","","","","","","","","","","","",""]
[null,"","","","","","","","","","","","","","","",""]
[null,"","","","","","","","","","","","","","","",""]
[null,"","","","","","","","","","","","","","","",""]
[null,"","","","","","","","","","","","","","","",""]
[null,"","","","","","","","","","","","","","","",""]
[null,"","","","","","","","","","","","","","","",""]
[null,"","","","","","","","","","","","","","","",""]
[null,"","","","","","","","","","","","","","","",""]
[null,"","","","","","","","","","","","","","","",""]
[null,"","","","","","","","","","","","","","","",""]
[null,"","","","","","","","","","","","","","","",""]
[null,{"$f":"IF(ISERROR(INDIRECT($A1216&\"!F21\")),\"\",(INDIRECT($A1216&\"!F21\")))","v":""},{"$f":"IF(ISERROR(INDIRECT($A1216&\"!F22\")),\"\",(INDIRECT($A1216&\"!F22\")))","v":""},{"$f":"IF(ISERROR(INDIRECT($A1216&\"!F23\")),\"\",(INDIRECT($A1216&\"!F23\")))","v":""},"",{"$f":"IF(ISERROR(INDIRECT($A1216&\"!F24\")),\"\",(INDIRECT($A1216&\"!F24\")))","v":""},{"$f":"IF(ISERROR(INDIRECT($A1216&\"!F25\")),\"\",(INDIRECT($A1216&\"!F25\")))","v":""},{"$f":"IF(ISERROR(INDIRECT($A1216&\"!F26\")),\"\",(INDIRECT($A1216&\"!F26\")))","v":""},{"$f":"IF(ISERROR(INDIRECT($A1216&\"!F27\")),\"\",(INDIRECT($A1216&\"!F27\")))","v":""},{"$f":"IF(ISERROR(INDIRECT($A1216&\"!F28\")),\"\",(INDIRECT($A1216&\"!F28\")))","v":""},{"$f":"IF(ISERROR(INDIRECT($A1216&\"!F29\")),\"\",(INDIRECT($A1216&\"!F29\")))","v":""},{"$f":"IF(ISERROR(INDIRECT($A1216&\"!F30\")),\"\",(INDIRECT($A1216&\"!F30\")))","v":""},{"$f":"IF(ISERROR(INDIRECT($A1216&\"!F31\")),\"\",(INDIRECT($A1216&\"!F31\")))","v":""},{"$f":"IF(ISERROR(INDIRECT($A1216&\"!F32\")),\"\",(INDIRECT($A1216&\"!F32\")))","v":""},{"$f":"IF(ISERROR(INDIRECT($A1216&\"!F33\")),\"\",(INDIRECT($A1216&\"!F33\")))","v":""},{"$f":"IF(ISERROR(INDIRECT($A1216&\"!F34\")),\"\",(INDIRECT($A1216&\"!F34\")))","v":""},{"$f":"IF(ISERROR(INDIRECT($A1216&\"!F35\")),\"\",(INDIRECT($A1216&\"!F35\")))","v":""}]
[null,"","","","","","","","","","","","","","","",""]
[null,"","","",{"$f":"IF(D1218<>\"\",DATEDIF(D1218,TODAY(),\"y\"),\"\")","v":""},"","","","","","","","","","","",""]
[null,"","","","","","","","","","","","","","","",""]
[null,"","","","","","","","","","","","","","","",""]
[null,"","","","","","","","","","","","","","","",""]
[null,"","","","","","","","","","","","","","","",""]
[null,"","","","","","","","","","","","","","","",""]
[null,"","","","","","","","","","","","","","","",""]
[null,"","","","","","","","","","","","","","","",""]
[null,"","","","","","","","","","","","","","","",""]
[null,"","","","","","","","","","","","","","","",""]
[null,"","","","","","","","","","","","","","","",""]
[null,"","","","","","","","","","","","","","","",""]
[null,"","","","","","","","","","","","","","","",""]
[null,"","","","","","","","","","","","","","","",""]
[null,"","","","","","","","","","","","","","","",""]
[null,"","","","","","","","","","","","","","","",""]
[null,"","","","","","","","","","","","","","","",""]
[null,"","","","","","","","","","","","","","","",""]
[null,"","","","","","","","","","","","","","","",""]
[null,"","","","","","","","","","","","","","","",""]
[null,"","","","","","","","","","","","","","","",""]
[null,"","","","","","","","","","","","","","","",""]
[null,"","","","","","","","","","","","","","","",""]
[null,"","","","","","","","","","","","","","","",""]
[null,"","","","","","","","","","","","","","","",""]
[null,"","","","","","","","","","","","","","","",""]
[null,"","","","","","","","","","","","","","","",""]
[null,"","","","","","","","","","","","","","","",""]
[null,"","","","","","","","","","","","","","","",""]
[null,"","","","","","","","","","","","","","","",""]
[null,"","","","","","","","","","","","","","","",""]
[null,"","","","","","","","","","","","","","","",""]
[null,"","","","","","","","","","","","","","","",""]
[null,"","","","","","","","","","","","","","","",""]
[null,"","","","","","","","","","","","","","","",""]
[null,"","","","","","","","","","","","","","","",""]
[null,"","","","","","","","","","","","","","","",""]
[null,"","","","","","","","","","","","","","","",""]
[null,"","","","","","","","","","","","","","","",""]
[null,"","","","","","","","","","","","","","","",""]
[null,"","","","","","","","","","","","","","","",""]
[null,"","","","","","","","","","","","","","","",""]
[null,"","","","","","","","","","","","","","","",""]
[null,"","","","","","","","","","","","","","","",""]
[null,"","","","","","","","","","","","","","","",""]
[null,"","","","","","","","","","","","","","","",""]
[null,"","","","","","","","","","","","","","","",""]
[null,"","","","","","","","","","","","","","","",""]
[null,"","","","","","","","","","","","","","","",""]
[null,"","","","","","","","","","","","","","","",""]
[null,"","","","","","","","","","","","","","","",""]
[null,"","","","","","","","","","","","","","","",""]
[null,"","","","","","","","","","","","","","","",""]
[null,"","","","","","","","","","","","","","","",""]
[null,"","","","","","","","","","","","","","","",""]
[null,"","","","","","","","","","","","","","","",""]
[null,"","","","","","","","","","","","","","","",""]
[null,"","","","","","","","","","","","","","","",""]
[null,"","","","","","","","","","","","","","","",""]
[null,"","","","","","","","","","","","","","","",""]
[null,"","","","","","","","","","","","","","","",""]
[null,"","","","","","","","","","","","","","","",""]
[null,{"$f":"IF(ISERROR(INDIRECT($A1280&\"!F21\")),\"\",(INDIRECT($A1280&\"!F21\")))","v":""},{"$f":"IF(ISERROR(INDIRECT($A1280&\"!F22\")),\"\",(INDIRECT($A1280&\"!F22\")))","v":""},{"$f":"IF(ISERROR(INDIRECT($A1280&\"!F23\")),\"\",(INDIRECT($A1280&\"!F23\")))","v":""},"",{"$f":"IF(ISERROR(INDIRECT($A1280&\"!F24\")),\"\",(INDIRECT($A1280&\"!F24\")))","v":""},{"$f":"IF(ISERROR(INDIRECT($A1280&\"!F25\")),\"\",(INDIRECT($A1280&\"!F25\")))","v":""},{"$f":"IF(ISERROR(INDIRECT($A1280&\"!F26\")),\"\",(INDIRECT($A1280&\"!F26\")))","v":""},{"$f":"IF(ISERROR(INDIRECT($A1280&\"!F27\")),\"\",(INDIRECT($A1280&\"!F27\")))","v":""},{"$f":"IF(ISERROR(INDIRECT($A1280&\"!F28\")),\"\",(INDIRECT($A1280&\"!F28\")))","v":""},{"$f":"IF(ISERROR(INDIRECT($A1280&\"!F29\")),\"\",(INDIRECT($A1280&\"!F29\")))","v":""},{"$f":"IF(ISERROR(INDIRECT($A1280&\"!F30\")),\"\",(INDIRECT($A1280&\"!F30\")))","v":""},{"$f":"IF(ISERROR(INDIRECT($A1280&\"!F31\")),\"\",(INDIRECT($A1280&\"!F31\")))","v":""},{"$f":"IF(ISERROR(INDIRECT($A1280&\"!F32\")),\"\",(INDIRECT($A1280&\"!F32\")))","v":""},{"$f":"IF(ISERROR(INDIRECT($A1280&\"!F33\")),\"\",(INDIRECT($A1280&\"!F33\")))","v":""},{"$f":"IF(ISERROR(INDIRECT($A1280&\"!F34\")),\"\",(INDIRECT($A1280&\"!F34\")))","v":""},{"$f":"IF(ISERROR(INDIRECT($A1280&\"!F35\")),\"\",(INDIRECT($A1280&\"!F35\")))","v":""}]
[null,"","","","","","","","","","","","","","","",""]
[null,"","","",{"$f":"IF(D1282<>\"\",DATEDIF(D1282,TODAY(),\"y\"),\"\")","v":""},"","","","","","","","","","","",""]
[null,"","","","","","","","","","","","","","","",""]
[null,"","","","","","","","","","","","","","","",""]
[null,"","","","","","","","","","","","","","","",""]
[null,"","","","","","","","","","","","","","","",""]
[null,"","","","","","","","","","","","","","","",""]
[null,"","","","","","","","","","","","","","","",""]
[null,"","","","","","","","","","","","","","","",""]
[null,"","","","","","","","","","","","","","","",""]
[null,"","","","","","","","","","","","","","","",""]
[null,"","","","","","","","","","","","","","","",""]
[null,"","","","","","","","","","","","","","","",""]
[null,"","","","","","","","","","","","","","","",""]
[null,"","","","","","","","","","","","","","","",""]
[null,"","","","","","","","","","","","","","","",""]
[null,"","","","","","","","","","","","","","","",""]
[null,"","","","","","","","","","","","","","","",""]
[null,"","","","","","","","","","","","","","","",""]
[null,"","","","","","","","","","","","","","","",""]
[null,"","","","","","","","","","","","","","","",""]
[null,"","","","","","","","","","","","","","","",""]
[null,"","","","","","","","","","","","","","","",""]
[null,"","","","","","","","","","","","","","","",""]
[null,"","","","","","","","","","","","","","","",""]
[null,"","","","","","","","","","","","","","","",""]
[null,"","","","","","","","","","","","","","","",""]
[null,"","","","","","","","","","","","","","","",""]
[null,"","","","","","","","","","","","","","","",""]
[null,"","","","","","","","","","","","","","","",""]
[null,"","","","","","","","","","","","","","","",""]
[null,"","","","","","","","","","","","","","","",""]
[null,"","","","","","","","","","","","","","","",""]
[null,"","","","","","","","","","","","","","","",""]
[null,"","","","","","","","","","","","","","","",""]
[null,"","","","","","","","","","","","","","","",""]
[null,"","","","","","","","","","","","","","","",""]
[null,"","","","","","","","","","","","","","","",""]
[null,"","","","","","","","","","","","","","","",""]
[null,"","","","","","","","","","","","","","","",""]
[null,"","","","","","","","","","","","","","","",""]
[null,"","","","","","","","","","","","","","","",""]
[null,"","","","","","","","","","","","","","","",""]
[null,"","","","","","","","","","","","","","","",""]
[null,"","","","","","","","","","","","","","","",""]
[null,"","","","","","","","","","","","","","","",""]
[null,"","","","","","","","","","","","","","","",""]
[null,"","","","","","","","","","","","","","","",""]
[null,"","","","","","","","","","","","","","","",""]
[null,"","","","","","","","","","","","","","","",""]
[null,"","","","","","","","","","","","","","","",""]
[null,"","","","","","","","","","","","","","","",""]
[null,"","","","","","","","","","","","","","","",""]
[null,"","","","","","","","","","","","","","","",""]
[null,"","","","","","","","","","","","","","","",""]
[null,"","","","","","","","","","","","","","","",""]
[null,"","","","","","","","","","","","","","","",""]
[null,"","","","","","","","","","","","","","","",""]
[null,"","","","","","","","","","","","","","","",""]
[null,"","","","","","","","","","","","","","","",""]
[null,"","","","","","","","","","","","","","","",""]
[null,"","","","","","","","","","","","","","","",""]
[null,"","","","","","","","","","","","","","","",""]
[null,{"$f":"IF(ISERROR(INDIRECT($A1344&\"!F21\")),\"\",(INDIRECT($A1344&\"!F21\")))","v":""},{"$f":"IF(ISERROR(INDIRECT($A1344&\"!F22\")),\"\",(INDIRECT($A1344&\"!F22\")))","v":""},{"$f":"IF(ISERROR(INDIRECT($A1344&\"!F23\")),\"\",(INDIRECT($A1344&\"!F23\")))","v":""},"",{"$f":"IF(ISERROR(INDIRECT($A1344&\"!F24\")),\"\",(INDIRECT($A1344&\"!F24\")))","v":""},{"$f":"IF(ISERROR(INDIRECT($A1344&\"!F25\")),\"\",(INDIRECT($A1344&\"!F25\")))","v":""},{"$f":"IF(ISERROR(INDIRECT($A1344&\"!F26\")),\"\",(INDIRECT($A1344&\"!F26\")))","v":""},{"$f":"IF(ISERROR(INDIRECT($A1344&\"!F27\")),\"\",(INDIRECT($A1344&\"!F27\")))","v":""},{"$f":"IF(ISERROR(INDIRECT($A1344&\"!F28\")),\"\",(INDIRECT($A1344&\"!F28\")))","v":""},{"$f":"IF(ISERROR(INDIRECT($A1344&\"!F29\")),\"\",(INDIRECT($A1344&\"!F29\")))","v":""},{"$f":"IF(ISERROR(INDIRECT($A1344&\"!F30\")),\"\",(INDIRECT($A1344&\"!F30\")))","v":""},{"$f":"IF(ISERROR(INDIRECT($A1344&\"!F31\")),\"\",(INDIRECT($A1344&\"!F31\")))","v":""},{"$f":"IF(ISERROR(INDIRECT($A1344&\"!F32\")),\"\",(INDIRECT($A1344&\"!F32\")))","v":""},{"$f":"IF(ISERROR(INDIRECT($A1344&\"!F33\")),\"\",(INDIRECT($A1344&\"!F33\")))","v":""},{"$f":"IF(ISERROR(INDIRECT($A1344&\"!F34\")),\"\",(INDIRECT($A1344&\"!F34\")))","v":""},{"$f":"IF(ISERROR(INDIRECT($A1344&\"!F35\")),\"\",(INDIRECT($A1344&\"!F35\")))","v":""}]
[null,"","","","","","","","","","","","","","","",""]
[null,"","","",{"$f":"IF(D1346<>\"\",DATEDIF(D1346,TODAY(),\"y\"),\"\")","v":""},"","","","","","","","","","","",""]
[null,"","","","","","","","","","","","","","","",""]
[null,"","","","","","","","","","","","","","","",""]
[null,"","","","","","","","","","","","","","","",""]
[null,"","","","","","","","","","","","","","","",""]
[null,"","","","","","","","","","","","","","","",""]
[null,"","","","","","","","","","","","","","","",""]
[null,"","","","","","","","","","","","","","","",""]
[null,"","","","","","","","","","","","","","","",""]
[null,"","","","","","","","","","","","","","","",""]
[null,"","","","","","","","","","","","","","","",""]
[null,"","","","","","","","","","","","","","","",""]
[null,"","","","","","","","","","","","","","","",""]
[null,"","","","","","","","","","","","","","","",""]
[null,"","","","","","","","","","","","","","","",""]
[null,"","","","","","","","","","","","","","","",""]
[null,"","","","","","","","","","","","","","","",""]
[null,"","","","","","","","","","","","","","","",""]
[null,"","","","","","","","","","","","","","","",""]
[null,"","","","","","","","","","","","","","","",""]
[null,"","","","","","","","","","","","","","","",""]
[null,"","","","","","","","","","","","","","","",""]
[null,"","","","","","","","","","","","","","","",""]
[null,"","","","","","","","","","","","","","","",""]
[null,"","","","","","","","","","","","","","","",""]
[null,"","","","","","","","","","","","","","","",""]
[null,"","","","","","","","","","","","","","","",""]
[null,"","","","","","","","","","","","","","","",""]
[null,"","","","","","","","","","","","","","","",""]
[null,"","","","","","","","","","","","","","","",""]
[null,"","","","","","","","","","","","","","","",""]
[null,"","","","","","","","","","","","","","","",""]
[null,"","","","","","","","","","","","","","","",""]
[null,"","","","","","","","","","","","","","","",""]
[null,"","","","","","","","","","","","","","","",""]
[null,"","","","","","","","","","","","","","","",""]
[null,"","","","","","","","","","","","","","","",""]
[null,"","","","","","","","","","","","","","","",""]
[null,"","","","","","","","","","","","","","","",""]
[null,"","","","","","","","","","","","","","","",""]
[null,"","","","","","","","","","","","","","","",""]
[null,"","","","","","","","","","","","","","","",""]
[null,"","","","","","","","","","","","","","","",""]
[null,"","","","","","","","","","","","","","","",""]
[null,"","","","","","","","","","","","","","","",""]
[null,"","","","","","","","","","","","","","","",""]
[null,"","","","","","","","","","","","","","","",""]
[null,"","","","","","","","","","","","","","","",""]
[null,"","","","","","","","","","","","","","","",""]
[null,"","","","","","","","","","","","","","","",""]
[null,"","","","","","","","","","","","","","","",""]
[null,"","","","","","","","","","","","","","","",""]
[null,"","","","","","","","","","","","","","","",""]
[null,"","","","","","","","","","","","","","","",""]
[null,"","","","","","","","","","","","","","","",""]
[null,"","","","","","","","","","","","","","","",""]
[null,"","","","","","","","","","","","","","","",""]
[null,"","","","","","","","","","","","","","","",""]
[null,"","","","","","","","","","","","","","","",""]
[null,"","","","","","","","","","","","","","","",""]
[null,"","","","","","","","","","","","","","","",""]
[null,"","","","","","","","","","","","","","","",""]
[null,{"$f":"IF(ISERROR(INDIRECT($A1408&\"!F21\")),\"\",(INDIRECT($A1408&\"!F21\")))","v":""},{"$f":"IF(ISERROR(INDIRECT($A1408&\"!F22\")),\"\",(INDIRECT($A1408&\"!F22\")))","v":""},{"$f":"IF(ISERROR(INDIRECT($A1408&\"!F23\")),\"\",(INDIRECT($A1408&\"!F23\")))","v":""},"",{"$f":"IF(ISERROR(INDIRECT($A1408&\"!F24\")),\"\",(INDIRECT($A1408&\"!F24\")))","v":""},{"$f":"IF(ISERROR(INDIRECT($A1408&\"!F25\")),\"\",(INDIRECT($A1408&\"!F25\")))","v":""},{"$f":"IF(ISERROR(INDIRECT($A1408&\"!F26\")),\"\",(INDIRECT($A1408&\"!F26\")))","v":""},{"$f":"IF(ISERROR(INDIRECT($A1408&\"!F27\")),\"\",(INDIRECT($A1408&\"!F27\")))","v":""},{"$f":"IF(ISERROR(INDIRECT($A1408&\"!F28\")),\"\",(INDIRECT($A1408&\"!F28\")))","v":""},{"$f":"IF(ISERROR(INDIRECT($A1408&\"!F29\")),\"\",(INDIRECT($A1408&\"!F29\")))","v":""},{"$f":"IF(ISERROR(INDIRECT($A1408&\"!F30\")),\"\",(INDIRECT($A1408&\"!F30\")))","v":""},{"$f":"IF(ISERROR(INDIRECT($A1408&\"!F31\")),\"\",(INDIRECT($A1408&\"!F31\")))","v":""},{"$f":"IF(ISERROR(INDIRECT($A1408&\"!F32\")),\"\",(INDIRECT($A1408&\"!F32\")))","v":""},{"$f":"IF(ISERROR(INDIRECT($A1408&\"!F33\")),\"\",(INDIRECT($A1408&\"!F33\")))","v":""},{"$f":"IF(ISERROR(INDIRECT($A1408&\"!F34\")),\"\",(INDIRECT($A1408&\"!F34\")))","v":""},{"$f":"IF(ISERROR(INDIRECT($A1408&\"!F35\")),\"\",(INDIRECT($A1408&\"!F35\")))","v":""}]
[null,"","","","","","","","","","","","","","","",""]
[null,"","","",{"$f":"IF(D1410<>\"\",DATEDIF(D1410,TODAY(),\"y\"),\"\")","v":""},"","","","","","","","","","","",""]
[null,"","","","","","","","","","","","","","","",""]
[null,"","","","","","","","","","","","","","","",""]
[null,"","","","","","","","","","","","","","","",""]
[null,"","","","","","","","","","","","","","","",""]
[null,"","","","","","","","","","","","","","","",""]
[null,"","","","","","","","","","","","","","","",""]
[null,"","","","","","","","","","","","","","","",""]
[null,"","","","","","","","","","","","","","","",""]
[null,"","","","","","","","","","","","","","","",""]
[null,"","","","","","","","","","","","","","","",""]
[null,"","","","","","","","","","","","","","","",""]
[null,"","","","","","","","","","","","","","","",""]
[null,"","","","","","","","","","","","","","","",""]
[null,"","","","","","","","","","","","","","","",""]
[null,"","","","","","","","","","","","","","","",""]
[null,"","","","","","","","","","","","","","","",""]
[null,"","","","","","","","","","","","","","","",""]
[null,"","","","","","","","","","","","","","","",""]
[null,"","","","","","","","","","","","","","","",""]
[null,"","","","","","","","","","","","","","","",""]
[null,"","","","","","","","","","","","","","","",""]
[null,"","","","","","","","","","","","","","","",""]
[null,"","","","","","","","","","","","","","","",""]
[null,"","","","","","","","","","","","","","","",""]
[null,"","","","","","","","","","","","","","","",""]
[null,"","","","","","","","","","","","","","","",""]
[null,"","","","","","","","","","","","","","","",""]
[null,"","","","","","","","","","","","","","","",""]
[null,"","","","","","","","","","","","","","","",""]
[null,"","","","","","","","","","","","","","","",""]
[null,"","","","","","","","","","","","","","","",""]
[null,"","","","","","","","","","","","","","","",""]
[null,"","","","","","","","","","","","","","","",""]
[null,"","","","","","","","","","","","","","","",""]
[null,"","","","","","","","","","","","","","","",""]
[null,"","","","","","","","","","","","","","","",""]
[null,"","","","","","","","","","","","","","","",""]
[null,"","","","","","","","","","","","","","","",""]
[null,"","","","","","","","","","","","","","","",""]
[null,"","","","","","","","","","","","","","","",""]
[null,"","","","","","","","","","","","","","","",""]
[null,"","","","","","","","","","","","","","","",""]
[null,"","","","","","","","","","","","","","","",""]
[null,"","","","","","","","","","","","","","","",""]
[null,"","","","","","","","","","","","","","","",""]
[null,"","","","","","","","","","","","","","","",""]
[null,"","","","","","","","","","","","","","","",""]
[null,"","","","","","","","","","","","","","","",""]
[null,"","","","","","","","","","","","","","","",""]
[null,"","","","","","","","","","","","","","","",""]
[null,"","","","","","","","","","","","","","","",""]
[null,"","","","","","","","","","","","","","","",""]
[null,"","","","","","","","","","","","","","","",""]
[null,"","","","","","","","","","","","","","","",""]
[null,"","","","","","","","","","","","","","","",""]
[null,"","","","","","","","","","","","","","","",""]
[null,"","","","","","","","","","","","","","","",""]
[null,"","","","","","","","","","","","","","","",""]
[null,"","","","","","","","","","","","","","","",""]
[null,"","","","","","","","","","","","","","","",""]
[null,"","","","","","","","","","","","","","","",""]
[null,{"$f":"IF(ISERROR(INDIRECT($A1472&\"!F21\")),\"\",(INDIRECT($A1472&\"!F21\")))","v":""},{"$f":"IF(ISERROR(INDIRECT($A1472&\"!F22\")),\"\",(INDIRECT($A1472&\"!F22\")))","v":""},{"$f":"IF(ISERROR(INDIRECT($A1472&\"!F23\")),\"\",(INDIRECT($A1472&\"!F23\")))","v":""},"",{"$f":"IF(ISERROR(INDIRECT($A1472&\"!F24\")),\"\",(INDIRECT($A1472&\"!F24\")))","v":""},{"$f":"IF(ISERROR(INDIRECT($A1472&\"!F25\")),\"\",(INDIRECT($A1472&\"!F25\")))","v":""},{"$f":"IF(ISERROR(INDIRECT($A1472&\"!F26\")),\"\",(INDIRECT($A1472&\"!F26\")))","v":""},{"$f":"IF(ISERROR(INDIRECT($A1472&\"!F27\")),\"\",(INDIRECT($A1472&\"!F27\")))","v":""},{"$f":"IF(ISERROR(INDIRECT($A1472&\"!F28\")),\"\",(INDIRECT($A1472&\"!F28\")))","v":""},{"$f":"IF(ISERROR(INDIRECT($A1472&\"!F29\")),\"\",(INDIRECT($A1472&\"!F29\")))","v":""},{"$f":"IF(ISERROR(INDIRECT($A1472&\"!F30\")),\"\",(INDIRECT($A1472&\"!F30\")))","v":""},{"$f":"IF(ISERROR(INDIRECT($A1472&\"!F31\")),\"\",(INDIRECT($A1472&\"!F31\")))","v":""},{"$f":"IF(ISERROR(INDIRECT($A1472&\"!F32\")),\"\",(INDIRECT($A1472&\"!F32\")))","v":""},{"$f":"IF(ISERROR(INDIRECT($A1472&\"!F33\")),\"\",(INDIRECT($A1472&\"!F33\")))","v":""},{"$f":"IF(ISERROR(INDIRECT($A1472&\"!F34\")),\"\",(INDIRECT($A1472&\"!F34\")))","v":""},{"$f":"IF(ISERROR(INDIRECT($A1472&\"!F35\")),\"\",(INDIRECT($A1472&\"!F35\")))","v":""}]
[null,"","","","","","","","","","","","","","","",""]
[null,"","","",{"$f":"IF(D1474<>\"\",DATEDIF(D1474,TODAY(),\"y\"),\"\")","v":""},"","","","","","","","","","","",""]
[null,"","","","","","","","","","","","","","","",""]
[null,"","","","","","","","","","","","","","","",""]
[null,"","","","","","","","","","","","","","","",""]
[null,"","","","","","","","","","","","","","","",""]
[null,"","","","","","","","","","","","","","","",""]
[null,"","","","","","","","","","","","","","","",""]
[null,"","","","","","","","","","","","","","","",""]
[null,"","","","","","","","","","","","","","","",""]
[null,"","","","","","","","","","","","","","","",""]
[null,"","","","","","","","","","","","","","","",""]
[null,"","","","","","","","","","","","","","","",""]
[null,"","","","","","","","","","","","","","","",""]
[null,"","","","","","","","","","","","","","","",""]
[null,"","","","","","","","","","","","","","","",""]
[null,"","","","","","","","","","","","","","","",""]
[null,"","","","","","","","","","","","","","","",""]
[null,"","","","","","","","","","","","","","","",""]
[null,"","","","","","","","","","","","","","","",""]
[null,"","","","","","","","","","","","","","","",""]
[null,"","","","","","","","","","","","","","","",""]
[null,"","","","","","","","","","","","","","","",""]
[null,"","","","","","","","","","","","","","","",""]
[null,"","","","","","","","","","","","","","","",""]
[null,"","","","","","","","","","","","","","","",""]
[null,"","","","","","","","","","","","","","","",""]
[null,"","","","","","","","","","","","","","","",""]
[null,"","","","","","","","","","","","","","","",""]
[null,"","","","","","","","","","","","","","","",""]
[null,"","","","","","","","","","","","","","","",""]
[null,"","","","","","","","","","","","","","","",""]
[null,"","","","","","","","","","","","","","","",""]
[null,"","","","","","","","","","","","","","","",""]
[null,"","","","","","","","","","","","","","","",""]
[null,"","","","","","","","","","","","","","","",""]
[null,"","","","","","","","","","","","","","","",""]
[null,"","","","","","","","","","","","","","","",""]
[null,"","","","","","","","","","","","","","","",""]
[null,"","","","","","","","","","","","","","","",""]
[null,"","","","","","","","","","","","","","","",""]
[null,"","","","","","","","","","","","","","","",""]
[null,"","","","","","","","","","","","","","","",""]
[null,"","","","","","","","","","","","","","","",""]
[null,"","","","","","","","","","","","","","","",""]
[null,"","","","","","","","","","","","","","","",""]
[null,"","","","","","","","","","","","","","","",""]
[null,"","","","","","","","","","","","","","","",""]
[null,"","","","","","","","","","","","","","","",""]
[null,"","","","","","","","","","","","","","","",""]
[null,"","","","","","","","","","","","","","","",""]
[null,"","","","","","","","","","","","","","","",""]
[null,"","","","","","","","","","","","","","","",""]
[null,"","","","","","","","","","","","","","","",""]
[null,"","","","","","","","","","","","","","","",""]
[null,"","","","","","","","","","","","","","","",""]
[null,"","","","","","","","","","","","","","","",""]
[null,"","","","","","","","","","","","","","","",""]
[null,"","","","","","","","","","","","","","","",""]
[null,"","","","","","","","","","","","","","","",""]
[null,"","","","","","","","","","","","","","","",""]
[null,"","","","","","","","","","","","","","","",""]
[null,"","","","","","","","","","","","","","","",""]
[null,{"$f":"IF(ISERROR(INDIRECT($A1536&\"!F21\")),\"\",(INDIRECT($A1536&\"!F21\")))","v":""},{"$f":"IF(ISERROR(INDIRECT($A1536&\"!F22\")),\"\",(INDIRECT($A1536&\"!F22\")))","v":""},{"$f":"IF(ISERROR(INDIRECT($A1536&\"!F23\")),\"\",(INDIRECT($A1536&\"!F23\")))","v":""},"",{"$f":"IF(ISERROR(INDIRECT($A1536&\"!F24\")),\"\",(INDIRECT($A1536&\"!F24\")))","v":""},{"$f":"IF(ISERROR(INDIRECT($A1536&\"!F25\")),\"\",(INDIRECT($A1536&\"!F25\")))","v":""},{"$f":"IF(ISERROR(INDIRECT($A1536&\"!F26\")),\"\",(INDIRECT($A1536&\"!F26\")))","v":""},{"$f":"IF(ISERROR(INDIRECT($A1536&\"!F27\")),\"\",(INDIRECT($A1536&\"!F27\")))","v":""},{"$f":"IF(ISERROR(INDIRECT($A1536&\"!F28\")),\"\",(INDIRECT($A1536&\"!F28\")))","v":""},{"$f":"IF(ISERROR(INDIRECT($A1536&\"!F29\")),\"\",(INDIRECT($A1536&\"!F29\")))","v":""},{"$f":"IF(ISERROR(INDIRECT($A1536&\"!F30\")),\"\",(INDIRECT($A1536&\"!F30\")))","v":""},{"$f":"IF(ISERROR(INDIRECT($A1536&\"!F31\")),\"\",(INDIRECT($A1536&\"!F31\")))","v":""},{"$f":"IF(ISERROR(INDIRECT($A1536&\"!F32\")),\"\",(INDIRECT($A1536&\"!F32\")))","v":""},{"$f":"IF(ISERROR(INDIRECT($A1536&\"!F33\")),\"\",(INDIRECT($A1536&\"!F33\")))","v":""},{"$f":"IF(ISERROR(INDIRECT($A1536&\"!F34\")),\"\",(INDIRECT($A1536&\"!F34\")))","v":""},{"$f":"IF(ISERROR(INDIRECT($A1536&\"!F35\")),\"\",(INDIRECT($A1536&\"!F35\")))","v":""}]
[null,"","","","","","","","","","","","","","","",""]
[null,"","","",{"$f":"IF(D1538<>\"\",DATEDIF(D1538,TODAY(),\"y\"),\"\")","v":""},"","","","","","","","","","","",""]
[null,"","","","","","","","","","","","","","","",""]
[null,"","","","","","","","","","","","","","","",""]
[null,"","","","","","","","","","","","","","","",""]
[null,"","","","","","","","","","","","","","","",""]
[null,"","","","","","","","","","","","","","","",""]
[null,"","","","","","","","","","","","","","","",""]
[null,"","","","","","","","","","","","","","","",""]
[null,"","","","","","","","","","","","","","","",""]
[null,"","","","","","","","","","","","","","","",""]
[null,"","","","","","","","","","","","","","","",""]
[null,"","","","","","","","","","","","","","","",""]
[null,"","","","","","","","","","","","","","","",""]
[null,"","","","","","","","","","","","","","","",""]
[null,"","","","","","","","","","","","","","","",""]
[null,"","","","","","","","","","","","","","","",""]
[null,"","","","","","","","","","","","","","","",""]
[null,"","","","","","","","","","","","","","","",""]
[null,"","","","","","","","","","","","","","","",""]
[null,"","","","","","","","","","","","","","","",""]
[null,"","","","","","","","","","","","","","","",""]
[null,"","","","","","","","","","","","","","","",""]
[null,"","","","","","","","","","","","","","","",""]
[null,"","","","","","","","","","","","","","","",""]
[null,"","","","","","","","","","","","","","","",""]
[null,"","","","","","","","","","","","","","","",""]
[null,"","","","","","","","","","","","","","","",""]
[null,"","","","","","","","","","","","","","","",""]
[null,"","","","","","","","","","","","","","","",""]
[null,"","","","","","","","","","","","","","","",""]
[null,"","","","","","","","","","","","","","","",""]
[null,"","","","","","","","","","","","","","","",""]
[null,"","","","","","","","","","","","","","","",""]
[null,"","","","","","","","","","","","","","","",""]
[null,"","","","","","","","","","","","","","","",""]
[null,"","","","","","","","","","","","","","","",""]
[null,"","","","","","","","","","","","","","","",""]
[null,"","","","","","","","","","","","","","","",""]
[null,"","","","","","","","","","","","","","","",""]
[null,"","","","","","","","","","","","","","","",""]
[null,"","","","","","","","","","","","","","","",""]
[null,"","","","","","","","","","","","","","","",""]
[null,"","","","","","","","","","","","","","","",""]
[null,"","","","","","","","","","","","","","","",""]
[null,"","","","","","","","","","","","","","","",""]
[null,"","","","","","","","","","","","","","","",""]
[null,"","","","","","","","","","","","","","","",""]
[null,"","","","","","","","","","","","","","","",""]
[null,"","","","","","","","","","","","","","","",""]
[null,"","","","","","","","","","","","","","","",""]
[null,"","","","","","","","","","","","","","","",""]
[null,"","","","","","","","","","","","","","","",""]
[null,"","","","","","","","","","","","","","","",""]
[null,"","","","","","","","","","","","","","","",""]
[null,"","","","","","","","","","","","","","","",""]
[null,"","","","","","","","","","","","","","","",""]
[null,"","","","","","","","","","","","","","","",""]
[null,"","","","","","","","","","","","","","","",""]
[null,"","","","","","","","","","","","","","","",""]
[null,"","","","","","","","","","","","","","","",""]
[null,"","","","","","","","","","","","","","","",""]
[null,"","","","","","","","","","","","","","","",""]
[null,{"$f":"IF(ISERROR(INDIRECT($A1600&\"!F21\")),\"\",(INDIRECT($A1600&\"!F21\")))","v":""},{"$f":"IF(ISERROR(INDIRECT($A1600&\"!F22\")),\"\",(INDIRECT($A1600&\"!F22\")))","v":""},{"$f":"IF(ISERROR(INDIRECT($A1600&\"!F23\")),\"\",(INDIRECT($A1600&\"!F23\")))","v":""},"",{"$f":"IF(ISERROR(INDIRECT($A1600&\"!F24\")),\"\",(INDIRECT($A1600&\"!F24\")))","v":""},{"$f":"IF(ISERROR(INDIRECT($A1600&\"!F25\")),\"\",(INDIRECT($A1600&\"!F25\")))","v":""},{"$f":"IF(ISERROR(INDIRECT($A1600&\"!F26\")),\"\",(INDIRECT($A1600&\"!F26\")))","v":""},{"$f":"IF(ISERROR(INDIRECT($A1600&\"!F27\")),\"\",(INDIRECT($A1600&\"!F27\")))","v":""},{"$f":"IF(ISERROR(INDIRECT($A1600&\"!F28\")),\"\",(INDIRECT($A1600&\"!F28\")))","v":""},{"$f":"IF(ISERROR(INDIRECT($A1600&\"!F29\")),\"\",(INDIRECT($A1600&\"!F29\")))","v":""},{"$f":"IF(ISERROR(INDIRECT($A1600&\"!F30\")),\"\",(INDIRECT($A1600&\"!F30\")))","v":""},{"$f":"IF(ISERROR(INDIRECT($A1600&\"!F31\")),\"\",(INDIRECT($A1600&\"!F31\")))","v":""},{"$f":"IF(ISERROR(INDIRECT($A1600&\"!F32\")),\"\",(INDIRECT($A1600&\"!F32\")))","v":""},{"$f":"IF(ISERROR(INDIRECT($A1600&\"!F33\")),\"\",(INDIRECT($A1600&\"!F33\")))","v":""},{"$f":"IF(ISERROR(INDIRECT($A1600&\"!F34\")),\"\",(INDIRECT($A1600&\"!F34\")))","v":""},{"$f":"IF(ISERROR(INDIRECT($A1600&\"!F35\")),\"\",(INDIRECT($A1600&\"!F35\")))","v":""}]
[null,"","","","","","","","","","","","","","","",""]
[null,"","","",{"$f":"IF(D1602<>\"\",DATEDIF(D1602,TODAY(),\"y\"),\"\")","v":""},"","","","","","","","","","","",""]
[null,"","","","","","","","","","","","","","","",""]
[null,"","","","","","","","","","","","","","","",""]
[null,"","","","","","","","","","","","","","","",""]
[null,"","","","","","","","","","","","","","","",""]
[null,"","","","","","","","","","","","","","","",""]
[null,"","","","","","","","","","","","","","","",""]
[null,"","","","","","","","","","","","","","","",""]
[null,"","","","","","","","","","","","","","","",""]
[null,"","","","","","","","","","","","","","","",""]
[null,"","","","","","","","","","","","","","","",""]
[null,"","","","","","","","","","","","","","","",""]
[null,"","","","","","","","","","","","","","","",""]
[null,"","","","","","","","","","","","","","","",""]
[null,"","","","","","","","","","","","","","","",""]
[null,"","","","","","","","","","","","","","","",""]
[null,"","","","","","","","","","","","","","","",""]
[null,"","","","","","","","","","","","","","","",""]
[null,"","","","","","","","","","","","","","","",""]
[null,"","","","","","","","","","","","","","","",""]
[null,"","","","","","","","","","","","","","","",""]
[null,"","","","","","","","","","","","","","","",""]
[null,"","","","","","","","","","","","","","","",""]
[null,"","","","","","","","","","","","","","","",""]
[null,"","","","","","","","","","","","","","","",""]
[null,"","","","","","","","","","","","","","","",""]
[null,"","","","","","","","","","","","","","","",""]
[null,"","","","","","","","","","","","","","","",""]
[null,"","","","","","","","","","","","","","","",""]
[null,"","","","","","","","","","","","","","","",""]
[null,"","","","","","","","","","","","","","","",""]
[null,"","","","","","","","","","","","","","","",""]
[null,"","","","","","","","","","","","","","","",""]
[null,"","","","","","","","","","","","","","","",""]
[null,"","","","","","","","","","","","","","","",""]
[null,"","","","","","","","","","","","","","","",""]
[null,"","","","","","","","","","","","","","","",""]
[null,"","","","","","","","","","","","","","","",""]
[null,"","","","","","","","","","","","","","","",""]
[null,"","","","","","","","","","","","","","","",""]
[null,"","","","","","","","","","","","","","","",""]
[null,"","","","","","","","","","","","","","","",""]
[null,"","","","","","","","","","","","","","","",""]
[null,"","","","","","","","","","","","","","","",""]
[null,"","","","","","","","","","","","","","","",""]
[null,"","","","","","","","","","","","","","","",""]
[null,"","","","","","","","","","","","","","","",""]
[null,"","","","","","","","","","","","","","","",""]
[null,"","","","","","","","","","","","","","","",""]
[null,"","","","","","","","","","","","","","","",""]
[null,"","","","","","","","","","","","","","","",""]
[null,"","","","","","","","","","","","","","","",""]
[null,"","","","","","","","","","","","","","","",""]
[null,"","","","","","","","","","","","","","","",""]
[null,"","","","","","","","","","","","","","","",""]
[null,"","","","","","","","","","","","","","","",""]
[null,"","","","","","","","","","","","","","","",""]
[null,"","","","","","","","","","","","","","","",""]
[null,"","","","","","","","","","","","","","","",""]
[null,"","","","","","","","","","","","","","","",""]
[null,"","","","","","","","","","","","","","","",""]
[null,"","","","","","","","","","","","","","","",""]
[null,{"$f":"IF(ISERROR(INDIRECT($A1664&\"!F21\")),\"\",(INDIRECT($A1664&\"!F21\")))","v":""},{"$f":"IF(ISERROR(INDIRECT($A1664&\"!F22\")),\"\",(INDIRECT($A1664&\"!F22\")))","v":""},{"$f":"IF(ISERROR(INDIRECT($A1664&\"!F23\")),\"\",(INDIRECT($A1664&\"!F23\")))","v":""},"",{"$f":"IF(ISERROR(INDIRECT($A1664&\"!F24\")),\"\",(INDIRECT($A1664&\"!F24\")))","v":""},{"$f":"IF(ISERROR(INDIRECT($A1664&\"!F25\")),\"\",(INDIRECT($A1664&\"!F25\")))","v":""},{"$f":"IF(ISERROR(INDIRECT($A1664&\"!F26\")),\"\",(INDIRECT($A1664&\"!F26\")))","v":""},{"$f":"IF(ISERROR(INDIRECT($A1664&\"!F27\")),\"\",(INDIRECT($A1664&\"!F27\")))","v":""},{"$f":"IF(ISERROR(INDIRECT($A1664&\"!F28\")),\"\",(INDIRECT($A1664&\"!F28\")))","v":""},{"$f":"IF(ISERROR(INDIRECT($A1664&\"!F29\")),\"\",(INDIRECT($A1664&\"!F29\")))","v":""},{"$f":"IF(ISERROR(INDIRECT($A1664&\"!F30\")),\"\",(INDIRECT($A1664&\"!F30\")))","v":""},{"$f":"IF(ISERROR(INDIRECT($A1664&\"!F31\")),\"\",(INDIRECT($A1664&\"!F31\")))","v":""},{"$f":"IF(ISERROR(INDIRECT($A1664&\"!F32\")),\"\",(INDIRECT($A1664&\"!F32\")))","v":""},{"$f":"IF(ISERROR(INDIRECT($A1664&\"!F33\")),\"\",(INDIRECT($A1664&\"!F33\")))","v":""},{"$f":"IF(ISERROR(INDIRECT($A1664&\"!F34\")),\"\",(INDIRECT($A1664&\"!F34\")))","v":""},{"$f":"IF(ISERROR(INDIRECT($A1664&\"!F35\")),\"\",(INDIRECT($A1664&\"!F35\")))","v":""}]
[null,"","","","","","","","","","","","","","","",""]
[null,"","","",{"$f":"IF(D1666<>\"\",DATEDIF(D1666,TODAY(),\"y\"),\"\")","v":""},"","","","","","","","","","","",""]
[null,"","","","","","","","","","","","","","","",""]
[null,"","","","","","","","","","","","","","","",""]
[null,"","","","","","","","","","","","","","","",""]
[null,"","","","","","","","","","","","","","","",""]
[null,"","","","","","","","","","","","","","","",""]
[null,"","","","","","","","","","","","","","","",""]
[null,"","","","","","","","","","","","","","","",""]
[null,"","","","","","","","","","","","","","","",""]
[null,"","","","","","","","","","","","","","","",""]
[null,"","","","","","","","","","","","","","","",""]
[null,"","","","","","","","","","","","","","","",""]
[null,"","","","","","","","","","","","","","","",""]
[null,"","","","","","","","","","","","","","","",""]
[null,"","","","","","","","","","","","","","","",""]
[null,"","","","","","","","","","","","","","","",""]
[null,"","","","","","","","","","","","","","","",""]
[null,"","","","","","","","","","","","","","","",""]
[null,"","","","","","","","","","","","","","","",""]
[null,"","","","","","","","","","","","","","","",""]
[null,"","","","","","","","","","","","","","","",""]
[null,"","","","","","","","","","","","","","","",""]
[null,"","","","","","","","","","","","","","","",""]
[null,"","","","","","","","","","","","","","","",""]
[null,"","","","","","","","","","","","","","","",""]
[null,"","","","","","","","","","","","","","","",""]
[null,"","","","","","","","","","","","","","","",""]
[null,"","","","","","","","","","","","","","","",""]
[null,"","","","","","","","","","","","","","","",""]
[null,"","","","","","","","","","","","","","","",""]
[null,"","","","","","","","","","","","","","","",""]
[null,"","","","","","","","","","","","","","","",""]
[null,"","","","","","","","","","","","","","","",""]
[null,"","","","","","","","","","","","","","","",""]
[null,"","","","","","","","","","","","","","","",""]
[null,"","","","","","","","","","","","","","","",""]
[null,"","","","","","","","","","","","","","","",""]
[null,"","","","","","","","","","","","","","","",""]
[null,"","","","","","","","","","","","","","","",""]
[null,"","","","","","","","","","","","","","","",""]
[null,"","","","","","","","","","","","","","","",""]
[null,"","","","","","","","","","","","","","","",""]
[null,"","","","","","","","","","","","","","","",""]
[null,"","","","","","","","","","","","","","","",""]
[null,"","","","","","","","","","","","","","","",""]
[null,"","","","","","","","","","","","","","","",""]
[null,"","","","","","","","","","","","","","","",""]
[null,"","","","","","","","","","","","","","","",""]
[null,"","","","","","","","","","","","","","","",""]
[null,"","","","","","","","","","","","","","","",""]
[null,"","","","","","","","","","","","","","","",""]
[null,"","","","","","","","","","","","","","","",""]
[null,"","","","","","","","","","","","","","","",""]
[null,"","","","","","","","","","","","","","","",""]
[null,"","","","","","","","","","","","","","","",""]
[null,"","","","","","","","","","","","","","","",""]
[null,"","","","","","","","","","","","","","","",""]
[null,"","","","","","","","","","","","","","","",""]
[null,"","","","","","","","","","","","","","","",""]
[null,"","","","","","","","","","","","","","","",""]
[null,"","","","","","","","","","","","","","","",""]
[null,"","","","","","","","","","","","","","","",""]
[null,{"$f":"IF(ISERROR(INDIRECT($A1728&\"!F21\")),\"\",(INDIRECT($A1728&\"!F21\")))","v":""},{"$f":"IF(ISERROR(INDIRECT($A1728&\"!F22\")),\"\",(INDIRECT($A1728&\"!F22\")))","v":""},{"$f":"IF(ISERROR(INDIRECT($A1728&\"!F23\")),\"\",(INDIRECT($A1728&\"!F23\")))","v":""},"",{"$f":"IF(ISERROR(INDIRECT($A1728&\"!F24\")),\"\",(INDIRECT($A1728&\"!F24\")))","v":""},{"$f":"IF(ISERROR(INDIRECT($A1728&\"!F25\")),\"\",(INDIRECT($A1728&\"!F25\")))","v":""},{"$f":"IF(ISERROR(INDIRECT($A1728&\"!F26\")),\"\",(INDIRECT($A1728&\"!F26\")))","v":""},{"$f":"IF(ISERROR(INDIRECT($A1728&\"!F27\")),\"\",(INDIRECT($A1728&\"!F27\")))","v":""},{"$f":"IF(ISERROR(INDIRECT($A1728&\"!F28\")),\"\",(INDIRECT($A1728&\"!F28\")))","v":""},{"$f":"IF(ISERROR(INDIRECT($A1728&\"!F29\")),\"\",(INDIRECT($A1728&\"!F29\")))","v":""},{"$f":"IF(ISERROR(INDIRECT($A1728&\"!F30\")),\"\",(INDIRECT($A1728&\"!F30\")))","v":""},{"$f":"IF(ISERROR(INDIRECT($A1728&\"!F31\")),\"\",(INDIRECT($A1728&\"!F31\")))","v":""},{"$f":"IF(ISERROR(INDIRECT($A1728&\"!F32\")),\"\",(INDIRECT($A1728&\"!F32\")))","v":""},{"$f":"IF(ISERROR(INDIRECT($A1728&\"!F33\")),\"\",(INDIRECT($A1728&\"!F33\")))","v":""},{"$f":"IF(ISERROR(INDIRECT($A1728&\"!F34\")),\"\",(INDIRECT($A1728&\"!F34\")))","v":""},{"$f":"IF(ISERROR(INDIRECT($A1728&\"!F35\")),\"\",(INDIRECT($A1728&\"!F35\")))","v":""}]
[null,"","","","","","","","","","","","","","","",""]
[null,"","","",{"$f":"IF(D1730<>\"\",DATEDIF(D1730,TODAY(),\"y\"),\"\")","v":""},"","","","","","","","","","","",""]
[null,"","","","","","","","","","","","","","","",""]
[null,"","","","","","","","","","","","","","","",""]
[null,"","","","","","","","","","","","","","","",""]
[null,"","","","","","","","","","","","","","","",""]
[null,"","","","","","","","","","","","","","","",""]
[null,"","","","","","","","","","","","","","","",""]
[null,"","","","","","","","","","","","","","","",""]
[null,"","","","","","","","","","","","","","","",""]
[null,"","","","","","","","","","","","","","","",""]
[null,"","","","","","","","","","","","","","","",""]
[null,"","","","","","","","","","","","","","","",""]
[null,"","","","","","","","","","","","","","","",""]
[null,"","","","","","","","","","","","","","","",""]
[null,"","","","","","","","","","","","","","","",""]
[null,"","","","","","","","","","","","","","","",""]
[null,"","","","","","","","","","","","","","","",""]
[null,"","","","","","","","","","","","","","","",""]
[null,"","","","","","","","","","","","","","","",""]
[null,"","","","","","","","","","","","","","","",""]
[null,"","","","","","","","","","","","","","","",""]
[null,"","","","","","","","","","","","","","","",""]
[null,"","","","","","","","","","","","","","","",""]
[null,"","","","","","","","","","","","","","","",""]
[null,"","","","","","","","","","","","","","","",""]
[null,"","","","","","","","","","","","","","","",""]
[null,"","","","","","","","","","","","","","","",""]
[null,"","","","","","","","","","","","","","","",""]
[null,"","","","","","","","","","","","","","","",""]
[null,"","","","","","","","","","","","","","","",""]
[null,"","","","","","","","","","","","","","","",""]
[null,"","","","","","","","","","","","","","","",""]
[null,"","","","","","","","","","","","","","","",""]
[null,"","","","","","","","","","","","","","","",""]
[null,"","","","","","","","","","","","","","","",""]
[null,"","","","","","","","","","","","","","","",""]
[null,"","","","","","","","","","","","","","","",""]
[null,"","","","","","","","","","","","","","","",""]
[null,"","","","","","","","","","","","","","","",""]
[null,"","","","","","","","","","","","","","","",""]
[null,"","","","","","","","","","","","","","","",""]
[null,"","","","","","","","","","","","","","","",""]
[null,"","","","","","","","","","","","","","","",""]
[null,"","","","","","","","","","","","","","","",""]
[null,"","","","","","","","","","","","","","","",""]
[null,"","","","","","","","","","","","","","","",""]
[null,"","","","","","","","","","","","","","","",""]
[null,"","","","","","","","","","","","","","","",""]
[null,"","","","","","","","","","","","","","","",""]
[null,"","","","","","","","","","","","","","","",""]
[null,"","","","","","","","","","","","","","","",""]
[null,"","","","","","","","","","","","","","","",""]
[null,"","","","","","","","","","","","","","","",""]
[null,"","","","","","","","","","","","","","","",""]
[null,"","","","","","","","","","","","","","","",""]
[null,"","","","","","","","","","","","","","","",""]
[null,"","","","","","","","","","","","","","","",""]
[null,"","","","","","","","","","","","","","","",""]
[null,"","","","","","","","","","","","","","","",""]
[null,"","","","","","","","","","","","","","","",""]
[null,"","","","","","","","","","","","","","","",""]
[null,"","","","","","","","","","","","","","","",""]
[null,{"$f":"IF(ISERROR(INDIRECT($A1792&\"!F21\")),\"\",(INDIRECT($A1792&\"!F21\")))","v":""},{"$f":"IF(ISERROR(INDIRECT($A1792&\"!F22\")),\"\",(INDIRECT($A1792&\"!F22\")))","v":""},{"$f":"IF(ISERROR(INDIRECT($A1792&\"!F23\")),\"\",(INDIRECT($A1792&\"!F23\")))","v":""},"",{"$f":"IF(ISERROR(INDIRECT($A1792&\"!F24\")),\"\",(INDIRECT($A1792&\"!F24\")))","v":""},{"$f":"IF(ISERROR(INDIRECT($A1792&\"!F25\")),\"\",(INDIRECT($A1792&\"!F25\")))","v":""},{"$f":"IF(ISERROR(INDIRECT($A1792&\"!F26\")),\"\",(INDIRECT($A1792&\"!F26\")))","v":""},{"$f":"IF(ISERROR(INDIRECT($A1792&\"!F27\")),\"\",(INDIRECT($A1792&\"!F27\")))","v":""},{"$f":"IF(ISERROR(INDIRECT($A1792&\"!F28\")),\"\",(INDIRECT($A1792&\"!F28\")))","v":""},{"$f":"IF(ISERROR(INDIRECT($A1792&\"!F29\")),\"\",(INDIRECT($A1792&\"!F29\")))","v":""},{"$f":"IF(ISERROR(INDIRECT($A1792&\"!F30\")),\"\",(INDIRECT($A1792&\"!F30\")))","v":""},{"$f":"IF(ISERROR(INDIRECT($A1792&\"!F31\")),\"\",(INDIRECT($A1792&\"!F31\")))","v":""},{"$f":"IF(ISERROR(INDIRECT($A1792&\"!F32\")),\"\",(INDIRECT($A1792&\"!F32\")))","v":""},{"$f":"IF(ISERROR(INDIRECT($A1792&\"!F33\")),\"\",(INDIRECT($A1792&\"!F33\")))","v":""},{"$f":"IF(ISERROR(INDIRECT($A1792&\"!F34\")),\"\",(INDIRECT($A1792&\"!F34\")))","v":""},{"$f":"IF(ISERROR(INDIRECT($A1792&\"!F35\")),\"\",(INDIRECT($A1792&\"!F35\")))","v":""}]
[null,"","","","","","","","","","","","","","","",""]
[null,"","","",{"$f":"IF(D1794<>\"\",DATEDIF(D1794,TODAY(),\"y\"),\"\")","v":""},"","","","","","","","","","","",""]
[null,"","","","","","","","","","","","","","","",""]
[null,"","","","","","","","","","","","","","","",""]
[null,"","","","","","","","","","","","","","","",""]
[null,"","","","","","","","","","","","","","","",""]
[null,"","","","","","","","","","","","","","","",""]
[null,"","","","","","","","","","","","","","","",""]
[null,"","","","","","","","","","","","","","","",""]
[null,"","","","","","","","","","","","","","","",""]
[null,"","","","","","","","","","","","","","","",""]
[null,"","","","","","","","","","","","","","","",""]
[null,"","","","","","","","","","","","","","","",""]
[null,"","","","","","","","","","","","","","","",""]
[null,"","","","","","","","","","","","","","","",""]
[null,"","","","","","","","","","","","","","","",""]
[null,"","","","","","","","","","","","","","","",""]
[null,"","","","","","","","","","","","","","","",""]
[null,"","","","","","","","","","","","","","","",""]
[null,"","","","","","","","","","","","","","","",""]
[null,"","","","","","","","","","","","","","","",""]
[null,"","","","","","","","","","","","","","","",""]
[null,"","","","","","","","","","","","","","","",""]
[null,"","","","","","","","","","","","","","","",""]
[null,"","","","","","","","","","","","","","","",""]
[null,"","","","","","","","","","","","","","","",""]
[null,"","","","","","","","","","","","","","","",""]
[null,"","","","","","","","","","","","","","","",""]
[null,"","","","","","","","","","","","","","","",""]
[null,"","","","","","","","","","","","","","","",""]
[null,"","","","","","","","","","","","","","","",""]
[null,"","","","","","","","","","","","","","","",""]
[null,"","","","","","","","","","","","","","","",""]
[null,"","","","","","","","","","","","","","","",""]
[null,"","","","","","","","","","","","","","","",""]
[null,"","","","","","","","","","","","","","","",""]
[null,"","","","","","","","","","","","","","","",""]
[null,"","","","","","","","","","","","","","","",""]
[null,"","","","","","","","","","","","","","","",""]
[null,"","","","","","","","","","","","","","","",""]
[null,"","","","","","","","","","","","","","","",""]
[null,"","","","","","","","","","","","","","","",""]
[null,"","","","","","","","","","","","","","","",""]
[null,"","","","","","","","","","","","","","","",""]
[null,"","","","","","","","","","","","","","","",""]
[null,"","","","","","","","","","","","","","","",""]
[null,"","","","","","","","","","","","","","","",""]
[null,"","","","","","","","","","","","","","","",""]
[null,"","","","","","","","","","","","","","","",""]
[null,"","","","","","","","","","","","","","","",""]
[null,"","","","","","","","","","","","","","","",""]
[null,"","","","","","","","","","","","","","","",""]
[null,"","","","","","","","","","","","","","","",""]
[null,"","","","","","","","","","","","","","","",""]
[null,"","","","","","","","","","","","","","","",""]
[null,"","","","","","","","","","","","","","","",""]
[null,"","","","","","","","","","","","","","","",""]
[null,"","","","","","","","","","","","","","","",""]
[null,"","","","","","","","","","","","","","","",""]
[null,"","","","","","","","","","","","","","","",""]
[null,"","","","","","","","","","","","","","","",""]
[null,"","","","","","","","","","","","","","","",""]
[null,"","","","","","","","","","","","","","","",""]
[null,{"$f":"IF(ISERROR(INDIRECT($A1856&\"!F21\")),\"\",(INDIRECT($A1856&\"!F21\")))","v":""},{"$f":"IF(ISERROR(INDIRECT($A1856&\"!F22\")),\"\",(INDIRECT($A1856&\"!F22\")))","v":""},{"$f":"IF(ISERROR(INDIRECT($A1856&\"!F23\")),\"\",(INDIRECT($A1856&\"!F23\")))","v":""},"",{"$f":"IF(ISERROR(INDIRECT($A1856&\"!F24\")),\"\",(INDIRECT($A1856&\"!F24\")))","v":""},{"$f":"IF(ISERROR(INDIRECT($A1856&\"!F25\")),\"\",(INDIRECT($A1856&\"!F25\")))","v":""},{"$f":"IF(ISERROR(INDIRECT($A1856&\"!F26\")),\"\",(INDIRECT($A1856&\"!F26\")))","v":""},{"$f":"IF(ISERROR(INDIRECT($A1856&\"!F27\")),\"\",(INDIRECT($A1856&\"!F27\")))","v":""},{"$f":"IF(ISERROR(INDIRECT($A1856&\"!F28\")),\"\",(INDIRECT($A1856&\"!F28\")))","v":""},{"$f":"IF(ISERROR(INDIRECT($A1856&\"!F29\")),\"\",(INDIRECT($A1856&\"!F29\")))","v":""},{"$f":"IF(ISERROR(INDIRECT($A1856&\"!F30\")),\"\",(INDIRECT($A1856&\"!F30\")))","v":""},{"$f":"IF(ISERROR(INDIRECT($A1856&\"!F31\")),\"\",(INDIRECT($A1856&\"!F31\")))","v":""},{"$f":"IF(ISERROR(INDIRECT($A1856&\"!F32\")),\"\",(INDIRECT($A1856&\"!F32\")))","v":""},{"$f":"IF(ISERROR(INDIRECT($A1856&\"!F33\")),\"\",(INDIRECT($A1856&\"!F33\")))","v":""},{"$f":"IF(ISERROR(INDIRECT($A1856&\"!F34\")),\"\",(INDIRECT($A1856&\"!F34\")))","v":""},{"$f":"IF(ISERROR(INDIRECT($A1856&\"!F35\")),\"\",(INDIRECT($A1856&\"!F35\")))","v":""}]
[null,"","","","","","","","","","","","","","","",""]
[null,"","","",{"$f":"IF(D1858<>\"\",DATEDIF(D1858,TODAY(),\"y\"),\"\")","v":""},"","","","","","","","","","","",""]
[null,"","","","","","","","","","","","","","","",""]
[null,"","","","","","","","","","","","","","","",""]
[null,"","","","","","","","","","","","","","","",""]
[null,"","","","","","","","","","","","","","","",""]
[null,"","","","","","","","","","","","","","","",""]
[null,"","","","","","","","","","","","","","","",""]
[null,"","","","","","","","","","","","","","","",""]
[null,"","","","","","","","","","","","","","","",""]
[null,"","","","","","","","","","","","","","","",""]
[null,"","","","","","","","","","","","","","","",""]
[null,"","","","","","","","","","","","","","","",""]
[null,"","","","","","","","","","","","","","","",""]
[null,"","","","","","","","","","","","","","","",""]
[null,"","","","","","","","","","","","","","","",""]
[null,"","","","","","","","","","","","","","","",""]
[null,"","","","","","","","","","","","","","","",""]
[null,"","","","","","","","","","","","","","","",""]
[null,"","","","","","","","","","","","","","","",""]
[null,"","","","","","","","","","","","","","","",""]
[null,"","","","","","","","","","","","","","","",""]
[null,"","","","","","","","","","","","","","","",""]
[null,"","","","","","","","","","","","","","","",""]
[null,"","","","","","","","","","","","","","","",""]
[null,"","","","","","","","","","","","","","","",""]
[null,"","","","","","","","","","","","","","","",""]
[null,"","","","","","","","","","","","","","","",""]
[null,"","","","","","","","","","","","","","","",""]
[null,"","","","","","","","","","","","","","","",""]
[null,"","","","","","","","","","","","","","","",""]
[null,"","","","","","","","","","","","","","","",""]
[null,"","","","","","","","","","","","","","","",""]
[null,"","","","","","","","","","","","","","","",""]
[null,"","","","","","","","","","","","","","","",""]
[null,"","","","","","","","","","","","","","","",""]
[null,"","","","","","","","","","","","","","","",""]
[null,"","","","","","","","","","","","","","","",""]
[null,"","","","","","","","","","","","","","","",""]
[null,"","","","","","","","","","","","","","","",""]
[null,"","","","","","","","","","","","","","","",""]
[null,"","","","","","","","","","","","","","","",""]
[null,"","","","","","","","","","","","","","","",""]
[null,"","","","","","","","","","","","","","","",""]
[null,"","","","","","","","","","","","","","","",""]
[null,"","","","","","","","","","","","","","","",""]
[null,"","","","","","","","","","","","","","","",""]
[null,"","","","","","","","","","","","","","","",""]
[null,"","","","","","","","","","","","","","","",""]
[null,"","","","","","","","","","","","","","","",""]
[null,"","","","","","","","","","","","","","","",""]
[null,"","","","","","","","","","","","","","","",""]
[null,"","","","","","","","","","","","","","","",""]
[null,"","","","","","","","","","","","","","","",""]
[null,"","","","","","","","","","","","","","","",""]
[null,"","","","","","","","","","","","","","","",""]
[null,"","","","","","","","","","","","","","","",""]
[null,"","","","","","","","","","","","","","","",""]
[null,"","","","","","","","","","","","","","","",""]
[null,"","","","","","","","","","","","","","","",""]
[null,"","","","","","","","","","","","","","","",""]
[null,"","","","","","","","","","","","","","","",""]
[null,"","","","","","","","","","","","","","","",""]
[null,{"$f":"IF(ISERROR(INDIRECT($A1920&\"!F21\")),\"\",(INDIRECT($A1920&\"!F21\")))","v":""},{"$f":"IF(ISERROR(INDIRECT($A1920&\"!F22\")),\"\",(INDIRECT($A1920&\"!F22\")))","v":""},{"$f":"IF(ISERROR(INDIRECT($A1920&\"!F23\")),\"\",(INDIRECT($A1920&\"!F23\")))","v":""},"",{"$f":"IF(ISERROR(INDIRECT($A1920&\"!F24\")),\"\",(INDIRECT($A1920&\"!F24\")))","v":""},{"$f":"IF(ISERROR(INDIRECT($A1920&\"!F25\")),\"\",(INDIRECT($A1920&\"!F25\")))","v":""},{"$f":"IF(ISERROR(INDIRECT($A1920&\"!F26\")),\"\",(INDIRECT($A1920&\"!F26\")))","v":""},{"$f":"IF(ISERROR(INDIRECT($A1920&\"!F27\")),\"\",(INDIRECT($A1920&\"!F27\")))","v":""},{"$f":"IF(ISERROR(INDIRECT($A1920&\"!F28\")),\"\",(INDIRECT($A1920&\"!F28\")))","v":""},{"$f":"IF(ISERROR(INDIRECT($A1920&\"!F29\")),\"\",(INDIRECT($A1920&\"!F29\")))","v":""},{"$f":"IF(ISERROR(INDIRECT($A1920&\"!F30\")),\"\",(INDIRECT($A1920&\"!F30\")))","v":""},{"$f":"IF(ISERROR(INDIRECT($A1920&\"!F31\")),\"\",(INDIRECT($A1920&\"!F31\")))","v":""},{"$f":"IF(ISERROR(INDIRECT($A1920&\"!F32\")),\"\",(INDIRECT($A1920&\"!F32\")))","v":""},{"$f":"IF(ISERROR(INDIRECT($A1920&\"!F33\")),\"\",(INDIRECT($A1920&\"!F33\")))","v":""},{"$f":"IF(ISERROR(INDIRECT($A1920&\"!F34\")),\"\",(INDIRECT($A1920&\"!F34\")))","v":""},{"$f":"IF(ISERROR(INDIRECT($A1920&\"!F35\")),\"\",(INDIRECT($A1920&\"!F35\")))","v":""}]
[null,"","","","","","","","","","","","","","","",""]
[null,"","","",{"$f":"IF(D1922<>\"\",DATEDIF(D1922,TODAY(),\"y\"),\"\")","v":""},"","","","","","","","","","","",""]
[null,"","","","","","","","","","","","","","","",""]
[null,"","","","","","","","","","","","","","","",""]
[null,"","","","","","","","","","","","","","","",""]
[null,"","","","","","","","","","","","","","","",""]
[null,"","","","","","","","","","","","","","","",""]
[null,"","","","","","","","","","","","","","","",""]
[null,"","","","","","","","","","","","","","","",""]
[null,"","","","","","","","","","","","","","","",""]
[null,"","","","","","","","","","","","","","","",""]
[null,"","","","","","","","","","","","","","","",""]
[null,"","","","","","","","","","","","","","","",""]
[null,"","","","","","","","","","","","","","","",""]
[null,"","","","","","","","","","","","","","","",""]
[null,"","","","","","","","","","","","","","","",""]
[null,"","","","","","","","","","","","","","","",""]
[null,"","","","","","","","","","","","","","","",""]
[null,"","","","","","","","","","","","","","","",""]
[null,"","","","","","","","","","","","","","","",""]
[null,"","","","","","","","","","","","","","","",""]
[null,"","","","","","","","","","","","","","","",""]
[null,"","","","","","","","","","","","","","","",""]
[null,"","","","","","","","","","","","","","","",""]
[null,"","","","","","","","","","","","","","","",""]
[null,"","","","","","","","","","","","","","","",""]
[null,"","","","","","","","","","","","","","","",""]
[null,"","","","","","","","","","","","","","","",""]
[null,"","","","","","","","","","","","","","","",""]
[null,"","","","","","","","","","","","","","","",""]
[null,"","","","","","","","","","","","","","","",""]
[null,"","","","","","","","","","","","","","","",""]
[null,"","","","","","","","","","","","","","","",""]
[null,"","","","","","","","","","","","","","","",""]
[null,"","","","","","","","","","","","","","","",""]
[null,"","","","","","","","","","","","","","","",""]
[null,"","","","","","","","","","","","","","","",""]
[null,"","","","","","","","","","","","","","","",""]
[null,"","","","","","","","","","","","","","","",""]
[null,"","","","","","","","","","","","","","","",""]
[null,"","","","","","","","","","","","","","","",""]
[null,"","","","","","","","","","","","","","","",""]
[null,"","","","","","","","","","","","","","","",""]
[null,"","","","","","","","","","","","","","","",""]
[null,"","","","","","","","","","","","","","","",""]
[null,"","","","","","","","","","","","","","","",""]
[null,"","","","","","","","","","","","","","","",""]
[null,"","","","","","","","","","","","","","","",""]
[null,"","","","","","","","","","","","","","","",""]
[null,"","","","","","","","","","","","","","","",""]
[null,"","","","","","","","","","","","","","","",""]
[null,"","","","","","","","","","","","","","","",""]
[null,"","","","","","","","","","","","","","","",""]
[null,"","","","","","","","","","","","","","","",""]
[null,"","","","","","","","","","","","","","","",""]
[null,"","","","","","","","","","","","","","","",""]
[null,"","","","","","","","","","","","","","","",""]
[null,"","","","","","","","","","","","","","","",""]
[null,"","","","","","","","","","","","","","","",""]
[null,"","","","","","","","","","","","","","","",""]
[null,"","","","","","","","","","","","","","","",""]
[null,"","","","","","","","","","","","","","","",""]
[null,"","","","","","","","","","","","","","","",""]
[null,{"$f":"IF(ISERROR(INDIRECT($A1984&\"!F21\")),\"\",(INDIRECT($A1984&\"!F21\")))","v":""},{"$f":"IF(ISERROR(INDIRECT($A1984&\"!F22\")),\"\",(INDIRECT($A1984&\"!F22\")))","v":""},{"$f":"IF(ISERROR(INDIRECT($A1984&\"!F23\")),\"\",(INDIRECT($A1984&\"!F23\")))","v":""},"",{"$f":"IF(ISERROR(INDIRECT($A1984&\"!F24\")),\"\",(INDIRECT($A1984&\"!F24\")))","v":""},{"$f":"IF(ISERROR(INDIRECT($A1984&\"!F25\")),\"\",(INDIRECT($A1984&\"!F25\")))","v":""},{"$f":"IF(ISERROR(INDIRECT($A1984&\"!F26\")),\"\",(INDIRECT($A1984&\"!F26\")))","v":""},{"$f":"IF(ISERROR(INDIRECT($A1984&\"!F27\")),\"\",(INDIRECT($A1984&\"!F27\")))","v":""},{"$f":"IF(ISERROR(INDIRECT($A1984&\"!F28\")),\"\",(INDIRECT($A1984&\"!F28\")))","v":""},{"$f":"IF(ISERROR(INDIRECT($A1984&\"!F29\")),\"\",(INDIRECT($A1984&\"!F29\")))","v":""},{"$f":"IF(ISERROR(INDIRECT($A1984&\"!F30\")),\"\",(INDIRECT($A1984&\"!F30\")))","v":""},{"$f":"IF(ISERROR(INDIRECT($A1984&\"!F31\")),\"\",(INDIRECT($A1984&\"!F31\")))","v":""},{"$f":"IF(ISERROR(INDIRECT($A1984&\"!F32\")),\"\",(INDIRECT($A1984&\"!F32\")))","v":""},{"$f":"IF(ISERROR(INDIRECT($A1984&\"!F33\")),\"\",(INDIRECT($A1984&\"!F33\")))","v":""},{"$f":"IF(ISERROR(INDIRECT($A1984&\"!F34\")),\"\",(INDIRECT($A1984&\"!F34\")))","v":""},{"$f":"IF(ISERROR(INDIRECT($A1984&\"!F35\")),\"\",(INDIRECT($A1984&\"!F35\")))","v":""}]
[null,"","","","","","","","","","","","","","","",""]
[null,"","","",{"$f":"IF(D1986<>\"\",DATEDIF(D1986,TODAY(),\"y\"),\"\")","v":""},"","","","","","","","","","","",""]
[null,"","","","","","","","","","","","","","","",""]
[null,"","","","","","","","","","","","","","","",""]
[null,"","","","","","","","","","","","","","","",""]
[null,"","","","","","","","","","","","","","","",""]
[null,"","","","","","","","","","","","","","","",""]
[null,"","","","","","","","","","","","","","","",""]
[null,"","","","","","","","","","","","","","","",""]
[null,"","","","","","","","","","","","","","","",""]
[null,"","","","","","","","","","","","","","","",""]
[null,"","","","","","","","","","","","","","","",""]
[null,"","","","","","","","","","","","","","","",""]
[null,"","","","","","","","","","","","","","","",""]
[null,"","","","","","","","","","","","","","","",""]
[null,"","","","","","","","","","","","","","","",""]
[null,"","","","","","","","","","","","","","","",""]
[null,"","","","","","","","","","","","","","","",""]
[null,"","","","","","","","","","","","","","","",""]
[null,"","","","","","","","","","","","","","","",""]
[null,"","","","","","","","","","","","","","","",""]
[null,"","","","","","","","","","","","","","","",""]
[null,"","","","","","","","","","","","","","","",""]
[null,"","","","","","","","","","","","","","","",""]
[null,"","","","","","","","","","","","","","","",""]
[null,"","","","","","","","","","","","","","","",""]
[null,"","","","","","","","","","","","","","","",""]
[null,"","","","","","","","","","","","","","","",""]
[null,"","","","","","","","","","","","","","","",""]
[null,"","","","","","","","","","","","","","","",""]
[null,"","","","","","","","","","","","","","","",""]
[null,"","","","","","","","","","","","","","","",""]
[null,"","","","","","","","","","","","","","","",""]
[null,"","","","","","","","","","","","","","","",""]
[null,"","","","","","","","","","","","","","","",""]
[null,"","","","","","","","","","","","","","","",""]
[null,"","","","","","","","","","","","","","","",""]
[null,{"$f":"IF(ISERROR(INDIRECT($A2048&\"!F21\")),\"\",(INDIRECT($A2048&\"!F21\")))","v":""},{"$f":"IF(ISERROR(INDIRECT($A2048&\"!F22\")),\"\",(INDIRECT($A2048&\"!F22\")))","v":""},{"$f":"IF(ISERROR(INDIRECT($A2048&\"!F23\")),\"\",(INDIRECT($A2048&\"!F23\")))","v":""},"",{"$f":"IF(ISERROR(INDIRECT($A2048&\"!F24\")),\"\",(INDIRECT($A2048&\"!F24\")))","v":""},{"$f":"IF(ISERROR(INDIRECT($A2048&\"!F25\")),\"\",(INDIRECT($A2048&\"!F25\")))","v":""},{"$f":"IF(ISERROR(INDIRECT($A2048&\"!F26\")),\"\",(INDIRECT($A2048&\"!F26\")))","v":""},{"$f":"IF(ISERROR(INDIRECT($A2048&\"!F27\")),\"\",(INDIRECT($A2048&\"!F27\")))","v":""},{"$f":"IF(ISERROR(INDIRECT($A2048&\"!F28\")),\"\",(INDIRECT($A2048&\"!F28\")))","v":""},{"$f":"IF(ISERROR(INDIRECT($A2048&\"!F29\")),\"\",(INDIRECT($A2048&\"!F29\")))","v":""},{"$f":"IF(ISERROR(INDIRECT($A2048&\"!F30\")),\"\",(INDIRECT($A2048&\"!F30\")))","v":""},{"$f":"IF(ISERROR(INDIRECT($A2048&\"!F31\")),\"\",(INDIRECT($A2048&\"!F31\")))","v":""},{"$f":"IF(ISERROR(INDIRECT($A2048&\"!F32\")),\"\",(INDIRECT($A2048&\"!F32\")))","v":""},{"$f":"IF(ISERROR(INDIRECT($A2048&\"!F33\")),\"\",(INDIRECT($A2048&\"!F33\")))","v":""},{"$f":"IF(ISERROR(INDIRECT($A2048&\"!F34\")),\"\",(INDIRECT($A2048&\"!F34\")))","v":""},{"$f":"IF(ISERROR(INDIRECT($A2048&\"!F35\")),\"\",(INDIRECT($A2048&\"!F35\")))","v":""}]
[null,"","","","","","","","","","","","","","","",""]
[null,"","","","","","","","","","","","","","","",""]
[null,"","","","","","","","","","","","","","","",""]
[null,"","","","","","","","","","","","","","","",""]
[null,"","","","","","","","","","","","","","","",""]
[null,"","","","","","","","","","","","","","","",""]
[null,"","","","","","","","","","","","","","","",""]
[null,"","","","","","","","","","","","","","","",""]
[null,"","","","","","","","","","","","","","","",""]
[null,"","","","","","","","","","","","","","","",""]
[null,"","","","","","","","","","","","","","","",""]
[null,"","","","","","","","","","","","","","","",""]
[null,"","","","","","","","","","","","","","","",""]
[null,"","","","","","","","","","","","","","","",""]
[null,"","","","","","","","","","","","","","","",""]
[null,"","","","","","","","","","","","","","","",""]
[null,"","","","","","","","","","","","","","","",""]
[null,"","","","","","","","","","","","","","","",""]
[null,"","","","","","","","","","","","","","","",""]
[null,"","","","","","","","","","","","","","","",""]
[null,"","","","","","","","","","","","","","","",""]
[null,"","","","","","","","","","","","","","","",""]
[null,"","","","","","","","","","","","","","","",""]
[null,"","","","","","","","","","","","","","","",""]
[null,"","","","","","","","","","","","","","","",""]
[null,"","","","","","","","","","","","","","","",""]
[null,"","","","","","","","","","","","","","","",""]
[null,"","","","","","","","","","","","","","","",""]
[null,"","","",{"$f":"IF(D2114<>\"\",DATEDIF(D2114,TODAY(),\"y\"),\"\")","v":""},"","","","","","","","","","","",""]
[null,"","","","","","","","","","","","","","","",""]
[null,"","","","","","","","","","","","","","","",""]
[null,"","","","","","","","","","","","","","","",""]
[null,"","","","","","","","","","","","","","","",""]
[null,"","","","","","","","","","","","","","","",""]
[null,"","","","","","","","","","","","","","","",""]
[null,"","","","","","","","","","","","","","","",""]
[null,"","","","","","","","","","","","","","","",""]
[null,"","","","","","","","","","","","","","","",""]
[null,"","","","","","","","","","","","","","","",""]
[null,"","","","","","","","","","","","","","","",""]
[null,"","","","","","","","","","","","","","","",""]
[null,"","","","","","","","","","","","","","","",""]
[null,"","","","","","","","","","","","","","","",""]
[null,"","","","","","","","","","","","","","","",""]
[null,"","","","","","","","","","","","","","","",""]
[null,"","","","","","","","","","","","","","","",""]
[null,"","","","","","","","","","","","","","","",""]
[null,"","","","","","","","","","","","","","","",""]
[null,"","","","","","","","","","","","","","","",""]
[null,"","","","","","","","","","","","","","","",""]
[null,"","","","","","","","","","","","","","","",""]
[null,"","","","","","","","","","","","","","","",""]
[null,"","","","","","","","","","","","","","","",""]
[null,"","","","","","","","","","","","","","","",""]
[null,"","","","","","","","","","","","","","","",""]
[null,"","","","","","","","","","","","","","","",""]
[null,"","","","","","","","","","","","","","","",""]
[null,"","","",{"$f":"IF(D2178<>\"\",DATEDIF(D2178,TODAY(),\"y\"),\"\")","v":""},"","","","","","","","","","","",""]
[null,"","","","","","","","","","","","","","","",""]
[null,"","","","","","","","","","","","","","","",""]
[null,"","","","","","","","","","","","","","","",""]
[null,"","","","","","","","","","","","","","","",""]
[null,"","","","","","","","","","","","","","","",""]
[null,"","","","","","","","","","","","","","","",""]
[null,"","","","","","","","","","","","","","","",""]
[null,"","","","","","","","","","","","","","","",""]
[null,"","","","","","","","","","","","","","","",""]
[null,"","","","","","","","","","","","","","","",""]
[null,"","","","","","","","","","","","","","","",""]
[null,"","","","","","","","","","","","","","","",""]
[null,"","","","","","","","","","","","","","","",""]
[null,"","","","","","","","","","","","","","","",""]
[null,"","","","","","","","","","","","","","","",""]
[null,"","","","","","","","","","","","","","","",""]
[null,"","","","","","","","","","","","","","","",""]
[null,"","","","","","","","","","","","","","","",""]
[null,"","","","","","","","","","","","","","","",""]
[null,"","","","","","","","","","","","","","","",""]
[null,"","","","","","","","","","","","","","","",""]
[null,"","","","","","","","","","","","","","","",""]
[null,"","","","","","","","","","","","","","","",""]
[null,"","","","","","","","","","","","","","","",""]
[null,"","","","","","","","","","","","","","","",""]
[null,"","","","","","","","","","","","","","","",""]
[null,{"$f":"IF(ISERROR(INDIRECT($A2240&\"!F21\")),\"\",(INDIRECT($A2240&\"!F21\")))","v":""},{"$f":"IF(ISERROR(INDIRECT($A2240&\"!F22\")),\"\",(INDIRECT($A2240&\"!F22\")))","v":""},{"$f":"IF(ISERROR(INDIRECT($A2240&\"!F23\")),\"\",(INDIRECT($A2240&\"!F23\")))","v":""},"",{"$f":"IF(ISERROR(INDIRECT($A2240&\"!F24\")),\"\",(INDIRECT($A2240&\"!F24\")))","v":""},{"$f":"IF(ISERROR(INDIRECT($A2240&\"!F25\")),\"\",(INDIRECT($A2240&\"!F25\")))","v":""},{"$f":"IF(ISERROR(INDIRECT($A2240&\"!F26\")),\"\",(INDIRECT($A2240&\"!F26\")))","v":""},{"$f":"IF(ISERROR(INDIRECT($A2240&\"!F27\")),\"\",(INDIRECT($A2240&\"!F27\")))","v":""},{"$f":"IF(ISERROR(INDIRECT($A2240&\"!F28\")),\"\",(INDIRECT($A2240&\"!F28\")))","v":""},{"$f":"IF(ISERROR(INDIRECT($A2240&\"!F29\")),\"\",(INDIRECT($A2240&\"!F29\")))","v":""},{"$f":"IF(ISERROR(INDIRECT($A2240&\"!F30\")),\"\",(INDIRECT($A2240&\"!F30\")))","v":""},{"$f":"IF(ISERROR(INDIRECT($A2240&\"!F31\")),\"\",(INDIRECT($A2240&\"!F31\")))","v":""},{"$f":"IF(ISERROR(INDIRECT($A2240&\"!F32\")),\"\",(INDIRECT($A2240&\"!F32\")))","v":""},{"$f":"IF(ISERROR(INDIRECT($A2240&\"!F33\")),\"\",(INDIRECT($A2240&\"!F33\")))","v":""},{"$f":"IF(ISERROR(INDIRECT($A2240&\"!F34\")),\"\",(INDIRECT($A2240&\"!F34\")))","v":""},{"$f":"IF(ISERROR(INDIRECT($A2240&\"!F35\")),\"\",(INDIRECT($A2240&\"!F35\")))","v":""}]
[null,"","","","","","","","","","","","","","","",""]
[null,"","","","","","","","","","","","","","","",""]
[null,"","","","","","","","","","","","","","","",""]
[null,"","","","","","","","","","","","","","","",""]
[null,"","","","","","","","","","","","","","","",""]
[null,"","","","","","","","","","","","","","","",""]
[null,"","","","","","","","","","","","","","","",""]
[null,"","","","","","","","","","","","","","","",""]
[null,"","","","","","","","","","","","","","","",""]
[null,"","","","","","","","","","","","","","","",""]
[null,"","","","","","","","","","","","","","","",""]
[null,"","","","","","","","","","","","","","","",""]
[null,"","","","","","","","","","","","","","","",""]
[null,"","","","","","","","","","","","","","","",""]
[null,"","","","","","","","","","","","","","","",""]
[null,"","","","","","","","","","","","","","","",""]
[null,"","","","","","","","","","","","","","","",""]
[null,"","","","","","","","","","","","","","","",""]
[null,"","","","","","","","","","","","","","","",""]
[null,"","","","","","","","","","","","","","","",""]
[null,"","","","","","","","","","","","","","","",""]
[null,"","","","","","","","","","","","","","","",""]
[null,"","","","","","","","","","","","","","","",""]
[null,"","","","","","","","","","","","","","","",""]
[null,"","","","","","","","","","","","","","","",""]
[null,"","","","","","","","","","","","","","","",""]
[null,"","","","","","","","","","","","","","","",""]
[null,"","","","","","","","","","","","","","","",""]
[null,{"$f":"IF(ISERROR(INDIRECT($A2304&\"!F21\")),\"\",(INDIRECT($A2304&\"!F21\")))","v":""},{"$f":"IF(ISERROR(INDIRECT($A2304&\"!F22\")),\"\",(INDIRECT($A2304&\"!F22\")))","v":""},{"$f":"IF(ISERROR(INDIRECT($A2304&\"!F23\")),\"\",(INDIRECT($A2304&\"!F23\")))","v":""},"",{"$f":"IF(ISERROR(INDIRECT($A2304&\"!F24\")),\"\",(INDIRECT($A2304&\"!F24\")))","v":""},{"$f":"IF(ISERROR(INDIRECT($A2304&\"!F25\")),\"\",(INDIRECT($A2304&\"!F25\")))","v":""},{"$f":"IF(ISERROR(INDIRECT($A2304&\"!F26\")),\"\",(INDIRECT($A2304&\"!F26\")))","v":""},{"$f":"IF(ISERROR(INDIRECT($A2304&\"!F27\")),\"\",(INDIRECT($A2304&\"!F27\")))","v":""},{"$f":"IF(ISERROR(INDIRECT($A2304&\"!F28\")),\"\",(INDIRECT($A2304&\"!F28\")))","v":""},{"$f":"IF(ISERROR(INDIRECT($A2304&\"!F29\")),\"\",(INDIRECT($A2304&\"!F29\")))","v":""},{"$f":"IF(ISERROR(INDIRECT($A2304&\"!F30\")),\"\",(INDIRECT($A2304&\"!F30\")))","v":""},{"$f":"IF(ISERROR(INDIRECT($A2304&\"!F31\")),\"\",(INDIRECT($A2304&\"!F31\")))","v":""},{"$f":"IF(ISERROR(INDIRECT($A2304&\"!F32\")),\"\",(INDIRECT($A2304&\"!F32\")))","v":""},{"$f":"IF(ISERROR(INDIRECT($A2304&\"!F33\")),\"\",(INDIRECT($A2304&\"!F33\")))","v":""},{"$f":"IF(ISERROR(INDIRECT($A2304&\"!F34\")),\"\",(INDIRECT($A2304&\"!F34\")))","v":""},{"$f":"IF(ISERROR(INDIRECT($A2304&\"!F35\")),\"\",(INDIRECT($A2304&\"!F35\")))","v":""}]
[null,"","","","","","","","","","","","","","","",""]
[null,"","","","","","","","","","","","","","","",""]
[null,"","","","","","","","","","","","","","","",""]
[null,"","","","","","","","","","","","","","","",""]
[null,"","","","","","","","","","","","","","","",""]
[null,"","","","","","","","","","","","","","","",""]
[null,"","","","","","","","","","","","","","","",""]
[null,"","","","","","","","","","","","","","","",""]
[null,"","","","","","","","","","","","","","","",""]
[null,"","","","","","","","","","","","","","","",""]
[null,"","","","","","","","","","","","","","","",""]
[null,"","","","","","","","","","","","","","","",""]
[null,"","","","","","","","","","","","","","","",""]
[null,"","","","","","","","","","","","","","","",""]
[null,"","","","","","","","","","","","","","","",""]
[null,"","","","","","","","","","","","","","","",""]
[null,"","","","","","","","","","","","","","","",""]
[null,"","","","","","","","","","","","","","","",""]
[null,"","","","","","","","","","","","","","","",""]
[null,"","","","","","","","","","","","","","","",""]
[null,"","","","","","","","","","","","","","","",""]
[null,"","","","","","","","","","","","","","","",""]
[null,"","","","","","","","","","","","","","","",""]
[null,"","","","","","","","","","","","","","","",""]
[null,"","","","","","","","","","","","","","","",""]
[null,"","","","","","","","","","","","","","","",""]
[null,"","","","","","","","","","","","","","","",""]
[null,"","","","","","","","","","","","","","","",""]
[null,"","","","","","","","","","","","","","","",""]
[null,"","","","","","","","","","","","","","","",""]
[null,"","","","","","","","","","","","","","","",""]
[null,"","","","","","","","","","","","","","","",""]
[null,"","","","","","","","","","","","","","","",""]
[null,"","","","","","","","","","","","","","","",""]
[null,"","","","","","","","","","","","","","","",""]
[null,"","","","","","","","","","","","","","","",""]
[null,"","","","","","","","","","","","","","","",""]
[null,"","","","","","","","","","","","","","","",""]
[null,"","","","","","","","","","","","","","","",""]
[null,"","","","","","","","","","","","","","","",""]
[null,"","","","","","","","","","","","","","","",""]
[null,"","","","","","","","","","","","","","","",""]
[null,"","","","","","","","","","","","","","","",""]
[null,"","","","","","","","","","","","","","","",""]
[null,"","","","","","","","","","","","","","","",""]
[null,"","","","","","","","","","","","","","","",""]
[null,"","","","","","","","","","","","","","","",""]
[null,"","","","","","","","","","","","","","","",""]
[null,"","","","","","","","","","","","","","","",""]
[null,"","","","","","","","","","","","","","","",""]
[null,"","","","","","","","","","","","","","","",""]
[null,"","","","","","","","","","","","","","","",""]
[null,"","","","","","","","","","","","","","","",""]
[null,"","","","","","","","","","","","","","","",""]
[null,"","","","","","","","","","","","","","","",""]
[null,"","","","","","","","","","","","","","","",""]
[null,"","","",{"$f":"IF(D2434<>\"\",DATEDIF(D2434,TODAY(),\"y\"),\"\")","v":""},"","","","","","","","","","","",""]
[null,"","","","","","","","","","","","","","","",""]
[null,"","","","","","","","","","","","","","","",""]
[null,"","","","","","","","","","","","","","","",""]
[null,"","","","","","","","","","","","","","","",""]
[null,"","","","","","","","","","","","","","","",""]
[null,"","","","","","","","","","","","","","","",""]
[null,"","","","","","","","","","","","","","","",""]
[null,"","","","","","","","","","","","","","","",""]
[null,"","","","","","","","","","","","","","","",""]
[null,"","","","","","","","","","","","","","","",""]
[null,"","","","","","","","","","","","","","","",""]
[null,"","","","","","","","","","","","","","","",""]
[null,"","","","","","","","","","","","","","","",""]
[null,"","","","","","","","","","","","","","","",""]
[null,"","","","","","","","","","","","","","","",""]
[null,"","","","","","","","","","","","","","","",""]
[null,"","","","","","","","","","","","","","","",""]
[null,"","","","","","","","","","","","","","","",""]
[null,"","","","","","","","","","","","","","","",""]
[null,"","","","","","","","","","","","","","","",""]
[null,"","","","","","","","","","","","","","","",""]
[null,"","","","","","","","","","","","","","","",""]
[null,"","","","","","","","","","","","","","","",""]
[null,"","","","","","","","","","","","","","","",""]
[null,"","","","","","","","","","","","","","","",""]
[null,"","","","","","","","","","","","","","","",""]
[null,"","","","","","","","","","","","","","","",""]
[null,{"$f":"IF(ISERROR(INDIRECT($A2496&\"!F21\")),\"\",(INDIRECT($A2496&\"!F21\")))","v":""},{"$f":"IF(ISERROR(INDIRECT($A2496&\"!F22\")),\"\",(INDIRECT($A2496&\"!F22\")))","v":""},{"$f":"IF(ISERROR(INDIRECT($A2496&\"!F23\")),\"\",(INDIRECT($A2496&\"!F23\")))","v":""},"",{"$f":"IF(ISERROR(INDIRECT($A2496&\"!F24\")),\"\",(INDIRECT($A2496&\"!F24\")))","v":""},{"$f":"IF(ISERROR(INDIRECT($A2496&\"!F25\")),\"\",(INDIRECT($A2496&\"!F25\")))","v":""},{"$f":"IF(ISERROR(INDIRECT($A2496&\"!F26\")),\"\",(INDIRECT($A2496&\"!F26\")))","v":""},{"$f":"IF(ISERROR(INDIRECT($A2496&\"!F27\")),\"\",(INDIRECT($A2496&\"!F27\")))","v":""},{"$f":"IF(ISERROR(INDIRECT($A2496&\"!F28\")),\"\",(INDIRECT($A2496&\"!F28\")))","v":""},{"$f":"IF(ISERROR(INDIRECT($A2496&\"!F29\")),\"\",(INDIRECT($A2496&\"!F29\")))","v":""},{"$f":"IF(ISERROR(INDIRECT($A2496&\"!F30\")),\"\",(INDIRECT($A2496&\"!F30\")))","v":""},{"$f":"IF(ISERROR(INDIRECT($A2496&\"!F31\")),\"\",(INDIRECT($A2496&\"!F31\")))","v":""},{"$f":"IF(ISERROR(INDIRECT($A2496&\"!F32\")),\"\",(INDIRECT($A2496&\"!F32\")))","v":""},{"$f":"IF(ISERROR(INDIRECT($A2496&\"!F33\")),\"\",(INDIRECT($A2496&\"!F33\")))","v":""},{"$f":"IF(ISERROR(INDIRECT($A2496&\"!F34\")),\"\",(INDIRECT($A2496&\"!F34\")))","v":""},{"$f":"IF(ISERROR(INDIRECT($A2496&\"!F35\")),\"\",(INDIRECT($A2496&\"!F35\")))","v":""}]
[null,"","","",{"$f":"IF(D2498<>\"\",DATEDIF(D2498,TODAY(),\"y\"),\"\")","v":""},"","","","","","","","","","","",""]
[null,"","","","","","","","","","","","","","","",""]
[null,"","","","","","","","","","","","","","","",""]
[null,"","","","","","","","","","","","","","","",""]
[null,"","","","","","","","","","","","","","","",""]
[null,"","","","","","","","","","","","","","","",""]
[null,"","","","","","","","","","","","","","","",""]
[null,"","","","","","","","","","","","","","","",""]
[null,"","","","","","","","","","","","","","","",""]
[null,"","","","","","","","","","","","","","","",""]
[null,"","","","","","","","","","","","","","","",""]
[null,"","","","","","","","","","","","","","","",""]
[null,"","","","","","","","","","","","","","","",""]
[null,"","","","","","","","","","","","","","","",""]
[null,"","","","","","","","","","","","","","","",""]
[null,"","","","","","","","","","","","","","","",""]
[null,"","","","","","","","","","","","","","","",""]
[null,"","","","","","","","","","","","","","","",""]
[null,"","","","","","","","","","","","","","","",""]
[null,"","","","","","","","","","","","","","","",""]
[null,"","","","","","","","","","","","","","","",""]
[null,"","","","","","","","","","","","","","","",""]
[null,"","","","","","","","","","","","","","","",""]
[null,"","","","","","","","","","","","","","","",""]
[null,"","","","","","","","","","","","","","","",""]
[null,"","","","","","","","","","","","","","","",""]
[null,"","","","","","","","","","","","","","","",""]
[null,{"$f":"IF(ISERROR(INDIRECT($A2560&\"!F21\")),\"\",(INDIRECT($A2560&\"!F21\")))","v":""},{"$f":"IF(ISERROR(INDIRECT($A2560&\"!F22\")),\"\",(INDIRECT($A2560&\"!F22\")))","v":""},{"$f":"IF(ISERROR(INDIRECT($A2560&\"!F23\")),\"\",(INDIRECT($A2560&\"!F23\")))","v":""},"",{"$f":"IF(ISERROR(INDIRECT($A2560&\"!F24\")),\"\",(INDIRECT($A2560&\"!F24\")))","v":""},{"$f":"IF(ISERROR(INDIRECT($A2560&\"!F25\")),\"\",(INDIRECT($A2560&\"!F25\")))","v":""},{"$f":"IF(ISERROR(INDIRECT($A2560&\"!F26\")),\"\",(INDIRECT($A2560&\"!F26\")))","v":""},{"$f":"IF(ISERROR(INDIRECT($A2560&\"!F27\")),\"\",(INDIRECT($A2560&\"!F27\")))","v":""},{"$f":"IF(ISERROR(INDIRECT($A2560&\"!F28\")),\"\",(INDIRECT($A2560&\"!F28\")))","v":""},{"$f":"IF(ISERROR(INDIRECT($A2560&\"!F29\")),\"\",(INDIRECT($A2560&\"!F29\")))","v":""},{"$f":"IF(ISERROR(INDIRECT($A2560&\"!F30\")),\"\",(INDIRECT($A2560&\"!F30\")))","v":""},{"$f":"IF(ISERROR(INDIRECT($A2560&\"!F31\")),\"\",(INDIRECT($A2560&\"!F31\")))","v":""},{"$f":"IF(ISERROR(INDIRECT($A2560&\"!F32\")),\"\",(INDIRECT($A2560&\"!F32\")))","v":""},{"$f":"IF(ISERROR(INDIRECT($A2560&\"!F33\")),\"\",(INDIRECT($A2560&\"!F33\")))","v":""},{"$f":"IF(ISERROR(INDIRECT($A2560&\"!F34\")),\"\",(INDIRECT($A2560&\"!F34\")))","v":""},{"$f":"IF(ISERROR(INDIRECT($A2560&\"!F35\")),\"\",(INDIRECT($A2560&\"!F35\")))","v":""}]
[null,"","","","","","","","","","","","","","","",""]
[null,"","","","","","","","","","","","","","","",""]
[null,"","","","","","","","","","","","","","","",""]
[null,"","","","","","","","","","","","","","","",""]
[null,"","","","","","","","","","","","","","","",""]
[null,"","","","","","","","","","","","","","","",""]
[null,"","","","","","","","","","","","","","","",""]
[null,"","","","","","","","","","","","","","","",""]
[null,"","","","","","","","","","","","","","","",""]
[null,"","","","","","","","","","","","","","","",""]
[null,"","","","","","","","","","","","","","","",""]
[null,"","","","","","","","","","","","","","","",""]
[null,"","","","","","","","","","","","","","","",""]
[null,"","","","","","","","","","","","","","","",""]
[null,"","","","","","","","","","","","","","","",""]
[null,"","","","","","","","","","","","","","","",""]
[null,"","","","","","","","","","","","","","","",""]
[null,"","","","","","","","","","","","","","","",""]
[null,"","","","","","","","","","","","","","","",""]
[null,"","","","","","","","","","","","","","","",""]
[null,"","","","","","","","","","","","","","","",""]
[null,"","","","","","","","","","","","","","","",""]
[null,"","","","","","","","","","","","","","","",""]
[null,"","","","","","","","","","","","","","","",""]
[null,"","","","","","","","","","","","","","","",""]
[null,"","","","","","","","","","","","","","","",""]
[null,"","","","","","","","","","","","","","","",""]
[null,"","","","","","","","","","","","","","","",""]
[null,{"$f":"IF(ISERROR(INDIRECT($A2624&\"!F21\")),\"\",(INDIRECT($A2624&\"!F21\")))","v":""},{"$f":"IF(ISERROR(INDIRECT($A2624&\"!F22\")),\"\",(INDIRECT($A2624&\"!F22\")))","v":""},{"$f":"IF(ISERROR(INDIRECT($A2624&\"!F23\")),\"\",(INDIRECT($A2624&\"!F23\")))","v":""},"",{"$f":"IF(ISERROR(INDIRECT($A2624&\"!F24\")),\"\",(INDIRECT($A2624&\"!F24\")))","v":""},{"$f":"IF(ISERROR(INDIRECT($A2624&\"!F25\")),\"\",(INDIRECT($A2624&\"!F25\")))","v":""},{"$f":"IF(ISERROR(INDIRECT($A2624&\"!F26\")),\"\",(INDIRECT($A2624&\"!F26\")))","v":""},{"$f":"IF(ISERROR(INDIRECT($A2624&\"!F27\")),\"\",(INDIRECT($A2624&\"!F27\")))","v":""},{"$f":"IF(ISERROR(INDIRECT($A2624&\"!F28\")),\"\",(INDIRECT($A2624&\"!F28\")))","v":""},{"$f":"IF(ISERROR(INDIRECT($A2624&\"!F29\")),\"\",(INDIRECT($A2624&\"!F29\")))","v":""},{"$f":"IF(ISERROR(INDIRECT($A2624&\"!F30\")),\"\",(INDIRECT($A2624&\"!F30\")))","v":""},{"$f":"IF(ISERROR(INDIRECT($A2624&\"!F31\")),\"\",(INDIRECT($A2624&\"!F31\")))","v":""},{"$f":"IF(ISERROR(INDIRECT($A2624&\"!F32\")),\"\",(INDIRECT($A2624&\"!F32\")))","v":""},{"$f":"IF(ISERROR(INDIRECT($A2624&\"!F33\")),\"\",(INDIRECT($A2624&\"!F33\")))","v":""},{"$f":"IF(ISERROR(INDIRECT($A2624&\"!F34\")),\"\",(INDIRECT($A2624&\"!F34\")))","v":""},{"$f":"IF(ISERROR(INDIRECT($A2624&\"!F35\")),\"\",(INDIRECT($A2624&\"!F35\")))","v":""}]
[null,"","","","","","","","","","","","","","","",""]
[null,"","","","","","","","","","","","","","","",""]
[null,"","","","","","","","","","","","","","","",""]
[null,"","","","","","","","","","","","","","","",""]
[null,"","","","","","","","","","","","","","","",""]
[null,"","","","","","","","","","","","","","","",""]
[null,"","","","","","","","","","","","","","","",""]
[null,"","","","","","","","","","","","","","","",""]
[null,"","","","","","","","","","","","","","","",""]
[null,"","","","","","","","","","","","","","","",""]
[null,"","","","","","","","","","","","","","","",""]
[null,"","","","","","","","","","","","","","","",""]
[null,"","","","","","","","","","","","","","","",""]
[null,"","","","","","","","","","","","","","","",""]
[null,"","","","","","","","","","","","","","","",""]
[null,"","","","","","","","","","","","","","","",""]
[null,"","","","","","","","","","","","","","","",""]
[null,"","","","","","","","","","","","","","","",""]
[null,"","","","","","","","","","","","","","","",""]
[null,"","","","","","","","","","","","","","","",""]
[null,"","","","","","","","","","","","","","","",""]
[null,"","","","","","","","","","","","","","","",""]
[null,"","","","","","","","","","","","","","","",""]
[null,"","","","","","","","","","","","","","","",""]
[null,"","","","","","","","","","","","","","","",""]
[null,"","","","","","","","","","","","","","","",""]
[null,"","","","","","","","","","","","","","","",""]
[null,"","","","","","","","","","","","","","","",""]
[null,"","","",{"$f":"IF(D2690<>\"\",DATEDIF(D2690,TODAY(),\"y\"),\"\")","v":""},"","","","","","","","","","","",""]
[null,"","","","","","","","","","","","","","","",""]
[null,"","","","","","","","","","","","","","","",""]
[null,"","","","","","","","","","","","","","","",""]
[null,"","","","","","","","","","","","","","","",""]
[null,"","","","","","","","","","","","","","","",""]
[null,"","","","","","","","","","","","","","","",""]
[null,"","","","","","","","","","","","","","","",""]
[null,"","","","","","","","","","","","","","","",""]
[null,"","","","","","","","","","","","","","","",""]
[null,"","","","","","","","","","","","","","","",""]
[null,"","","","","","","","","","","","","","","",""]
[null,"","","","","","","","","","","","","","","",""]
[null,"","","","","","","","","","","","","","","",""]
[null,"","","","","","","","","","","","","","","",""]
[null,"","","","","","","","","","","","","","","",""]
[null,"","","","","","","","","","","","","","","",""]
[null,"","","","","","","","","","","","","","","",""]
[null,"","","","","","","","","","","","","","","",""]
[null,"","","","","","","","","","","","","","","",""]
[null,"","","","","","","","","","","","","","","",""]
[null,"","","","","","","","","","","","","","","",""]
[null,"","","","","","","","","","","","","","","",""]
[null,"","","","","","","","","","","","","","","",""]
[null,"","","","","","","","","","","","","","","",""]
[null,"","","","","","","","","","","","","","","",""]
[null,"","","","","","","","","","","","","","","",""]
[null,"","","","","","","","","","","","","","","",""]
[null,"","","","","","","","","","","","","","","",""]
[null,"","","",{"$f":"IF(D2754<>\"\",DATEDIF(D2754,TODAY(),\"y\"),\"\")","v":""},"","","","","","","","","","","",""]
[null,"","","","","","","","","","","","","","","",""]
[null,"","","","","","","","","","","","","","","",""]
[null,"","","","","","","","","","","","","","","",""]
[null,"","","","","","","","","","","","","","","",""]
[null,"","","","","","","","","","","","","","","",""]
[null,"","","","","","","","","","","","","","","",""]
[null,"","","","","","","","","","","","","","","",""]
[null,"","","","","","","","","","","","","","","",""]
[null,"","","","","","","","","","","","","","","",""]
[null,"","","","","","","","","","","","","","","",""]
[null,"","","","","","","","","","","","","","","",""]
[null,"","","","","","","","","","","","","","","",""]
[null,"","","","","","","","","","","","","","","",""]
[null,"","","","","","","","","","","","","","","",""]
[null,"","","","","","","","","","","","","","","",""]
[null,"","","","","","","","","","","","","","","",""]
[null,"","","","","","","","","","","","","","","",""]
[null,"","","","","","","","","","","","","","","",""]
[null,"","","","","","","","","","","","","","","",""]
[null,"","","","","","","","","","","","","","","",""]
[null,"","","","","","","","","","","","","","","",""]
[null,"","","","","","","","","","","","","","","",""]
[null,"","","","","","","","","","","","","","","",""]
[null,"","","","","","","","","","","","","","","",""]
[null,"","","","","","","","","","","","","","","",""]
[null,"","","","","","","","","","","","","","","",""]
[null,{"$f":"IF(ISERROR(INDIRECT($A2816&\"!F21\")),\"\",(INDIRECT($A2816&\"!F21\")))","v":""},{"$f":"IF(ISERROR(INDIRECT($A2816&\"!F22\")),\"\",(INDIRECT($A2816&\"!F22\")))","v":""},{"$f":"IF(ISERROR(INDIRECT($A2816&\"!F23\")),\"\",(INDIRECT($A2816&\"!F23\")))","v":""},"",{"$f":"IF(ISERROR(INDIRECT($A2816&\"!F24\")),\"\",(INDIRECT($A2816&\"!F24\")))","v":""},{"$f":"IF(ISERROR(INDIRECT($A2816&\"!F25\")),\"\",(INDIRECT($A2816&\"!F25\")))","v":""},{"$f":"IF(ISERROR(INDIRECT($A2816&\"!F26\")),\"\",(INDIRECT($A2816&\"!F26\")))","v":""},{"$f":"IF(ISERROR(INDIRECT($A2816&\"!F27\")),\"\",(INDIRECT($A2816&\"!F27\")))","v":""},{"$f":"IF(ISERROR(INDIRECT($A2816&\"!F28\")),\"\",(INDIRECT($A2816&\"!F28\")))","v":""},{"$f":"IF(ISERROR(INDIRECT($A2816&\"!F29\")),\"\",(INDIRECT($A2816&\"!F29\")))","v":""},{"$f":"IF(ISERROR(INDIRECT($A2816&\"!F30\")),\"\",(INDIRECT($A2816&\"!F30\")))","v":""},{"$f":"IF(ISERROR(INDIRECT($A2816&\"!F31\")),\"\",(INDIRECT($A2816&\"!F31\")))","v":""},{"$f":"IF(ISERROR(INDIRECT($A2816&\"!F32\")),\"\",(INDIRECT($A2816&\"!F32\")))","v":""},{"$f":"IF(ISERROR(INDIRECT($A2816&\"!F33\")),\"\",(INDIRECT($A2816&\"!F33\")))","v":""},{"$f":"IF(ISERROR(INDIRECT($A2816&\"!F34\")),\"\",(INDIRECT($A2816&\"!F34\")))","v":""},{"$f":"IF(ISERROR(INDIRECT($A2816&\"!F35\")),\"\",(INDIRECT($A2816&\"!F35\")))","v":""}]
[null,"","","","","","","","","","","","","","","",""]
[null,"","","","","","","","","","","","","","","",""]
[null,"","","","","","","","","","","","","","","",""]
[null,"","","","","","","","","","","","","","","",""]
[null,"","","","","","","","","","","","","","","",""]
[null,"","","","","","","","","","","","","","","",""]
[null,"","","","","","","","","","","","","","","",""]
[null,"","","","","","","","","","","","","","","",""]
[null,"","","","","","","","","","","","","","","",""]
[null,"","","","","","","","","","","","","","","",""]
[null,"","","","","","","","","","","","","","","",""]
[null,"","","","","","","","","","","","","","","",""]
[null,"","","","","","","","","","","","","","","",""]
[null,"","","","","","","","","","","","","","","",""]
[null,"","","","","","","","","","","","","","","",""]
[null,"","","","","","","","","","","","","","","",""]
[null,"","","","","","","","","","","","","","","",""]
[null,"","","","","","","","","","","","","","","",""]
[null,"","","","","","","","","","","","","","","",""]
[null,"","","","","","","","","","","","","","","",""]
[null,"","","","","","","","","","","","","","","",""]
[null,"","","","","","","","","","","","","","","",""]
[null,"","","","","","","","","","","","","","","",""]
[null,"","","","","","","","","","","","","","","",""]
[null,"","","","","","","","","","","","","","","",""]
[null,"","","","","","","","","","","","","","","",""]
[null,"","","","","","","","","","","","","","","",""]
[null,"","","","","","","","","","","","","","","",""]
[null,{"$f":"IF(ISERROR(INDIRECT($A2880&\"!F21\")),\"\",(INDIRECT($A2880&\"!F21\")))","v":""},{"$f":"IF(ISERROR(INDIRECT($A2880&\"!F22\")),\"\",(INDIRECT($A2880&\"!F22\")))","v":""},{"$f":"IF(ISERROR(INDIRECT($A2880&\"!F23\")),\"\",(INDIRECT($A2880&\"!F23\")))","v":""},"",{"$f":"IF(ISERROR(INDIRECT($A2880&\"!F24\")),\"\",(INDIRECT($A2880&\"!F24\")))","v":""},{"$f":"IF(ISERROR(INDIRECT($A2880&\"!F25\")),\"\",(INDIRECT($A2880&\"!F25\")))","v":""},{"$f":"IF(ISERROR(INDIRECT($A2880&\"!F26\")),\"\",(INDIRECT($A2880&\"!F26\")))","v":""},{"$f":"IF(ISERROR(INDIRECT($A2880&\"!F27\")),\"\",(INDIRECT($A2880&\"!F27\")))","v":""},{"$f":"IF(ISERROR(INDIRECT($A2880&\"!F28\")),\"\",(INDIRECT($A2880&\"!F28\")))","v":""},{"$f":"IF(ISERROR(INDIRECT($A2880&\"!F29\")),\"\",(INDIRECT($A2880&\"!F29\")))","v":""},{"$f":"IF(ISERROR(INDIRECT($A2880&\"!F30\")),\"\",(INDIRECT($A2880&\"!F30\")))","v":""},{"$f":"IF(ISERROR(INDIRECT($A2880&\"!F31\")),\"\",(INDIRECT($A2880&\"!F31\")))","v":""},{"$f":"IF(ISERROR(INDIRECT($A2880&\"!F32\")),\"\",(INDIRECT($A2880&\"!F32\")))","v":""},{"$f":"IF(ISERROR(INDIRECT($A2880&\"!F33\")),\"\",(INDIRECT($A2880&\"!F33\")))","v":""},{"$f":"IF(ISERROR(INDIRECT($A2880&\"!F34\")),\"\",(INDIRECT($A2880&\"!F34\")))","v":""},{"$f":"IF(ISERROR(INDIRECT($A2880&\"!F35\")),\"\",(INDIRECT($A2880&\"!F35\")))","v":""}]
[null,"","","","","","","","","","","","","","","",""]
[null,"","","","","","","","","","","","","","","",""]
[null,"","","","","","","","","","","","","","","",""]
[null,"","","","","","","","","","","","","","","",""]
[null,"","","","","","","","","","","","","","","",""]
[null,"","","","","","","","","","","","","","","",""]
[null,"","","","","","","","","","","","","","","",""]
[null,"","","","","","","","","","","","","","","",""]
[null,"","","","","","","","","","","","","","","",""]
[null,"","","","","","","","","","","","","","","",""]
[null,"","","","","","","","","","","","","","","",""]
[null,"","","","","","","","","","","","","","","",""]
[null,"","","","","","","","","","","","","","","",""]
[null,"","","","","","","","","","","","","","","",""]
[null,"","","","","","","","","","","","","","","",""]
[null,"","","","","","","","","","","","","","","",""]
[null,"","","","","","","","","","","","","","","",""]
[null,"","","","","","","","","","","","","","","",""]
[null,"","","","","","","","","","","","","","","",""]
[null,"","","","","","","","","","","","","","","",""]
[null,"","","","","","","","","","","","","","","",""]
[null,"","","","","","","","","","","","","","","",""]
[null,"","","","","","","","","","","","","","","",""]
[null,"","","","","","","","","","","","","","","",""]
[null,"","","","","","","","","","","","","","","",""]
[null,"","","","","","","","","","","","","","","",""]
[null,"","","","","","","","","","","","","","","",""]
[null,"","","","","","","","","","","","","","","",""]
[null,"","","",{"$f":"IF(D2946<>\"\",DATEDIF(D2946,TODAY(),\"y\"),\"\")","v":""},"","","","","","","","","","","",""]
[null,"","","","","","","","","","","","","","","",""]
[null,"","","","","","","","","","","","","","","",""]
[null,"","","","","","","","","","","","","","","",""]
[null,"","","","","","","","","","","","","","","",""]
[null,"","","","","","","","","","","","","","","",""]
[null,"","","","","","","","","","","","","","","",""]
[null,"","","","","","","","","","","","","","","",""]
[null,"","","","","","","","","","","","","","","",""]
[null,"","","","","","","","","","","","","","","",""]
[null,"","","","","","","","","","","","","","","",""]
[null,"","","","","","","","","","","","","","","",""]
[null,"","","","","","","","","","","","","","","",""]
[null,"","","","","","","","","","","","","","","",""]
[null,"","","","","","","","","","","","","","","",""]
[null,"","","","","","","","","","","","","","","",""]
[null,"","","","","","","","","","","","","","","",""]
[null,"","","","","","","","","","","","","","","",""]
[null,"","","","","","","","","","","","","","","",""]
[null,"","","","","","","","","","","","","","","",""]
[null,"","","","","","","","","","","","","","","",""]
[null,"","","","","","","","","","","","","","","",""]
[null,"","","","","","","","","","","","","","","",""]
[null,"","","","","","","","","","","","","","","",""]
[null,"","","","","","","","","","","","","","","",""]
[null,"","","","","","","","","","","","","","","",""]
[null,"","","","","","","","","","","","","","","",""]
[null,"","","","","","","","","","","","","","","",""]
[null,"","","","","","","","","","","","","","","",""]
[null,"","","","","","","","","","","","","","","",""]
[null,"","","","","","","","","","","","","","","",""]
[null,"","","","","","","","","","","","","","","",""]
[null,"","","","","","","","","","","","","","","",""]
[null,"","","","","","","","","","","","","","","",""]
[null,"","","","","","","","","","","","","","","",""]
[null,"","","","","","","","","","","","","","","",""]
[null,"","","","","","","","","","","","","","","",""]
[null,"","","","","","","","","","","","","","","",""]
[null,"","","","","","","","","","","","","","","",""]
[null,"","","","","","","","","","","","","","","",""]
[null,"","","","","","","","","","","","","","","",""]
[null,"","","","","","","","","","","","","","","",""]
[null,"","","","","","","","","","","","","","","",""]
[null,"","","","","","","","","","","","","","","",""]
[null,"","","","","","","","","","","","","","","",""]
[null,"","","","","","","","","","","","","","","",""]
[null,"","","","","","","","","","","","","","","",""]
[null,"","","","","","","","","","","","","","","",""]
[null,"","","","","","","","","","","","","","","",""]
[null,"","","","","","","","","","","","","","","",""]
[null,"","","","","","","","","","","","","","","",""]
[null,"","","","","","","","","","","","","","","",""]
[null,"","","","","","","","","","","","","","","",""]
[null,"","","","","","","","","","","","","","","",""]
[null,"","","","","","","","","","","","","","","",""]
[null,"","","","","","","","","","","","","","","",""]
[null,{"$f":"IF(ISERROR(INDIRECT($A3072&\"!F21\")),\"\",(INDIRECT($A3072&\"!F21\")))","v":""},{"$f":"IF(ISERROR(INDIRECT($A3072&\"!F22\")),\"\",(INDIRECT($A3072&\"!F22\")))","v":""},{"$f":"IF(ISERROR(INDIRECT($A3072&\"!F23\")),\"\",(INDIRECT($A3072&\"!F23\")))","v":""},"",{"$f":"IF(ISERROR(INDIRECT($A3072&\"!F24\")),\"\",(INDIRECT($A3072&\"!F24\")))","v":""},{"$f":"IF(ISERROR(INDIRECT($A3072&\"!F25\")),\"\",(INDIRECT($A3072&\"!F25\")))","v":""},{"$f":"IF(ISERROR(INDIRECT($A3072&\"!F26\")),\"\",(INDIRECT($A3072&\"!F26\")))","v":""},{"$f":"IF(ISERROR(INDIRECT($A3072&\"!F27\")),\"\",(INDIRECT($A3072&\"!F27\")))","v":""},{"$f":"IF(ISERROR(INDIRECT($A3072&\"!F28\")),\"\",(INDIRECT($A3072&\"!F28\")))","v":""},{"$f":"IF(ISERROR(INDIRECT($A3072&\"!F29\")),\"\",(INDIRECT($A3072&\"!F29\")))","v":""},{"$f":"IF(ISERROR(INDIRECT($A3072&\"!F30\")),\"\",(INDIRECT($A3072&\"!F30\")))","v":""},{"$f":"IF(ISERROR(INDIRECT($A3072&\"!F31\")),\"\",(INDIRECT($A3072&\"!F31\")))","v":""},{"$f":"IF(ISERROR(INDIRECT($A3072&\"!F32\")),\"\",(INDIRECT($A3072&\"!F32\")))","v":""},{"$f":"IF(ISERROR(INDIRECT($A3072&\"!F33\")),\"\",(INDIRECT($A3072&\"!F33\")))","v":""},{"$f":"IF(ISERROR(INDIRECT($A3072&\"!F34\")),\"\",(INDIRECT($A3072&\"!F34\")))","v":""},{"$f":"IF(ISERROR(INDIRECT($A3072&\"!F35\")),\"\",(INDIRECT($A3072&\"!F35\")))","v":""}]
[null,"","","","","","","","","","","","","","","",""]
[null,"","","","","","","","","","","","","","","",""]
[null,"","","","","","","","","","","","","","","",""]
[null,"","","","","","","","","","","","","","","",""]
[null,"","","","","","","","","","","","","","","",""]
[null,"","","","","","","","","","","","","","","",""]
[null,"","","","","","","","","","","","","","","",""]
[null,"","","","","","","","","","","","","","","",""]
[null,"","","","","","","","","","","","","","","",""]
[null,"","","","","","","","","","","","","","","",""]
[null,"","","","","","","","","","","","","","","",""]
[null,"","","","","","","","","","","","","","","",""]
[null,"","","","","","","","","","","","","","","",""]
[null,"","","","","","","","","","","","","","","",""]
[null,"","","","","","","","","","","","","","","",""]
[null,"","","","","","","","","","","","","","","",""]
[null,"","","","","","","","","","","","","","","",""]
[null,"","","","","","","","","","","","","","","",""]
[null,"","","","","","","","","","","","","","","",""]
[null,"","","","","","","","","","","","","","","",""]
[null,"","","","","","","","","","","","","","","",""]
[null,"","","","","","","","","","","","","","","",""]
[null,"","","","","","","","","","","","","","","",""]
[null,"","","","","","","","","","","","","","","",""]
[null,"","","","","","","","","","","","","","","",""]
[null,"","","","","","","","","","","","","","","",""]
[null,"","","","","","","","","","","","","","","",""]
[null,"","","","","","","","","","","","","","","",""]
[null,{"$f":"IF(ISERROR(INDIRECT($A3136&\"!F21\")),\"\",(INDIRECT($A3136&\"!F21\")))","v":""},{"$f":"IF(ISERROR(INDIRECT($A3136&\"!F22\")),\"\",(INDIRECT($A3136&\"!F22\")))","v":""},{"$f":"IF(ISERROR(INDIRECT($A3136&\"!F23\")),\"\",(INDIRECT($A3136&\"!F23\")))","v":""},"",{"$f":"IF(ISERROR(INDIRECT($A3136&\"!F24\")),\"\",(INDIRECT($A3136&\"!F24\")))","v":""},{"$f":"IF(ISERROR(INDIRECT($A3136&\"!F25\")),\"\",(INDIRECT($A3136&\"!F25\")))","v":""},{"$f":"IF(ISERROR(INDIRECT($A3136&\"!F26\")),\"\",(INDIRECT($A3136&\"!F26\")))","v":""},{"$f":"IF(ISERROR(INDIRECT($A3136&\"!F27\")),\"\",(INDIRECT($A3136&\"!F27\")))","v":""},{"$f":"IF(ISERROR(INDIRECT($A3136&\"!F28\")),\"\",(INDIRECT($A3136&\"!F28\")))","v":""},{"$f":"IF(ISERROR(INDIRECT($A3136&\"!F29\")),\"\",(INDIRECT($A3136&\"!F29\")))","v":""},{"$f":"IF(ISERROR(INDIRECT($A3136&\"!F30\")),\"\",(INDIRECT($A3136&\"!F30\")))","v":""},{"$f":"IF(ISERROR(INDIRECT($A3136&\"!F31\")),\"\",(INDIRECT($A3136&\"!F31\")))","v":""},{"$f":"IF(ISERROR(INDIRECT($A3136&\"!F32\")),\"\",(INDIRECT($A3136&\"!F32\")))","v":""},{"$f":"IF(ISERROR(INDIRECT($A3136&\"!F33\")),\"\",(INDIRECT($A3136&\"!F33\")))","v":""},{"$f":"IF(ISERROR(INDIRECT($A3136&\"!F34\")),\"\",(INDIRECT($A3136&\"!F34\")))","v":""},{"$f":"IF(ISERROR(INDIRECT($A3136&\"!F35\")),\"\",(INDIRECT($A3136&\"!F35\")))","v":""}]
[null,"","","","","","","","","","","","","","","",""]
[null,"","","","","","","","","","","","","","","",""]
[null,"","","","","","","","","","","","","","","",""]
[null,"","","","","","","","","","","","","","","",""]
[null,"","","","","","","","","","","","","","","",""]
[null,"","","","","","","","","","","","","","","",""]
[null,"","","","","","","","","","","","","","","",""]
[null,"","","","","","","","","","","","","","","",""]
[null,"","","","","","","","","","","","","","","",""]
[null,"","","","","","","","","","","","","","","",""]
[null,"","","","","","","","","","","","","","","",""]
[null,"","","","","","","","","","","","","","","",""]
[null,"","","","","","","","","","","","","","","",""]
[null,"","","","","","","","","","","","","","","",""]
[null,"","","","","","","","","","","","","","","",""]
[null,"","","","","","","","","","","","","","","",""]
[null,"","","","","","","","","","","","","","","",""]
[null,"","","","","","","","","","","","","","","",""]
[null,"","","","","","","","","","","","","","","",""]
[null,"","","","","","","","","","","","","","","",""]
[null,"","","","","","","","","","","","","","","",""]
[null,"","","","","","","","","","","","","","","",""]
[null,"","","","","","","","","","","","","","","",""]
[null,"","","","","","","","","","","","","","","",""]
[null,"","","","","","","","","","","","","","","",""]
[null,"","","","","","","","","","","","","","","",""]
[null,"","","","","","","","","","","","","","","",""]
[null,"","","","","","","","","","","","","","","",""]
[null,"","","","","","","","","","","","","","","",""]
[null,"","","","","","","","","","","","","","","",""]
[null,"","","","","","","","","","","","","","","",""]
[null,"","","","","","","","","","","","","","","",""]
[null,"","","","","","","","","","","","","","","",""]
[null,"","","","","","","","","","","","","","","",""]
[null,"","","","","","","","","","","","","","","",""]
[null,"","","","","","","","","","","","","","","",""]
[null,"","","","","","","","","","","","","","","",""]
[null,"","","","","","","","","","","","","","","",""]
[null,"","","","","","","","","","","","","","","",""]
[null,"","","","","","","","","","","","","","","",""]
[null,"","","","","","","","","","","","","","","",""]
[null,"","","","","","","","","","","","","","","",""]
[null,"","","","","","","","","","","","","","","",""]
[null,"","","","","","","","","","","","","","","",""]
[null,"","","","","","","","","","","","","","","",""]
[null,"","","","","","","","","","","","","","","",""]
[null,"","","","","","","","","","","","","","","",""]
[null,"","","","","","","","","","","","","","","",""]
[null,"","","","","","","","","","","","","","","",""]
[null,"","","","","","","","","","","","","","","",""]
[null,"","","","","","","","","","","","","","","",""]
[null,"","","","","","","","","","","","","","","",""]
[null,"","","","","","","","","","","","","","","",""]
[null,"","","","","","","","","","","","","","","",""]
[null,"","","","","","","","","","","","","","","",""]
[null,"","","","","","","","","","","","","","","",""]
[null,"","","",{"$f":"IF(D3266<>\"\",DATEDIF(D3266,TODAY(),\"y\"),\"\")","v":""},"","","","","","","","","","","",""]
[null,"","","","","","","","","","","","","","","",""]
[null,"","","","","","","","","","","","","","","",""]
[null,"","","","","","","","","","","","","","","",""]
[null,"","","","","","","","","","","","","","","",""]
[null,"","","","","","","","","","","","","","","",""]
[null,"","","","","","","","","","","","","","","",""]
[null,"","","","","","","","","","","","","","","",""]
[null,"","","","","","","","","","","","","","","",""]
[null,"","","","","","","","","","","","","","","",""]
[null,"","","","","","","","","","","","","","","",""]
[null,"","","","","","","","","","","","","","","",""]
[null,"","","","","","","","","","","","","","","",""]
[null,"","","","","","","","","","","","","","","",""]
[null,"","","","","","","","","","","","","","","",""]
[null,"","","","","","","","","","","","","","","",""]
[null,"","","","","","","","","","","","","","","",""]
[null,"","","","","","","","","","","","","","","",""]
[null,"","","","","","","","","","","","","","","",""]
[null,"","","","","","","","","","","","","","","",""]
[null,"","","","","","","","","","","","","","","",""]
[null,"","","","","","","","","","","","","","","",""]
[null,"","","","","","","","","","","","","","","",""]
[null,"","","","","","","","","","","","","","","",""]
[null,"","","","","","","","","","","","","","","",""]
[null,"","","","","","","","","","","","","","","",""]
[null,"","","","","","","","","","","","","","","",""]
[null,"","","","","","","","","","","","","","","",""]
[null,{"$f":"IF(ISERROR(INDIRECT($A3328&\"!F21\")),\"\",(INDIRECT($A3328&\"!F21\")))","v":""},{"$f":"IF(ISERROR(INDIRECT($A3328&\"!F22\")),\"\",(INDIRECT($A3328&\"!F22\")))","v":""},{"$f":"IF(ISERROR(INDIRECT($A3328&\"!F23\")),\"\",(INDIRECT($A3328&\"!F23\")))","v":""},"",{"$f":"IF(ISERROR(INDIRECT($A3328&\"!F24\")),\"\",(INDIRECT($A3328&\"!F24\")))","v":""},{"$f":"IF(ISERROR(INDIRECT($A3328&\"!F25\")),\"\",(INDIRECT($A3328&\"!F25\")))","v":""},{"$f":"IF(ISERROR(INDIRECT($A3328&\"!F26\")),\"\",(INDIRECT($A3328&\"!F26\")))","v":""},{"$f":"IF(ISERROR(INDIRECT($A3328&\"!F27\")),\"\",(INDIRECT($A3328&\"!F27\")))","v":""},{"$f":"IF(ISERROR(INDIRECT($A3328&\"!F28\")),\"\",(INDIRECT($A3328&\"!F28\")))","v":""},{"$f":"IF(ISERROR(INDIRECT($A3328&\"!F29\")),\"\",(INDIRECT($A3328&\"!F29\")))","v":""},{"$f":"IF(ISERROR(INDIRECT($A3328&\"!F30\")),\"\",(INDIRECT($A3328&\"!F30\")))","v":""},{"$f":"IF(ISERROR(INDIRECT($A3328&\"!F31\")),\"\",(INDIRECT($A3328&\"!F31\")))","v":""},{"$f":"IF(ISERROR(INDIRECT($A3328&\"!F32\")),\"\",(INDIRECT($A3328&\"!F32\")))","v":""},{"$f":"IF(ISERROR(INDIRECT($A3328&\"!F33\")),\"\",(INDIRECT($A3328&\"!F33\")))","v":""},{"$f":"IF(ISERROR(INDIRECT($A3328&\"!F34\")),\"\",(INDIRECT($A3328&\"!F34\")))","v":""},{"$f":"IF(ISERROR(INDIRECT($A3328&\"!F35\")),\"\",(INDIRECT($A3328&\"!F35\")))","v":""}]
[null,"","","",{"$f":"IF(D3330<>\"\",DATEDIF(D3330,TODAY(),\"y\"),\"\")","v":""},"","","","","","","","","","","",""]
[null,"","","","","","","","","","","","","","","",""]
[null,"","","","","","","","","","","","","","","",""]
[null,"","","","","","","","","","","","","","","",""]
[null,"","","","","","","","","","","","","","","",""]
[null,"","","","","","","","","","","","","","","",""]
[null,"","","","","","","","","","","","","","","",""]
[null,"","","","","","","","","","","","","","","",""]
[null,"","","","","","","","","","","","","","","",""]
[null,"","","","","","","","","","","","","","","",""]
[null,"","","","","","","","","","","","","","","",""]
[null,"","","","","","","","","","","","","","","",""]
[null,"","","","","","","","","","","","","","","",""]
[null,"","","","","","","","","","","","","","","",""]
[null,"","","","","","","","","","","","","","","",""]
[null,"","","","","","","","","","","","","","","",""]
[null,"","","","","","","","","","","","","","","",""]
[null,"","","","","","","","","","","","","","","",""]
[null,"","","","","","","","","","","","","","","",""]
[null,"","","","","","","","","","","","","","","",""]
[null,"","","","","","","","","","","","","","","",""]
[null,"","","","","","","","","","","","","","","",""]
[null,"","","","","","","","","","","","","","","",""]
[null,"","","","","","","","","","","","","","","",""]
[null,"","","","","","","","","","","","","","","",""]
[null,"","","","","","","","","","","","","","","",""]
[null,"","","","","","","","","","","","","","","",""]
[null,"","","","","","","","","","","","","","","",""]
[null,"","","","","","","","","","","","","","","",""]
[null,"","","","","","","","","","","","","","","",""]
[null,"","","","","","","","","","","","","","","",""]
[null,"","","","","","","","","","","","","","","",""]
[null,"","","","","","","","","","","","","","","",""]
[null,"","","","","","","","","","","","","","","",""]
[null,"","","","","","","","","","","","","","","",""]
[null,"","","","","","","","","","","","","","","",""]
[null,"","","","","","","","","","","","","","","",""]
[null,"","","","","","","","","","","","","","","",""]
[null,"","","","","","","","","","","","","","","",""]
[null,"","","","","","","","","","","","","","","",""]
[null,"","","","","","","","","","","","","","","",""]
[null,"","","","","","","","","","","","","","","",""]
[null,"","","","","","","","","","","","","","","",""]
[null,"","","","","","","","","","","","","","","",""]
[null,"","","","","","","","","","","","","","","",""]
[null,"","","","","","","","","","","","","","","",""]
[null,"","","","","","","","","","","","","","","",""]
[null,"","","","","","","","","","","","","","","",""]
[null,"","","","","","","","","","","","","","","",""]
[null,"","","","","","","","","","","","","","","",""]
[null,"","","","","","","","","","","","","","","",""]
[null,"","","","","","","","","","","","","","","",""]
[null,"","","","","","","","","","","","","","","",""]
[null,"","","","","","","","","","","","","","","",""]
[null,"","","","","","","","","","","","","","","",""]
[null,"","","","","","","","","","","","","","","",""]
[null,{"$f":"IF(ISERROR(INDIRECT($A3456&\"!F21\")),\"\",(INDIRECT($A3456&\"!F21\")))","v":""},{"$f":"IF(ISERROR(INDIRECT($A3456&\"!F22\")),\"\",(INDIRECT($A3456&\"!F22\")))","v":""},{"$f":"IF(ISERROR(INDIRECT($A3456&\"!F23\")),\"\",(INDIRECT($A3456&\"!F23\")))","v":""},"",{"$f":"IF(ISERROR(INDIRECT($A3456&\"!F24\")),\"\",(INDIRECT($A3456&\"!F24\")))","v":""},{"$f":"IF(ISERROR(INDIRECT($A3456&\"!F25\")),\"\",(INDIRECT($A3456&\"!F25\")))","v":""},{"$f":"IF(ISERROR(INDIRECT($A3456&\"!F26\")),\"\",(INDIRECT($A3456&\"!F26\")))","v":""},{"$f":"IF(ISERROR(INDIRECT($A3456&\"!F27\")),\"\",(INDIRECT($A3456&\"!F27\")))","v":""},{"$f":"IF(ISERROR(INDIRECT($A3456&\"!F28\")),\"\",(INDIRECT($A3456&\"!F28\")))","v":""},{"$f":"IF(ISERROR(INDIRECT($A3456&\"!F29\")),\"\",(INDIRECT($A3456&\"!F29\")))","v":""},{"$f":"IF(ISERROR(INDIRECT($A3456&\"!F30\")),\"\",(INDIRECT($A3456&\"!F30\")))","v":""},{"$f":"IF(ISERROR(INDIRECT($A3456&\"!F31\")),\"\",(INDIRECT($A3456&\"!F31\")))","v":""},{"$f":"IF(ISERROR(INDIRECT($A3456&\"!F32\")),\"\",(INDIRECT($A3456&\"!F32\")))","v":""},{"$f":"IF(ISERROR(INDIRECT($A3456&\"!F33\")),\"\",(INDIRECT($A3456&\"!F33\")))","v":""},{"$f":"IF(ISERROR(INDIRECT($A3456&\"!F34\")),\"\",(INDIRECT($A3456&\"!F34\")))","v":""},{"$f":"IF(ISERROR(INDIRECT($A3456&\"!F35\")),\"\",(INDIRECT($A3456&\"!F35\")))","v":""}]
[null,"","","","","","","","","","","","","","","",""]
[null,"","","","","","","","","","","","","","","",""]
[null,"","","","","","","","","","","","","","","",""]
[null,"","","","","","","","","","","","","","","",""]
[null,"","","","","","","","","","","","","","","",""]
[null,"","","","","","","","","","","","","","","",""]
[null,"","","","","","","","","","","","","","","",""]
[null,"","","","","","","","","","","","","","","",""]
[null,"","","","","","","","","","","","","","","",""]
[null,"","","","","","","","","","","","","","","",""]
[null,"","","","","","","","","","","","","","","",""]
[null,"","","","","","","","","","","","","","","",""]
[null,"","","","","","","","","","","","","","","",""]
[null,"","","","","","","","","","","","","","","",""]
[null,"","","","","","","","","","","","","","","",""]
[null,"","","","","","","","","","","","","","","",""]
[null,"","","","","","","","","","","","","","","",""]
[null,"","","","","","","","","","","","","","","",""]
[null,"","","","","","","","","","","","","","","",""]
[null,"","","","","","","","","","","","","","","",""]
[null,"","","","","","","","","","","","","","","",""]
[null,"","","","","","","","","","","","","","","",""]
[null,"","","","","","","","","","","","","","","",""]
[null,"","","","","","","","","","","","","","","",""]
[null,"","","","","","","","","","","","","","","",""]
[null,"","","","","","","","","","","","","","","",""]
[null,"","","","","","","","","","","","","","","",""]
[null,"","","","","","","","","","","","","","","",""]
[null,"","","",{"$f":"IF(D3522<>\"\",DATEDIF(D3522,TODAY(),\"y\"),\"\")","v":""},"","","","","","","","","","","",""]
[null,"","","","","","","","","","","","","","","",""]
[null,"","","","","","","","","","","","","","","",""]
[null,"","","","","","","","","","","","","","","",""]
[null,"","","","","","","","","","","","","","","",""]
[null,"","","","","","","","","","","","","","","",""]
[null,"","","","","","","","","","","","","","","",""]
[null,"","","","","","","","","","","","","","","",""]
[null,"","","","","","","","","","","","","","","",""]
[null,"","","","","","","","","","","","","","","",""]
[null,"","","","","","","","","","","","","","","",""]
[null,"","","","","","","","","","","","","","","",""]
[null,"","","","","","","","","","","","","","","",""]
[null,"","","","","","","","","","","","","","","",""]
[null,"","","","","","","","","","","","","","","",""]
[null,"","","","","","","","","","","","","","","",""]
[null,"","","","","","","","","","","","","","","",""]
[null,"","","","","","","","","","","","","","","",""]
[null,"","","","","","","","","","","","","","","",""]
[null,"","","","","","","","","","","","","","","",""]
[null,"","","","","","","","","","","","","","","",""]
[null,"","","","","","","","","","","","","","","",""]
[null,"","","","","","","","","","","","","","","",""]
[null,"","","","","","","","","","","","","","","",""]
[null,"","","","","","","","","","","","","","","",""]
[null,"","","","","","","","","","","","","","","",""]
[null,"","","","","","","","","","","","","","","",""]
[null,"","","","","","","","","","","","","","","",""]
[null,"","","","","","","","","","","","","","","",""]
[null,"","","",{"$f":"IF(D3586<>\"\",DATEDIF(D3586,TODAY(),\"y\"),\"\")","v":""},"","","","","","","","","","","",""]
[null,"","","","","","","","","","","","","","","",""]
[null,"","","","","","","","","","","","","","","",""]
[null,"","","","","","","","","","","","","","","",""]
[null,"","","","","","","","","","","","","","","",""]
[null,"","","","","","","","","","","","","","","",""]
[null,"","","","","","","","","","","","","","","",""]
[null,"","","","","","","","","","","","","","","",""]
[null,"","","","","","","","","","","","","","","",""]
[null,"","","","","","","","","","","","","","","",""]
[null,"","","","","","","","","","","","","","","",""]
[null,"","","","","","","","","","","","","","","",""]
[null,"","","","","","","","","","","","","","","",""]
[null,"","","","","","","","","","","","","","","",""]
[null,"","","","","","","","","","","","","","","",""]
[null,"","","","","","","","","","","","","","","",""]
[null,"","","","","","","","","","","","","","","",""]
[null,"","","","","","","","","","","","","","","",""]
[null,"","","","","","","","","","","","","","","",""]
[null,"","","","","","","","","","","","","","","",""]
[null,"","","","","","","","","","","","","","","",""]
[null,"","","","","","","","","","","","","","","",""]
[null,"","","","","","","","","","","","","","","",""]
[null,"","","","","","","","","","","","","","","",""]
[null,"","","","","","","","","","","","","","","",""]
[null,"","","","","","","","","","","","","","","",""]
[null,"","","","","","","","","","","","","","","",""]
[null,{"$f":"IF(ISERROR(INDIRECT($A3648&\"!F21\")),\"\",(INDIRECT($A3648&\"!F21\")))","v":""},{"$f":"IF(ISERROR(INDIRECT($A3648&\"!F22\")),\"\",(INDIRECT($A3648&\"!F22\")))","v":""},{"$f":"IF(ISERROR(INDIRECT($A3648&\"!F23\")),\"\",(INDIRECT($A3648&\"!F23\")))","v":""},"",{"$f":"IF(ISERROR(INDIRECT($A3648&\"!F24\")),\"\",(INDIRECT($A3648&\"!F24\")))","v":""},{"$f":"IF(ISERROR(INDIRECT($A3648&\"!F25\")),\"\",(INDIRECT($A3648&\"!F25\")))","v":""},{"$f":"IF(ISERROR(INDIRECT($A3648&\"!F26\")),\"\",(INDIRECT($A3648&\"!F26\")))","v":""},{"$f":"IF(ISERROR(INDIRECT($A3648&\"!F27\")),\"\",(INDIRECT($A3648&\"!F27\")))","v":""},{"$f":"IF(ISERROR(INDIRECT($A3648&\"!F28\")),\"\",(INDIRECT($A3648&\"!F28\")))","v":""},{"$f":"IF(ISERROR(INDIRECT($A3648&\"!F29\")),\"\",(INDIRECT($A3648&\"!F29\")))","v":""},{"$f":"IF(ISERROR(INDIRECT($A3648&\"!F30\")),\"\",(INDIRECT($A3648&\"!F30\")))","v":""},{"$f":"IF(ISERROR(INDIRECT($A3648&\"!F31\")),\"\",(INDIRECT($A3648&\"!F31\")))","v":""},{"$f":"IF(ISERROR(INDIRECT($A3648&\"!F32\")),\"\",(INDIRECT($A3648&\"!F32\")))","v":""},{"$f":"IF(ISERROR(INDIRECT($A3648&\"!F33\")),\"\",(INDIRECT($A3648&\"!F33\")))","v":""},{"$f":"IF(ISERROR(INDIRECT($A3648&\"!F34\")),\"\",(INDIRECT($A3648&\"!F34\")))","v":""},{"$f":"IF(ISERROR(INDIRECT($A3648&\"!F35\")),\"\",(INDIRECT($A3648&\"!F35\")))","v":""}]
[null,"","","","","","","","","","","","","","","",""]
[null,"","","","","","","","","","","","","","","",""]
[null,"","","","","","","","","","","","","","","",""]
[null,"","","","","","","","","","","","","","","",""]
[null,"","","","","","","","","","","","","","","",""]
[null,"","","","","","","","","","","","","","","",""]
[null,"","","","","","","","","","","","","","","",""]
[null,"","","","","","","","","","","","","","","",""]
[null,"","","","","","","","","","","","","","","",""]
[null,"","","","","","","","","","","","","","","",""]
[null,"","","","","","","","","","","","","","","",""]
[null,"","","","","","","","","","","","","","","",""]
[null,"","","","","","","","","","","","","","","",""]
[null,"","","","","","","","","","","","","","","",""]
[null,"","","","","","","","","","","","","","","",""]
[null,"","","","","","","","","","","","","","","",""]
[null,"","","","","","","","","","","","","","","",""]
[null,"","","","","","","","","","","","","","","",""]
[null,"","","","","","","","","","","","","","","",""]
[null,"","","","","","","","","","","","","","","",""]
[null,"","","","","","","","","","","","","","","",""]
[null,"","","","","","","","","","","","","","","",""]
[null,"","","","","","","","","","","","","","","",""]
[null,"","","","","","","","","","","","","","","",""]
[null,"","","","","","","","","","","","","","","",""]
[null,"","","","","","","","","","","","","","","",""]
[null,"","","","","","","","","","","","","","","",""]
[null,"","","","","","","","","","","","","","","",""]
[null,{"$f":"IF(ISERROR(INDIRECT($A3712&\"!F21\")),\"\",(INDIRECT($A3712&\"!F21\")))","v":""},{"$f":"IF(ISERROR(INDIRECT($A3712&\"!F22\")),\"\",(INDIRECT($A3712&\"!F22\")))","v":""},{"$f":"IF(ISERROR(INDIRECT($A3712&\"!F23\")),\"\",(INDIRECT($A3712&\"!F23\")))","v":""},"",{"$f":"IF(ISERROR(INDIRECT($A3712&\"!F24\")),\"\",(INDIRECT($A3712&\"!F24\")))","v":""},{"$f":"IF(ISERROR(INDIRECT($A3712&\"!F25\")),\"\",(INDIRECT($A3712&\"!F25\")))","v":""},{"$f":"IF(ISERROR(INDIRECT($A3712&\"!F26\")),\"\",(INDIRECT($A3712&\"!F26\")))","v":""},{"$f":"IF(ISERROR(INDIRECT($A3712&\"!F27\")),\"\",(INDIRECT($A3712&\"!F27\")))","v":""},{"$f":"IF(ISERROR(INDIRECT($A3712&\"!F28\")),\"\",(INDIRECT($A3712&\"!F28\")))","v":""},{"$f":"IF(ISERROR(INDIRECT($A3712&\"!F29\")),\"\",(INDIRECT($A3712&\"!F29\")))","v":""},{"$f":"IF(ISERROR(INDIRECT($A3712&\"!F30\")),\"\",(INDIRECT($A3712&\"!F30\")))","v":""},{"$f":"IF(ISERROR(INDIRECT($A3712&\"!F31\")),\"\",(INDIRECT($A3712&\"!F31\")))","v":""},{"$f":"IF(ISERROR(INDIRECT($A3712&\"!F32\")),\"\",(INDIRECT($A3712&\"!F32\")))","v":""},{"$f":"IF(ISERROR(INDIRECT($A3712&\"!F33\")),\"\",(INDIRECT($A3712&\"!F33\")))","v":""},{"$f":"IF(ISERROR(INDIRECT($A3712&\"!F34\")),\"\",(INDIRECT($A3712&\"!F34\")))","v":""},{"$f":"IF(ISERROR(INDIRECT($A3712&\"!F35\")),\"\",(INDIRECT($A3712&\"!F35\")))","v":""}]
[null,"","","","","","","","","","","","","","","",""]
[null,"","","","","","","","","","","","","","","",""]
[null,"","","","","","","","","","","","","","","",""]
[null,"","","","","","","","","","","","","","","",""]
[null,"","","","","","","","","","","","","","","",""]
[null,"","","","","","","","","","","","","","","",""]
[null,"","","","","","","","","","","","","","","",""]
[null,"","","","","","","","","","","","","","","",""]
[null,"","","","","","","","","","","","","","","",""]
[null,"","","","","","","","","","","","","","","",""]
[null,"","","","","","","","","","","","","","","",""]
[null,"","","","","","","","","","","","","","","",""]
[null,"","","","","","","","","","","","","","","",""]
[null,"","","","","","","","","","","","","","","",""]
[null,"","","","","","","","","","","","","","","",""]
[null,"","","","","","","","","","","","","","","",""]
[null,"","","","","","","","","","","","","","","",""]
[null,"","","","","","","","","","","","","","","",""]
[null,"","","","","","","","","","","","","","","",""]
[null,"","","","","","","","","","","","","","","",""]
[null,"","","","","","","","","","","","","","","",""]
[null,"","","","","","","","","","","","","","","",""]
[null,"","","","","","","","","","","","","","","",""]
[null,"","","","","","","","","","","","","","","",""]
[null,"","","","","","","","","","","","","","","",""]
[null,"","","","","","","","","","","","","","","",""]
[null,"","","","","","","","","","","","","","","",""]
[null,"","","","","","","","","","","","","","","",""]
[null,"","","",{"$f":"IF(D3778<>\"\",DATEDIF(D3778,TODAY(),\"y\"),\"\")","v":""},"","","","","","","","","","","",""]
[null,"","","","","","","","","","","","","","","",""]
[null,"","","","","","","","","","","","","","","",""]
[null,"","","","","","","","","","","","","","","",""]
[null,"","","","","","","","","","","","","","","",""]
[null,"","","","","","","","","","","","","","","",""]
[null,"","","","","","","","","","","","","","","",""]
[null,"","","","","","","","","","","","","","","",""]
[null,"","","","","","","","","","","","","","","",""]
[null,"","","","","","","","","","","","","","","",""]
[null,"","","","","","","","","","","","","","","",""]
[null,"","","","","","","","","","","","","","","",""]
[null,"","","","","","","","","","","","","","","",""]
[null,"","","","","","","","","","","","","","","",""]
[null,"","","","","","","","","","","","","","","",""]
[null,"","","","","","","","","","","","","","","",""]
[null,"","","","","","","","","","","","","","","",""]
[null,"","","","","","","","","","","","","","","",""]
[null,"","","","","","","","","","","","","","","",""]
[null,"","","","","","","","","","","","","","","",""]
[null,"","","","","","","","","","","","","","","",""]
[null,"","","","","","","","","","","","","","","",""]
[null,"","","","","","","","","","","","","","","",""]
[null,"","","","","","","","","","","","","","","",""]
[null,"","","","","","","","","","","","","","","",""]
[null,"","","","","","","","","","","","","","","",""]
[null,"","","","","","","","","","","","","","","",""]
[null,"","","","","","","","","","","","","","","",""]
[null,"","","","","","","","","","","","","","","",""]
[null,"","","","","","","","","","","","","","","",""]
[null,"","","","","","","","","","","","","","","",""]
[null,"","","","","","","","","","","","","","","",""]
[null,"","","","","","","","","","","","","","","",""]
[null,"","","","","","","","","","","","","","","",""]
[null,"","","","","","","","","","","","","","","",""]
[null,"","","","","","","","","","","","","","","",""]
[null,"","","","","","","","","","","","","","","",""]
[null,"","","","","","","","","","","","","","","",""]
[null,"","","","","","","","","","","","","","","",""]
[null,"","","","","","","","","","","","","","","",""]
[null,"","","","","","","","","","","","","","","",""]
[null,"","","","","","","","","","","","","","","",""]
[null,"","","","","","","","","","","","","","","",""]
[null,"","","","","","","","","","","","","","","",""]
[null,"","","","","","","","","","","","","","","",""]
[null,"","","","","","","","","","","","","","","",""]
[null,"","","","","","","","","","","","","","","",""]
[null,"","","","","","","","","","","","","","","",""]
[null,"","","","","","","","","","","","","","","",""]
[null,"","","","","","","","","","","","","","","",""]
[null,"","","","","","","","","","","","","","","",""]
[null,"","","","","","","","","","","","","","","",""]
[null,"","","","","","","","","","","","","","","",""]
[null,"","","","","","","","","","","","","","","",""]
[null,"","","","","","","","","","","","","","","",""]
[null,"","","","","","","","","","","","","","","",""]
[null,{"$f":"IF(ISERROR(INDIRECT($A3904&\"!F21\")),\"\",(INDIRECT($A3904&\"!F21\")))","v":""},{"$f":"IF(ISERROR(INDIRECT($A3904&\"!F22\")),\"\",(INDIRECT($A3904&\"!F22\")))","v":""},{"$f":"IF(ISERROR(INDIRECT($A3904&\"!F23\")),\"\",(INDIRECT($A3904&\"!F23\")))","v":""},"",{"$f":"IF(ISERROR(INDIRECT($A3904&\"!F24\")),\"\",(INDIRECT($A3904&\"!F24\")))","v":""},{"$f":"IF(ISERROR(INDIRECT($A3904&\"!F25\")),\"\",(INDIRECT($A3904&\"!F25\")))","v":""},{"$f":"IF(ISERROR(INDIRECT($A3904&\"!F26\")),\"\",(INDIRECT($A3904&\"!F26\")))","v":""},{"$f":"IF(ISERROR(INDIRECT($A3904&\"!F27\")),\"\",(INDIRECT($A3904&\"!F27\")))","v":""},{"$f":"IF(ISERROR(INDIRECT($A3904&\"!F28\")),\"\",(INDIRECT($A3904&\"!F28\")))","v":""},{"$f":"IF(ISERROR(INDIRECT($A3904&\"!F29\")),\"\",(INDIRECT($A3904&\"!F29\")))","v":""},{"$f":"IF(ISERROR(INDIRECT($A3904&\"!F30\")),\"\",(INDIRECT($A3904&\"!F30\")))","v":""},{"$f":"IF(ISERROR(INDIRECT($A3904&\"!F31\")),\"\",(INDIRECT($A3904&\"!F31\")))","v":""},{"$f":"IF(ISERROR(INDIRECT($A3904&\"!F32\")),\"\",(INDIRECT($A3904&\"!F32\")))","v":""},{"$f":"IF(ISERROR(INDIRECT($A3904&\"!F33\")),\"\",(INDIRECT($A3904&\"!F33\")))","v":""},{"$f":"IF(ISERROR(INDIRECT($A3904&\"!F34\")),\"\",(INDIRECT($A3904&\"!F34\")))","v":""},{"$f":"IF(ISERROR(INDIRECT($A3904&\"!F35\")),\"\",(INDIRECT($A3904&\"!F35\")))","v":""}]
[null,"","","","","","","","","","","","","","","",""]
[null,"","","","","","","","","","","","","","","",""]
[null,"","","","","","","","","","","","","","","",""]
[null,"","","","","","","","","","","","","","","",""]
[null,"","","","","","","","","","","","","","","",""]
[null,"","","","","","","","","","","","","","","",""]
[null,"","","","","","","","","","","","","","","",""]
[null,"","","","","","","","","","","","","","","",""]
[null,"","","","","","","","","","","","","","","",""]
[null,"","","","","","","","","","","","","","","",""]
[null,"","","","","","","","","","","","","","","",""]
[null,"","","","","","","","","","","","","","","",""]
[null,"","","","","","","","","","","","","","","",""]
[null,"","","","","","","","","","","","","","","",""]
[null,"","","","","","","","","","","","","","","",""]
[null,"","","","","","","","","","","","","","","",""]
[null,"","","","","","","","","","","","","","","",""]
[null,"","","","","","","","","","","","","","","",""]
[null,"","","","","","","","","","","","","","","",""]
[null,"","","","","","","","","","","","","","","",""]
[null,"","","","","","","","","","","","","","","",""]
[null,"","","","","","","","","","","","","","","",""]
[null,"","","","","","","","","","","","","","","",""]
[null,"","","","","","","","","","","","","","","",""]
[null,"","","","","","","","","","","","","","","",""]
[null,"","","","","","","","","","","","","","","",""]
[null,"","","","","","","","","","","","","","","",""]
[null,"","","","","","","","","","","","","","","",""]
[null,"","","",{"$f":"IF(D3970<>\"\",DATEDIF(D3970,TODAY(),\"y\"),\"\")","v":""},"","","","","","","","","","","",""]
[null,"","","","","","","","","","","","","","","",""]
[null,"","","","","","","","","","","","","","","",""]
[null,"","","","","","","","","","","","","","","",""]
[null,"","","","","","","","","","","","","","","",""]
[null,"","","","","","","","","","","","","","","",""]
[null,"","","","","","","","","","","","","","","",""]
[null,"","","","","","","","","","","","","","","",""]
[null,"","","","","","","","","","","","","","","",""]
[null,"","","","","","","","","","","","","","","",""]
[null,"","","","","","","","","","","","","","","",""]
[null,"","","","","","","","","","","","","","","",""]
[null,"","","","","","","","","","","","","","","",""]
[null,"","","","","","","","","","","","","","","",""]
[null,"","","","","","","","","","","","","","","",""]
[null,"","","","","","","","","","","","","","","",""]
[null,"","","","","","","","","","","","","","","",""]
[null,"","","","","","","","","","","","","","","",""]
[null,"","","","","","","","","","","","","","","",""]
[null,"","","","","","","","","","","","","","","",""]
[null,"","","","","","","","","","","","","","","",""]
[null,"","","","","","","","","","","","","","","",""]
[null,"","","","","","","","","","","","","","","",""]
[null,"","","","","","","","","","","","","","","",""]
[null,"","","","","","","","","","","","","","","",""]
[null,"","","","","","","","","","","","","","","",""]
[null,"","","","","","","","","","","","","","","",""]
[null,"","","","","","","","","","","","","","","",""]
[null,"","","","","","","","","","","","","","","",""]
[null,"","","","","","","","","","","","","","","",""]
[null,"","","","","","","","","","","","","","","",""]
[null,"","","","","","","","","","","","","","","",""]
[null,"","","","","","","","","","","","","","","",""]
[null,"","","","","","","","","","","","","","","",""]
[null,"","","","","","","","","","","","","","","",""]
[null,"","","","","","","","","","","","","","","",""]
[null,"","","","","","","","","","","","","","","",""]
[null,"","","","","","","","","","","","","","","",""]
[null,"","","","","","","","","","","","","","","",""]
[null,"","","","","","","","","","","","","","","",""]
[null,"","","","","","","","","","","","","","","",""]
[null,"","","","","","","","","","","","","","","",""]
[null,"","","","","","","","","","","","","","","",""]
[null,"","","","","","","","","","","","","","","",""]
[null,"","","","","","","","","","","","","","","",""]
[null,"","","","","","","","","","","","","","","",""]
[null,"","","","","","","","","","","","","","","",""]
[null,"","","","","","","","","","","","","","","",""]
[null,"","","","","","","","","","","","","","","",""]
[null,"","","","","","","","","","","","","","","",""]
[null,"","","","","","","","","","","","","","","",""]
[null,"","","","","","","","","","","","","","","",""]
[null,"","","","","","","","","","","","","","","",""]
[null,"","","","","","","","","","","","","","","",""]
[null,"","","","","","","","","","","","","","","",""]
[null,"","","","","","","","","","","","","","","",""]
[null,{"$f":"IF(ISERROR(INDIRECT($A4096&\"!F21\")),\"\",(INDIRECT($A4096&\"!F21\")))","v":""},{"$f":"IF(ISERROR(INDIRECT($A4096&\"!F22\")),\"\",(INDIRECT($A4096&\"!F22\")))","v":""},{"$f":"IF(ISERROR(INDIRECT($A4096&\"!F23\")),\"\",(INDIRECT($A4096&\"!F23\")))","v":""},"",{"$f":"IF(ISERROR(INDIRECT($A4096&\"!F24\")),\"\",(INDIRECT($A4096&\"!F24\")))","v":""},{"$f":"IF(ISERROR(INDIRECT($A4096&\"!F25\")),\"\",(INDIRECT($A4096&\"!F25\")))","v":""},{"$f":"IF(ISERROR(INDIRECT($A4096&\"!F26\")),\"\",(INDIRECT($A4096&\"!F26\")))","v":""},{"$f":"IF(ISERROR(INDIRECT($A4096&\"!F27\")),\"\",(INDIRECT($A4096&\"!F27\")))","v":""},{"$f":"IF(ISERROR(INDIRECT($A4096&\"!F28\")),\"\",(INDIRECT($A4096&\"!F28\")))","v":""},{"$f":"IF(ISERROR(INDIRECT($A4096&\"!F29\")),\"\",(INDIRECT($A4096&\"!F29\")))","v":""},{"$f":"IF(ISERROR(INDIRECT($A4096&\"!F30\")),\"\",(INDIRECT($A4096&\"!F30\")))","v":""},{"$f":"IF(ISERROR(INDIRECT($A4096&\"!F31\")),\"\",(INDIRECT($A4096&\"!F31\")))","v":""},{"$f":"IF(ISERROR(INDIRECT($A4096&\"!F32\")),\"\",(INDIRECT($A4096&\"!F32\")))","v":""},{"$f":"IF(ISERROR(INDIRECT($A4096&\"!F33\")),\"\",(INDIRECT($A4096&\"!F33\")))","v":""},{"$f":"IF(ISERROR(INDIRECT($A4096&\"!F34\")),\"\",(INDIRECT($A4096&\"!F34\")))","v":""},{"$f":"IF(ISERROR(INDIRECT($A4096&\"!F35\")),\"\",(INDIRECT($A4096&\"!F35\")))","v":""}]
[null,"","","",{"$f":"IF(D4098<>\"\",DATEDIF(D4098,TODAY(),\"y\"),\"\")","v":""},"","","","","","","","","","","",""]
[null,"","","","","","","","","","","","","","","",""]
[null,"","","","","","","","","","","","","","","",""]
[null,"","","","","","","","","","","","","","","",""]
[null,"","","","","","","","","","","","","","","",""]
[null,"","","","","","","","","","","","","","","",""]
[null,"","","","","","","","","","","","","","","",""]
[null,"","","","","","","","","","","","","","","",""]
[null,"","","","","","","","","","","","","","","",""]
[null,"","","","","","","","","","","","","","","",""]
[null,"","","","","","","","","","","","","","","",""]
[null,"","","","","","","","","","","","","","","",""]
[null,"","","","","","","","","","","","","","","",""]
[null,"","","","","","","","","","","","","","","",""]
[null,"","","","","","","","","","","","","","","",""]
[null,"","","","","","","","","","","","","","","",""]
[null,"","","","","","","","","","","","","","","",""]
[null,"","","","","","","","","","","","","","","",""]
[null,"","","","","","","","","","","","","","","",""]
[null,"","","","","","","","","","","","","","","",""]
[null,"","","","","","","","","","","","","","","",""]
[null,"","","","","","","","","","","","","","","",""]
[null,"","","","","","","","","","","","","","","",""]
[null,"","","","","","","","","","","","","","","",""]
[null,"","","","","","","","","","","","","","","",""]
[null,"","","","","","","","","","","","","","","",""]
[null,"","","","","","","","","","","","","","","",""]
[null,"","","","","","","","","","","","","","","",""]
[null,"","","","","","","","","","","","","","","",""]
[null,"","","",{"$f":"IF(D4162<>\"\",DATEDIF(D4162,TODAY(),\"y\"),\"\")","v":""},"","","","","","","","","","","",""]
[null,"","","","","","","","","","","","","","","",""]
[null,"","","","","","","","","","","","","","","",""]
[null,"","","","","","","","","","","","","","","",""]
[null,"","","","","","","","","","","","","","","",""]
[null,"","","","","","","","","","","","","","","",""]
[null,"","","","","","","","","","","","","","","",""]
[null,"","","","","","","","","","","","","","","",""]
[null,"","","","","","","","","","","","","","","",""]
[null,"","","","","","","","","","","","","","","",""]
[null,"","","","","","","","","","","","","","","",""]
[null,"","","","","","","","","","","","","","","",""]
[null,"","","","","","","","","","","","","","","",""]
[null,"","","","","","","","","","","","","","","",""]
[null,"","","","","","","","","","","","","","","",""]
[null,"","","","","","","","","","","","","","","",""]
[null,"","","","","","","","","","","","","","","",""]
[null,"","","","","","","","","","","","","","","",""]
[null,"","","","","","","","","","","","","","","",""]
[null,"","","","","","","","","","","","","","","",""]
[null,"","","","","","","","","","","","","","","",""]
[null,"","","","","","","","","","","","","","","",""]
[null,"","","","","","","","","","","","","","","",""]
[null,"","","","","","","","","","","","","","","",""]
[null,"","","","","","","","","","","","","","","",""]
[null,"","","","","","","","","","","","","","","",""]
[null,"","","","","","","","","","","","","","","",""]
[null,{"$f":"IF(ISERROR(INDIRECT($A4224&\"!F21\")),\"\",(INDIRECT($A4224&\"!F21\")))","v":""},{"$f":"IF(ISERROR(INDIRECT($A4224&\"!F22\")),\"\",(INDIRECT($A4224&\"!F22\")))","v":""},{"$f":"IF(ISERROR(INDIRECT($A4224&\"!F23\")),\"\",(INDIRECT($A4224&\"!F23\")))","v":""},"",{"$f":"IF(ISERROR(INDIRECT($A4224&\"!F24\")),\"\",(INDIRECT($A4224&\"!F24\")))","v":""},{"$f":"IF(ISERROR(INDIRECT($A4224&\"!F25\")),\"\",(INDIRECT($A4224&\"!F25\")))","v":""},{"$f":"IF(ISERROR(INDIRECT($A4224&\"!F26\")),\"\",(INDIRECT($A4224&\"!F26\")))","v":""},{"$f":"IF(ISERROR(INDIRECT($A4224&\"!F27\")),\"\",(INDIRECT($A4224&\"!F27\")))","v":""},{"$f":"IF(ISERROR(INDIRECT($A4224&\"!F28\")),\"\",(INDIRECT($A4224&\"!F28\")))","v":""},{"$f":"IF(ISERROR(INDIRECT($A4224&\"!F29\")),\"\",(INDIRECT($A4224&\"!F29\")))","v":""},{"$f":"IF(ISERROR(INDIRECT($A4224&\"!F30\")),\"\",(INDIRECT($A4224&\"!F30\")))","v":""},{"$f":"IF(ISERROR(INDIRECT($A4224&\"!F31\")),\"\",(INDIRECT($A4224&\"!F31\")))","v":""},{"$f":"IF(ISERROR(INDIRECT($A4224&\"!F32\")),\"\",(INDIRECT($A4224&\"!F32\")))","v":""},{"$f":"IF(ISERROR(INDIRECT($A4224&\"!F33\")),\"\",(INDIRECT($A4224&\"!F33\")))","v":""},{"$f":"IF(ISERROR(INDIRECT($A4224&\"!F34\")),\"\",(INDIRECT($A4224&\"!F34\")))","v":""},{"$f":"IF(ISERROR(INDIRECT($A4224&\"!F35\")),\"\",(INDIRECT($A4224&\"!F35\")))","v":""}]
[null,"","","","","","","","","","","","","","","",""]
[null,"","","","","","","","","","","","","","","",""]
[null,"","","","","","","","","","","","","","","",""]
[null,"","","","","","","","","","","","","","","",""]
[null,"","","","","","","","","","","","","","","",""]
[null,"","","","","","","","","","","","","","","",""]
[null,"","","","","","","","","","","","","","","",""]
[null,"","","","","","","","","","","","","","","",""]
[null,"","","","","","","","","","","","","","","",""]
[null,"","","","","","","","","","","","","","","",""]
[null,"","","","","","","","","","","","","","","",""]
[null,"","","","","","","","","","","","","","","",""]
[null,"","","","","","","","","","","","","","","",""]
[null,"","","","","","","","","","","","","","","",""]
[null,"","","","","","","","","","","","","","","",""]
[null,"","","","","","","","","","","","","","","",""]
[null,"","","","","","","","","","","","","","","",""]
[null,"","","","","","","","","","","","","","","",""]
[null,"","","","","","","","","","","","","","","",""]
[null,"","","","","","","","","","","","","","","",""]
[null,"","","","","","","","","","","","","","","",""]
[null,"","","","","","","","","","","","","","","",""]
[null,"","","","","","","","","","","","","","","",""]
[null,"","","","","","","","","","","","","","","",""]
[null,"","","","","","","","","","","","","","","",""]
[null,"","","","","","","","","","","","","","","",""]
[null,"","","","","","","","","","","","","","","",""]
[null,"","","","","","","","","","","","","","","",""]
[null,{"$f":"IF(ISERROR(INDIRECT($A4288&\"!F21\")),\"\",(INDIRECT($A4288&\"!F21\")))","v":""},{"$f":"IF(ISERROR(INDIRECT($A4288&\"!F22\")),\"\",(INDIRECT($A4288&\"!F22\")))","v":""},{"$f":"IF(ISERROR(INDIRECT($A4288&\"!F23\")),\"\",(INDIRECT($A4288&\"!F23\")))","v":""},"",{"$f":"IF(ISERROR(INDIRECT($A4288&\"!F24\")),\"\",(INDIRECT($A4288&\"!F24\")))","v":""},{"$f":"IF(ISERROR(INDIRECT($A4288&\"!F25\")),\"\",(INDIRECT($A4288&\"!F25\")))","v":""},{"$f":"IF(ISERROR(INDIRECT($A4288&\"!F26\")),\"\",(INDIRECT($A4288&\"!F26\")))","v":""},{"$f":"IF(ISERROR(INDIRECT($A4288&\"!F27\")),\"\",(INDIRECT($A4288&\"!F27\")))","v":""},{"$f":"IF(ISERROR(INDIRECT($A4288&\"!F28\")),\"\",(INDIRECT($A4288&\"!F28\")))","v":""},{"$f":"IF(ISERROR(INDIRECT($A4288&\"!F29\")),\"\",(INDIRECT($A4288&\"!F29\")))","v":""},{"$f":"IF(ISERROR(INDIRECT($A4288&\"!F30\")),\"\",(INDIRECT($A4288&\"!F30\")))","v":""},{"$f":"IF(ISERROR(INDIRECT($A4288&\"!F31\")),\"\",(INDIRECT($A4288&\"!F31\")))","v":""},{"$f":"IF(ISERROR(INDIRECT($A4288&\"!F32\")),\"\",(INDIRECT($A4288&\"!F32\")))","v":""},{"$f":"IF(ISERROR(INDIRECT($A4288&\"!F33\")),\"\",(INDIRECT($A4288&\"!F33\")))","v":""},{"$f":"IF(ISERROR(INDIRECT($A4288&\"!F34\")),\"\",(INDIRECT($A4288&\"!F34\")))","v":""},{"$f":"IF(ISERROR(INDIRECT($A4288&\"!F35\")),\"\",(INDIRECT($A4288&\"!F35\")))","v":""}]
[null,"","","","","","","","","","","","","","","",""]
[null,"","","","","","","","","","","","","","","",""]
[null,"","","","","","","","","","","","","","","",""]
[null,"","","","","","","","","","","","","","","",""]
[null,"","","","","","","","","","","","","","","",""]
[null,"","","","","","","","","","","","","","","",""]
[null,"","","","","","","","","","","","","","","",""]
[null,"","","","","","","","","","","","","","","",""]
[null,"","","","","","","","","","","","","","","",""]
[null,"","","","","","","","","","","","","","","",""]
[null,"","","","","","","","","","","","","","","",""]
[null,"","","","","","","","","","","","","","","",""]
[null,"","","","","","","","","","","","","","","",""]
[null,"","","","","","","","","","","","","","","",""]
[null,"","","","","","","","","","","","","","","",""]
[null,"","","","","","","","","","","","","","","",""]
[null,"","","","","","","","","","","","","","","",""]
[null,"","","","","","","","","","","","","","","",""]
[null,"","","","","","","","","","","","","","","",""]
[null,"","","","","","","","","","","","","","","",""]
[null,"","","","","","","","","","","","","","","",""]
[null,"","","","","","","","","","","","","","","",""]
[null,"","","","","","","","","","","","","","","",""]
[null,"","","","","","","","","","","","","","","",""]
[null,"","","","","","","","","","","","","","","",""]
[null,"","","","","","","","","","","","","","","",""]
[null,"","","","","","","","","","","","","","","",""]
[null,"","","","","","","","","","","","","","","",""]
[null,"","","",{"$f":"IF(D4354<>\"\",DATEDIF(D4354,TODAY(),\"y\"),\"\")","v":""},"","","","","","","","","","","",""]
[null,"","","","","","","","","","","","","","","",""]
[null,"","","","","","","","","","","","","","","",""]
[null,"","","","","","","","","","","","","","","",""]
[null,"","","","","","","","","","","","","","","",""]
[null,"","","","","","","","","","","","","","","",""]
[null,"","","","","","","","","","","","","","","",""]
[null,"","","","","","","","","","","","","","","",""]
[null,"","","","","","","","","","","","","","","",""]
[null,"","","","","","","","","","","","","","","",""]
[null,"","","","","","","","","","","","","","","",""]
[null,"","","","","","","","","","","","","","","",""]
[null,"","","","","","","","","","","","","","","",""]
[null,"","","","","","","","","","","","","","","",""]
[null,"","","","","","","","","","","","","","","",""]
[null,"","","","","","","","","","","","","","","",""]
[null,"","","","","","","","","","","","","","","",""]
[null,"","","","","","","","","","","","","","","",""]
[null,"","","","","","","","","","","","","","","",""]
[null,"","","","","","","","","","","","","","","",""]
[null,"","","","","","","","","","","","","","","",""]
[null,"","","","","","","","","","","","","","","",""]
[null,"","","","","","","","","","","","","","","",""]
[null,"","","","","","","","","","","","","","","",""]
[null,"","","","","","","","","","","","","","","",""]
[null,"","","","","","","","","","","","","","","",""]
[null,"","","","","","","","","","","","","","","",""]
[null,"","","","","","","","","","","","","","","",""]
[null,"","","","","","","","","","","","","","","",""]
[null,"","","",{"$f":"IF(D4418<>\"\",DATEDIF(D4418,TODAY(),\"y\"),\"\")","v":""},"","","","","","","","","","","",""]
[null,"","","","","","","","","","","","","","","",""]
[null,"","","","","","","","","","","","","","","",""]
[null,"","","","","","","","","","","","","","","",""]
[null,"","","","","","","","","","","","","","","",""]
[null,"","","","","","","","","","","","","","","",""]
[null,"","","","","","","","","","","","","","","",""]
[null,"","","","","","","","","","","","","","","",""]
[null,"","","","","","","","","","","","","","","",""]
[null,"","","","","","","","","","","","","","","",""]
[null,"","","","","","","","","","","","","","","",""]
[null,"","","","","","","","","","","","","","","",""]
[null,"","","","","","","","","","","","","","","",""]
[null,"","","","","","","","","","","","","","","",""]
[null,"","","","","","","","","","","","","","","",""]
[null,"","","","","","","","","","","","","","","",""]
[null,"","","","","","","","","","","","","","","",""]
[null,"","","","","","","","","","","","","","","",""]
[null,"","","","","","","","","","","","","","","",""]
[null,"","","","","","","","","","","","","","","",""]
[null,"","","","","","","","","","","","","","","",""]
[null,"","","","","","","","","","","","","","","",""]
[null,"","","","","","","","","","","","","","","",""]
[null,"","","","","","","","","","","","","","","",""]
[null,"","","","","","","","","","","","","","","",""]
[null,"","","","","","","","","","","","","","","",""]
[null,"","","","","","","","","","","","","","","",""]
[null,{"$f":"IF(ISERROR(INDIRECT($A4480&\"!F21\")),\"\",(INDIRECT($A4480&\"!F21\")))","v":""},{"$f":"IF(ISERROR(INDIRECT($A4480&\"!F22\")),\"\",(INDIRECT($A4480&\"!F22\")))","v":""},{"$f":"IF(ISERROR(INDIRECT($A4480&\"!F23\")),\"\",(INDIRECT($A4480&\"!F23\")))","v":""},"",{"$f":"IF(ISERROR(INDIRECT($A4480&\"!F24\")),\"\",(INDIRECT($A4480&\"!F24\")))","v":""},{"$f":"IF(ISERROR(INDIRECT($A4480&\"!F25\")),\"\",(INDIRECT($A4480&\"!F25\")))","v":""},{"$f":"IF(ISERROR(INDIRECT($A4480&\"!F26\")),\"\",(INDIRECT($A4480&\"!F26\")))","v":""},{"$f":"IF(ISERROR(INDIRECT($A4480&\"!F27\")),\"\",(INDIRECT($A4480&\"!F27\")))","v":""},{"$f":"IF(ISERROR(INDIRECT($A4480&\"!F28\")),\"\",(INDIRECT($A4480&\"!F28\")))","v":""},{"$f":"IF(ISERROR(INDIRECT($A4480&\"!F29\")),\"\",(INDIRECT($A4480&\"!F29\")))","v":""},{"$f":"IF(ISERROR(INDIRECT($A4480&\"!F30\")),\"\",(INDIRECT($A4480&\"!F30\")))","v":""},{"$f":"IF(ISERROR(INDIRECT($A4480&\"!F31\")),\"\",(INDIRECT($A4480&\"!F31\")))","v":""},{"$f":"IF(ISERROR(INDIRECT($A4480&\"!F32\")),\"\",(INDIRECT($A4480&\"!F32\")))","v":""},{"$f":"IF(ISERROR(INDIRECT($A4480&\"!F33\")),\"\",(INDIRECT($A4480&\"!F33\")))","v":""},{"$f":"IF(ISERROR(INDIRECT($A4480&\"!F34\")),\"\",(INDIRECT($A4480&\"!F34\")))","v":""},{"$f":"IF(ISERROR(INDIRECT($A4480&\"!F35\")),\"\",(INDIRECT($A4480&\"!F35\")))","v":""}]
[null,"","","","","","","","","","","","","","","",""]
[null,"","","","","","","","","","","","","","","",""]
[null,"","","","","","","","","","","","","","","",""]
[null,"","","","","","","","","","","","","","","",""]
[null,"","","","","","","","","","","","","","","",""]
[null,"","","","","","","","","","","","","","","",""]
[null,"","","","","","","","","","","","","","","",""]
[null,"","","","","","","","","","","","","","","",""]
[null,"","","","","","","","","","","","","","","",""]
[null,"","","","","","","","","","","","","","","",""]
[null,"","","","","","","","","","","","","","","",""]
[null,"","","","","","","","","","","","","","","",""]
[null,"","","","","","","","","","","","","","","",""]
[null,"","","","","","","","","","","","","","","",""]
[null,"","","","","","","","","","","","","","","",""]
[null,"","","","","","","","","","","","","","","",""]
[null,"","","","","","","","","","","","","","","",""]
[null,"","","","","","","","","","","","","","","",""]
[null,"","","","","","","","","","","","","","","",""]
[null,"","","","","","","","","","","","","","","",""]
[null,"","","","","","","","","","","","","","","",""]
[null,"","","","","","","","","","","","","","","",""]
[null,"","","","","","","","","","","","","","","",""]
[null,"","","","","","","","","","","","","","","",""]
[null,"","","","","","","","","","","","","","","",""]
[null,"","","","","","","","","","","","","","","",""]
[null,"","","","","","","","","","","","","","","",""]
[null,"","","","","","","","","","","","","","","",""]
[null,{"$f":"IF(ISERROR(INDIRECT($A4544&\"!F21\")),\"\",(INDIRECT($A4544&\"!F21\")))","v":""},{"$f":"IF(ISERROR(INDIRECT($A4544&\"!F22\")),\"\",(INDIRECT($A4544&\"!F22\")))","v":""},{"$f":"IF(ISERROR(INDIRECT($A4544&\"!F23\")),\"\",(INDIRECT($A4544&\"!F23\")))","v":""},"",{"$f":"IF(ISERROR(INDIRECT($A4544&\"!F24\")),\"\",(INDIRECT($A4544&\"!F24\")))","v":""},{"$f":"IF(ISERROR(INDIRECT($A4544&\"!F25\")),\"\",(INDIRECT($A4544&\"!F25\")))","v":""},{"$f":"IF(ISERROR(INDIRECT($A4544&\"!F26\")),\"\",(INDIRECT($A4544&\"!F26\")))","v":""},{"$f":"IF(ISERROR(INDIRECT($A4544&\"!F27\")),\"\",(INDIRECT($A4544&\"!F27\")))","v":""},{"$f":"IF(ISERROR(INDIRECT($A4544&\"!F28\")),\"\",(INDIRECT($A4544&\"!F28\")))","v":""},{"$f":"IF(ISERROR(INDIRECT($A4544&\"!F29\")),\"\",(INDIRECT($A4544&\"!F29\")))","v":""},{"$f":"IF(ISERROR(INDIRECT($A4544&\"!F30\")),\"\",(INDIRECT($A4544&\"!F30\")))","v":""},{"$f":"IF(ISERROR(INDIRECT($A4544&\"!F31\")),\"\",(INDIRECT($A4544&\"!F31\")))","v":""},{"$f":"IF(ISERROR(INDIRECT($A4544&\"!F32\")),\"\",(INDIRECT($A4544&\"!F32\")))","v":""},{"$f":"IF(ISERROR(INDIRECT($A4544&\"!F33\")),\"\",(INDIRECT($A4544&\"!F33\")))","v":""},{"$f":"IF(ISERROR(INDIRECT($A4544&\"!F34\")),\"\",(INDIRECT($A4544&\"!F34\")))","v":""},{"$f":"IF(ISERROR(INDIRECT($A4544&\"!F35\")),\"\",(INDIRECT($A4544&\"!F35\")))","v":""}]
[null,"","","","","","","","","","","","","","","",""]
[null,"","","","","","","","","","","","","","","",""]
[null,"","","","","","","","","","","","","","","",""]
[null,"","","","","","","","","","","","","","","",""]
[null,"","","","","","","","","","","","","","","",""]
[null,"","","","","","","","","","","","","","","",""]
[null,"","","","","","","","","","","","","","","",""]
[null,"","","","","","","","","","","","","","","",""]
[null,"","","","","","","","","","","","","","","",""]
[null,"","","","","","","","","","","","","","","",""]
[null,"","","","","","","","","","","","","","","",""]
[null,"","","","","","","","","","","","","","","",""]
[null,"","","","","","","","","","","","","","","",""]
[null,"","","","","","","","","","","","","","","",""]
[null,"","","","","","","","","","","","","","","",""]
[null,"","","","","","","","","","","","","","","",""]
[null,"","","","","","","","","","","","","","","",""]
[null,"","","","","","","","","","","","","","","",""]
[null,"","","","","","","","","","","","","","","",""]
[null,"","","","","","","","","","","","","","","",""]
[null,"","","","","","","","","","","","","","","",""]
[null,"","","","","","","","","","","","","","","",""]
[null,"","","","","","","","","","","","","","","",""]
[null,"","","","","","","","","","","","","","","",""]
[null,"","","","","","","","","","","","","","","",""]
[null,"","","","","","","","","","","","","","","",""]
[null,"","","","","","","","","","","","","","","",""]
[null,"","","","","","","","","","","","","","","",""]
[null,"","","","","","","","","","","","","","","",""]
[null,"","","","","","","","","","","","","","","",""]
[null,"","","","","","","","","","","","","","","",""]
[null,"","","","","","","","","","","","","","","",""]
[null,"","","","","","","","","","","","","","","",""]
[null,"","","","","","","","","","","","","","","",""]
[null,"","","","","","","","","","","","","","","",""]
[null,"","","","","","","","","","","","","","","",""]
[null,"","","","","","","","","","","","","","","",""]
[null,"","","","","","","","","","","","","","","",""]
[null,"","","","","","","","","","","","","","","",""]
[null,"","","","","","","","","","","","","","","",""]
[null,"","","","","","","","","","","","","","","",""]
[null,"","","","","","","","","","","","","","","",""]
[null,"","","","","","","","","","","","","","","",""]
[null,"","","","","","","","","","","","","","","",""]
[null,"","","","","","","","","","","","","","","",""]
[null,"","","","","","","","","","","","","","","",""]
[null,"","","","","","","","","","","","","","","",""]
[null,"","","","","","","","","","","","","","","",""]
[null,"","","","","","","","","","","","","","","",""]
[null,"","","","","","","","","","","","","","","",""]
[null,"","","","","","","","","","","","","","","",""]
[null,"","","","","","","","","","","","","","","",""]
[null,"","","","","","","","","","","","","","","",""]
[null,"","","","","","","","","","","","","","","",""]
[null,"","","","","","","","","","","","","","","",""]
[null,"","","","","","","","","","","","","","","",""]
[null,"","","","","","","","","","","","","","","",""]
[null,"","","","","","","","","","","","","","","",""]
[null,"","","","","","","","","","","","","","","",""]
[null,"","","","","","","","","","","","","","","",""]
[null,"","","","","","","","","","","","","","","",""]
[null,"","","","","","","","","","","","","","","",""]
[null,"","","","","","","","","","","","","","","",""]
[null,"","","","","","","","","","","","","","","",""]
[null,"","","","","","","","","","","","","","","",""]
[null,"","","","","","","","","","","","","","","",""]
[null,"","","","","","","","","","","","","","","",""]
[null,"","","","","","","","","","","","","","","",""]
[null,"","","","","","","","","","","","","","","",""]
[null,"","","","","","","","","","","","","","","",""]
[null,"","","","","","","","","","","","","","","",""]
[null,"","","","","","","","","","","","","","","",""]
[null,"","","","","","","","","","","","","","","",""]
[null,"","","","","","","","","","","","","","","",""]
[null,"","","","","","","","","","","","","","","",""]
[null,"","","","","","","","","","","","","","","",""]
[null,"","","","","","","","","","","","","","","",""]
[null,"","","","","","","","","","","","","","","",""]
[null,"","","","","","","","","","","","","","","",""]
[null,"","","","","","","","","","","","","","","",""]
[null,"","","","","","","","","","","","","","","",""]
[null,"","","","","","","","","","","","","","","",""]
[null,"","","","","","","","","","","","","","","",""]
[null,"","","","","","","","","","","","","","","",""]
[null,"","","","","","","","","","","","","","","",""]
[null,"","","",{"$f":"IF(D4738<>\"\",DATEDIF(D4738,TODAY(),\"y\"),\"\")","v":""},"","","","","","","","","","","",""]
[null,"","","","","","","","","","","","","","","",""]
[null,"","","","","","","","","","","","","","","",""]
[null,"","","","","","","","","","","","","","","",""]
[null,"","","","","","","","","","","","","","","",""]
[null,"","","","","","","","","","","","","","","",""]
[null,"","","","","","","","","","","","","","","",""]
[null,"","","","","","","","","","","","","","","",""]
[null,"","","","","","","","","","","","","","","",""]
[null,"","","","","","","","","","","","","","","",""]
[null,"","","","","","","","","","","","","","","",""]
[null,"","","","","","","","","","","","","","","",""]
[null,"","","","","","","","","","","","","","","",""]
[null,"","","","","","","","","","","","","","","",""]
[null,"","","","","","","","","","","","","","","",""]
[null,"","","","","","","","","","","","","","","",""]
[null,"","","","","","","","","","","","","","","",""]
[null,"","","","","","","","","","","","","","","",""]
[null,"","","","","","","","","","","","","","","",""]
[null,"","","","","","","","","","","","","","","",""]
[null,"","","","","","","","","","","","","","","",""]
[null,"","","","","","","","","","","","","","","",""]
[null,"","","","","","","","","","","","","","","",""]
[null,"","","","","","","","","","","","","","","",""]
[null,"","","","","","","","","","","","","","","",""]
[null,"","","","","","","","","","","","","","","",""]
[null,"","","","","","","","","","","","","","","",""]
[null,{"$f":"IF(ISERROR(INDIRECT($A4800&\"!F21\")),\"\",(INDIRECT($A4800&\"!F21\")))","v":""},{"$f":"IF(ISERROR(INDIRECT($A4800&\"!F22\")),\"\",(INDIRECT($A4800&\"!F22\")))","v":""},{"$f":"IF(ISERROR(INDIRECT($A4800&\"!F23\")),\"\",(INDIRECT($A4800&\"!F23\")))","v":""},"",{"$f":"IF(ISERROR(INDIRECT($A4800&\"!F24\")),\"\",(INDIRECT($A4800&\"!F24\")))","v":""},{"$f":"IF(ISERROR(INDIRECT($A4800&\"!F25\")),\"\",(INDIRECT($A4800&\"!F25\")))","v":""},{"$f":"IF(ISERROR(INDIRECT($A4800&\"!F26\")),\"\",(INDIRECT($A4800&\"!F26\")))","v":""},{"$f":"IF(ISERROR(INDIRECT($A4800&\"!F27\")),\"\",(INDIRECT($A4800&\"!F27\")))","v":""},{"$f":"IF(ISERROR(INDIRECT($A4800&\"!F28\")),\"\",(INDIRECT($A4800&\"!F28\")))","v":""},{"$f":"IF(ISERROR(INDIRECT($A4800&\"!F29\")),\"\",(INDIRECT($A4800&\"!F29\")))","v":""},{"$f":"IF(ISERROR(INDIRECT($A4800&\"!F30\")),\"\",(INDIRECT($A4800&\"!F30\")))","v":""},{"$f":"IF(ISERROR(INDIRECT($A4800&\"!F31\")),\"\",(INDIRECT($A4800&\"!F31\")))","v":""},{"$f":"IF(ISERROR(INDIRECT($A4800&\"!F32\")),\"\",(INDIRECT($A4800&\"!F32\")))","v":""},{"$f":"IF(ISERROR(INDIRECT($A4800&\"!F33\")),\"\",(INDIRECT($A4800&\"!F33\")))","v":""},{"$f":"IF(ISERROR(INDIRECT($A4800&\"!F34\")),\"\",(INDIRECT($A4800&\"!F34\")))","v":""},{"$f":"IF(ISERROR(INDIRECT($A4800&\"!F35\")),\"\",(INDIRECT($A4800&\"!F35\")))","v":""}]
[null,"","","","","","","","","","","","","","","",""]
[null,"","","","","","","","","","","","","","","",""]
[null,"","","","","","","","","","","","","","","",""]
[null,"","","","","","","","","","","","","","","",""]
[null,"","","","","","","","","","","","","","","",""]
[null,"","","","","","","","","","","","","","","",""]
[null,"","","","","","","","","","","","","","","",""]
[null,"","","","","","","","","","","","","","","",""]
[null,"","","","","","","","","","","","","","","",""]
[null,"","","","","","","","","","","","","","","",""]
[null,"","","","","","","","","","","","","","","",""]
[null,"","","","","","","","","","","","","","","",""]
[null,"","","","","","","","","","","","","","","",""]
[null,"","","","","","","","","","","","","","","",""]
[null,"","","","","","","","","","","","","","","",""]
[null,"","","","","","","","","","","","","","","",""]
[null,"","","","","","","","","","","","","","","",""]
[null,"","","","","","","","","","","","","","","",""]
[null,"","","","","","","","","","","","","","","",""]
[null,"","","","","","","","","","","","","","","",""]
[null,"","","","","","","","","","","","","","","",""]
[null,"","","","","","","","","","","","","","","",""]
[null,"","","","","","","","","","","","","","","",""]
[null,"","","","","","","","","","","","","","","",""]
[null,"","","","","","","","","","","","","","","",""]
[null,"","","","","","","","","","","","","","","",""]
[null,"","","","","","","","","","","","","","","",""]
[null,"","","","","","","","","","","","","","","",""]
[null,{"$f":"IF(ISERROR(INDIRECT($A4864&\"!F21\")),\"\",(INDIRECT($A4864&\"!F21\")))","v":""},{"$f":"IF(ISERROR(INDIRECT($A4864&\"!F22\")),\"\",(INDIRECT($A4864&\"!F22\")))","v":""},{"$f":"IF(ISERROR(INDIRECT($A4864&\"!F23\")),\"\",(INDIRECT($A4864&\"!F23\")))","v":""},"",{"$f":"IF(ISERROR(INDIRECT($A4864&\"!F24\")),\"\",(INDIRECT($A4864&\"!F24\")))","v":""},{"$f":"IF(ISERROR(INDIRECT($A4864&\"!F25\")),\"\",(INDIRECT($A4864&\"!F25\")))","v":""},{"$f":"IF(ISERROR(INDIRECT($A4864&\"!F26\")),\"\",(INDIRECT($A4864&\"!F26\")))","v":""},{"$f":"IF(ISERROR(INDIRECT($A4864&\"!F27\")),\"\",(INDIRECT($A4864&\"!F27\")))","v":""},{"$f":"IF(ISERROR(INDIRECT($A4864&\"!F28\")),\"\",(INDIRECT($A4864&\"!F28\")))","v":""},{"$f":"IF(ISERROR(INDIRECT($A4864&\"!F29\")),\"\",(INDIRECT($A4864&\"!F29\")))","v":""},{"$f":"IF(ISERROR(INDIRECT($A4864&\"!F30\")),\"\",(INDIRECT($A4864&\"!F30\")))","v":""},{"$f":"IF(ISERROR(INDIRECT($A4864&\"!F31\")),\"\",(INDIRECT($A4864&\"!F31\")))","v":""},{"$f":"IF(ISERROR(INDIRECT($A4864&\"!F32\")),\"\",(INDIRECT($A4864&\"!F32\")))","v":""},{"$f":"IF(ISERROR(INDIRECT($A4864&\"!F33\")),\"\",(INDIRECT($A4864&\"!F33\")))","v":""},{"$f":"IF(ISERROR(INDIRECT($A4864&\"!F34\")),\"\",(INDIRECT($A4864&\"!F34\")))","v":""},{"$f":"IF(ISERROR(INDIRECT($A4864&\"!F35\")),\"\",(INDIRECT($A4864&\"!F35\")))","v":""}]
[null,"","","","","","","","","","","","","","","",""]
[null,"","","","","","","","","","","","","","","",""]
[null,"","","","","","","","","","","","","","","",""]
[null,"","","","","","","","","","","","","","","",""]
[null,"","","","","","","","","","","","","","","",""]
[null,"","","","","","","","","","","","","","","",""]
[null,"","","","","","","","","","","","","","","",""]
[null,"","","","","","","","","","","","","","","",""]
[null,"","","","","","","","","","","","","","","",""]
[null,"","","","","","","","","","","","","","","",""]
[null,"","","","","","","","","","","","","","","",""]
[null,"","","","","","","","","","","","","","","",""]
[null,"","","","","","","","","","","","","","","",""]
[null,"","","","","","","","","","","","","","","",""]
[null,"","","","","","","","","","","","","","","",""]
[null,"","","","","","","","","","","","","","","",""]
[null,"","","","","","","","","","","","","","","",""]
[null,"","","","","","","","","","","","","","","",""]
[null,"","","","","","","","","","","","","","","",""]
[null,"","","","","","","","","","","","","","","",""]
[null,"","","","","","","","","","","","","","","",""]
[null,"","","","","","","","","","","","","","","",""]
[null,"","","","","","","","","","","","","","","",""]
[null,"","","","","","","","","","","","","","","",""]
[null,"","","","","","","","","","","","","","","",""]
[null,"","","","","","","","","","","","","","","",""]
[null,"","","","","","","","","","","","","","","",""]
[null,{"$f":"IF(ISERROR(INDIRECT($A4928&\"!F21\")),\"\",(INDIRECT($A4928&\"!F21\")))","v":""},{"$f":"IF(ISERROR(INDIRECT($A4928&\"!F22\")),\"\",(INDIRECT($A4928&\"!F22\")))","v":""},{"$f":"IF(ISERROR(INDIRECT($A4928&\"!F23\")),\"\",(INDIRECT($A4928&\"!F23\")))","v":""},"",{"$f":"IF(ISERROR(INDIRECT($A4928&\"!F24\")),\"\",(INDIRECT($A4928&\"!F24\")))","v":""},{"$f":"IF(ISERROR(INDIRECT($A4928&\"!F25\")),\"\",(INDIRECT($A4928&\"!F25\")))","v":""},{"$f":"IF(ISERROR(INDIRECT($A4928&\"!F26\")),\"\",(INDIRECT($A4928&\"!F26\")))","v":""},{"$f":"IF(ISERROR(INDIRECT($A4928&\"!F27\")),\"\",(INDIRECT($A4928&\"!F27\")))","v":""},{"$f":"IF(ISERROR(INDIRECT($A4928&\"!F28\")),\"\",(INDIRECT($A4928&\"!F28\")))","v":""},{"$f":"IF(ISERROR(INDIRECT($A4928&\"!F29\")),\"\",(INDIRECT($A4928&\"!F29\")))","v":""},{"$f":"IF(ISERROR(INDIRECT($A4928&\"!F30\")),\"\",(INDIRECT($A4928&\"!F30\")))","v":""},{"$f":"IF(ISERROR(INDIRECT($A4928&\"!F31\")),\"\",(INDIRECT($A4928&\"!F31\")))","v":""},{"$f":"IF(ISERROR(INDIRECT($A4928&\"!F32\")),\"\",(INDIRECT($A4928&\"!F32\")))","v":""},{"$f":"IF(ISERROR(INDIRECT($A4928&\"!F33\")),\"\",(INDIRECT($A4928&\"!F33\")))","v":""},{"$f":"IF(ISERROR(INDIRECT($A4928&\"!F34\")),\"\",(INDIRECT($A4928&\"!F34\")))","v":""},{"$f":"IF(ISERROR(INDIRECT($A4928&\"!F35\")),\"\",(INDIRECT($A4928&\"!F35\")))","v":""}]
[null,"","","",{"$f":"IF(D4930<>\"\",DATEDIF(D4930,TODAY(),\"y\"),\"\")","v":""},"","","","","","","","","","","",""]
[null,"","","","","","","","","","","","","","","",""]
[null,"","","","","","","","","","","","","","","",""]
[null,"","","","","","","","","","","","","","","",""]
[null,"","","","","","","","","","","","","","","",""]
[null,"","","","","","","","","","","","","","","",""]
[null,"","","","","","","","","","","","","","","",""]
[null,"","","","","","","","","","","","","","","",""]
[null,"","","","","","","","","","","","","","","",""]
[null,"","","","","","","","","","","","","","","",""]
[null,"","","","","","","","","","","","","","","",""]
[null,"","","","","","","","","","","","","","","",""]
[null,"","","","","","","","","","","","","","","",""]
[null,"","","","","","","","","","","","","","","",""]
[null,"","","","","","","","","","","","","","","",""]
[null,"","","","","","","","","","","","","","","",""]
[null,"","","","","","","","","","","","","","","",""]
[null,"","","","","","","","","","","","","","","",""]
[null,"","","","","","","","","","","","","","","",""]
[null,"","","","","","","","","","","","","","","",""]
[null,"","","","","","","","","","","","","","","",""]
[null,"","","","","","","","","","","","","","","",""]
[null,"","","","","","","","","","","","","","","",""]
[null,"","","","","","","","","","","","","","","",""]
[null,"","","","","","","","","","","","","","","",""]
[null,"","","","","","","","","","","","","","","",""]
[null,"","","","","","","","","","","","","","","",""]
[null,"","","","","","","","","","","","","","","",""]
[null,"","","","","","","","","","","","","","","",""]
[null,"","","",{"$f":"IF(D4994<>\"\",DATEDIF(D4994,TODAY(),\"y\"),\"\")","v":""},"","","","","","","","","","","",""]
[null,"","","","","","","","","","","","","","","",""]
[null,"","","","","","","","","","","","","","","",""]
[null,"","","","","","","","","","","","","","","",""]
[null,"","","","","","","","","","","","","","","",""]
[null,"","","","","","","","","","","","","","","",""]
[null,"","","","","","","","","","","","","","","",""]
[null,"","","","","","","","","","","","","","","",""]
[null,"","","","","","","","","","","","","","","",""]
[null,"","","","","","","","","","","","","","","",""]
[null,"","","","","","","","","","","","","","","",""]
[null,"","","","","","","","","","","","","","","",""]
[null,"","","","","","","","","","","","","","","",""]
[null,"","","","","","","","","","","","","","","",""]
[null,"","","","","","","","","","","","","","","",""]
[null,"","","","","","","","","","","","","","","",""]
[null,"","","","","","","","","","","","","","","",""]
[null,"","","","","","","","","","","","","","","",""]
[null,"","","","","","","","","","","","","","","",""]
[null,"","","","","","","","","","","","","","","",""]
[null,"","","","","","","","","","","","","","","",""]
[null,"","","","","","","","","","","","","","","",""]
[null,"","","","","","","","","","","","","","","",""]
[null,"","","","","","","","","","","","","","","",""]
[null,"","","","","","","","","","","","","","","",""]
[null,"","","","","","","","","","","","","","","",""]
[null,"","","","","","","","","","","","","","","",""]
[null,{"$f":"IF(ISERROR(INDIRECT($A5056&\"!F21\")),\"\",(INDIRECT($A5056&\"!F21\")))","v":""},{"$f":"IF(ISERROR(INDIRECT($A5056&\"!F22\")),\"\",(INDIRECT($A5056&\"!F22\")))","v":""},{"$f":"IF(ISERROR(INDIRECT($A5056&\"!F23\")),\"\",(INDIRECT($A5056&\"!F23\")))","v":""},"",{"$f":"IF(ISERROR(INDIRECT($A5056&\"!F24\")),\"\",(INDIRECT($A5056&\"!F24\")))","v":""},{"$f":"IF(ISERROR(INDIRECT($A5056&\"!F25\")),\"\",(INDIRECT($A5056&\"!F25\")))","v":""},{"$f":"IF(ISERROR(INDIRECT($A5056&\"!F26\")),\"\",(INDIRECT($A5056&\"!F26\")))","v":""},{"$f":"IF(ISERROR(INDIRECT($A5056&\"!F27\")),\"\",(INDIRECT($A5056&\"!F27\")))","v":""},{"$f":"IF(ISERROR(INDIRECT($A5056&\"!F28\")),\"\",(INDIRECT($A5056&\"!F28\")))","v":""},{"$f":"IF(ISERROR(INDIRECT($A5056&\"!F29\")),\"\",(INDIRECT($A5056&\"!F29\")))","v":""},{"$f":"IF(ISERROR(INDIRECT($A5056&\"!F30\")),\"\",(INDIRECT($A5056&\"!F30\")))","v":""},{"$f":"IF(ISERROR(INDIRECT($A5056&\"!F31\")),\"\",(INDIRECT($A5056&\"!F31\")))","v":""},{"$f":"IF(ISERROR(INDIRECT($A5056&\"!F32\")),\"\",(INDIRECT($A5056&\"!F32\")))","v":""},{"$f":"IF(ISERROR(INDIRECT($A5056&\"!F33\")),\"\",(INDIRECT($A5056&\"!F33\")))","v":""},{"$f":"IF(ISERROR(INDIRECT($A5056&\"!F34\")),\"\",(INDIRECT($A5056&\"!F34\")))","v":""},{"$f":"IF(ISERROR(INDIRECT($A5056&\"!F35\")),\"\",(INDIRECT($A5056&\"!F35\")))","v":""}]
[null,"","","","","","","","","","","","","","","",""]
[null,"","","","","","","","","","","","","","","",""]
[null,"","","","","","","","","","","","","","","",""]
[null,"","","","","","","","","","","","","","","",""]
[null,"","","","","","","","","","","","","","","",""]
[null,"","","","","","","","","","","","","","","",""]
[null,"","","","","","","","","","","","","","","",""]
[null,"","","","","","","","","","","","","","","",""]
[null,"","","","","","","","","","","","","","","",""]
[null,"","","","","","","","","","","","","","","",""]
[null,"","","","","","","","","","","","","","","",""]
[null,"","","","","","","","","","","","","","","",""]
[null,"","","","","","","","","","","","","","","",""]
[null,"","","","","","","","","","","","","","","",""]
[null,"","","","","","","","","","","","","","","",""]
[null,"","","","","","","","","","","","","","","",""]
[null,"","","","","","","","","","","","","","","",""]
[null,"","","","","","","","","","","","","","","",""]
[null,"","","","","","","","","","","","","","","",""]
[null,"","","","","","","","","","","","","","","",""]
[null,"","","","","","","","","","","","","","","",""]
[null,"","","","","","","","","","","","","","","",""]
[null,"","","","","","","","","","","","","","","",""]
[null,"","","","","","","","","","","","","","","",""]
[null,"","","","","","","","","","","","","","","",""]
[null,"","","","","","","","","","","","","","","",""]
[null,"","","","","","","","","","","","","","","",""]
[null,"","","","","","","","","","","","","","","",""]
[null,{"$f":"IF(ISERROR(INDIRECT($A5120&\"!F21\")),\"\",(INDIRECT($A5120&\"!F21\")))","v":""},{"$f":"IF(ISERROR(INDIRECT($A5120&\"!F22\")),\"\",(INDIRECT($A5120&\"!F22\")))","v":""},{"$f":"IF(ISERROR(INDIRECT($A5120&\"!F23\")),\"\",(INDIRECT($A5120&\"!F23\")))","v":""},"",{"$f":"IF(ISERROR(INDIRECT($A5120&\"!F24\")),\"\",(INDIRECT($A5120&\"!F24\")))","v":""},{"$f":"IF(ISERROR(INDIRECT($A5120&\"!F25\")),\"\",(INDIRECT($A5120&\"!F25\")))","v":""},{"$f":"IF(ISERROR(INDIRECT($A5120&\"!F26\")),\"\",(INDIRECT($A5120&\"!F26\")))","v":""},{"$f":"IF(ISERROR(INDIRECT($A5120&\"!F27\")),\"\",(INDIRECT($A5120&\"!F27\")))","v":""},{"$f":"IF(ISERROR(INDIRECT($A5120&\"!F28\")),\"\",(INDIRECT($A5120&\"!F28\")))","v":""},{"$f":"IF(ISERROR(INDIRECT($A5120&\"!F29\")),\"\",(INDIRECT($A5120&\"!F29\")))","v":""},{"$f":"IF(ISERROR(INDIRECT($A5120&\"!F30\")),\"\",(INDIRECT($A5120&\"!F30\")))","v":""},{"$f":"IF(ISERROR(INDIRECT($A5120&\"!F31\")),\"\",(INDIRECT($A5120&\"!F31\")))","v":""},{"$f":"IF(ISERROR(INDIRECT($A5120&\"!F32\")),\"\",(INDIRECT($A5120&\"!F32\")))","v":""},{"$f":"IF(ISERROR(INDIRECT($A5120&\"!F33\")),\"\",(INDIRECT($A5120&\"!F33\")))","v":""},{"$f":"IF(ISERROR(INDIRECT($A5120&\"!F34\")),\"\",(INDIRECT($A5120&\"!F34\")))","v":""},{"$f":"IF(ISERROR(INDIRECT($A5120&\"!F35\")),\"\",(INDIRECT($A5120&\"!F35\")))","v":""}]
[null,"","","","","","","","","","","","","","","",""]
[null,"","","","","","","","","","","","","","","",""]
[null,"","","","","","","","","","","","","","","",""]
[null,"","","","","","","","","","","","","","","",""]
[null,"","","","","","","","","","","","","","","",""]
[null,"","","","","","","","","","","","","","","",""]
[null,"","","","","","","","","","","","","","","",""]
[null,"","","","","","","","","","","","","","","",""]
[null,"","","","","","","","","","","","","","","",""]
[null,"","","","","","","","","","","","","","","",""]
[null,"","","","","","","","","","","","","","","",""]
[null,"","","","","","","","","","","","","","","",""]
[null,"","","","","","","","","","","","","","","",""]
[null,"","","","","","","","","","","","","","","",""]
[null,"","","","","","","","","","","","","","","",""]
[null,"","","","","","","","","","","","","","","",""]
[null,"","","","","","","","","","","","","","","",""]
[null,"","","","","","","","","","","","","","","",""]
[null,"","","","","","","","","","","","","","","",""]
[null,"","","","","","","","","","","","","","","",""]
[null,"","","","","","","","","","","","","","","",""]
[null,"","","","","","","","","","","","","","","",""]
[null,"","","","","","","","","","","","","","","",""]
[null,"","","","","","","","","","","","","","","",""]
[null,"","","","","","","","","","","","","","","",""]
[null,"","","","","","","","","","","","","","","",""]
[null,"","","","","","","","","","","","","","","",""]
[null,"","","","","","","","","","","","","","","",""]
[null,"","","",{"$f":"IF(D5186<>\"\",DATEDIF(D5186,TODAY(),\"y\"),\"\")","v":""},"","","","","","","","","","","",""]
[null,"","","","","","","","","","","","","","","",""]
[null,"","","","","","","","","","","","","","","",""]
[null,"","","","","","","","","","","","","","","",""]
[null,"","","","","","","","","","","","","","","",""]
[null,"","","","","","","","","","","","","","","",""]
[null,"","","","","","","","","","","","","","","",""]
[null,"","","","","","","","","","","","","","","",""]
[null,"","","","","","","","","","","","","","","",""]
[null,"","","","","","","","","","","","","","","",""]
[null,"","","","","","","","","","","","","","","",""]
[null,"","","","","","","","","","","","","","","",""]
[null,"","","","","","","","","","","","","","","",""]
[null,"","","","","","","","","","","","","","","",""]
[null,"","","","","","","","","","","","","","","",""]
[null,"","","","","","","","","","","","","","","",""]
[null,"","","","","","","","","","","","","","","",""]
[null,"","","","","","","","","","","","","","","",""]
[null,"","","","","","","","","","","","","","","",""]
[null,"","","","","","","","","","","","","","","",""]
[null,"","","","","","","","","","","","","","","",""]
[null,"","","","","","","","","","","","","","","",""]
[null,"","","","","","","","","","","","","","","",""]
[null,"","","","","","","","","","","","","","","",""]
[null,"","","","","","","","","","","","","","","",""]
[null,"","","","","","","","","","","","","","","",""]
[null,"","","","","","","","","","","","","","","",""]
[null,"","","","","","","","","","","","","","","",""]
[null,"","","","","","","","","","","","","","","",""]
[null,"","","",{"$f":"IF(D5250<>\"\",DATEDIF(D5250,TODAY(),\"y\"),\"\")","v":""},"","","","","","","","","","","",""]
[null,"","","","","","","","","","","","","","","",""]
[null,"","","","","","","","","","","","","","","",""]
[null,"","","","","","","","","","","","","","","",""]
[null,"","","","","","","","","","","","","","","",""]
[null,"","","","","","","","","","","","","","","",""]
[null,"","","","","","","","","","","","","","","",""]
[null,"","","","","","","","","","","","","","","",""]
[null,"","","","","","","","","","","","","","","",""]
[null,"","","","","","","","","","","","","","","",""]
[null,"","","","","","","","","","","","","","","",""]
[null,"","","","","","","","","","","","","","","",""]
[null,"","","","","","","","","","","","","","","",""]
[null,"","","","","","","","","","","","","","","",""]
[null,"","","","","","","","","","","","","","","",""]
[null,"","","","","","","","","","","","","","","",""]
[null,"","","","","","","","","","","","","","","",""]
[null,"","","","","","","","","","","","","","","",""]
[null,"","","","","","","","","","","","","","","",""]
[null,"","","","","","","","","","","","","","","",""]
[null,"","","","","","","","","","","","","","","",""]
[null,"","","","","","","","","","","","","","","",""]
[null,"","","","","","","","","","","","","","","",""]
[null,"","","","","","","","","","","","","","","",""]
[null,"","","","","","","","","","","","","","","",""]
[null,"","","","","","","","","","","","","","","",""]
[null,"","","","","","","","","","","","","","","",""]
[null,{"$f":"IF(ISERROR(INDIRECT($A5312&\"!F21\")),\"\",(INDIRECT($A5312&\"!F21\")))","v":""},{"$f":"IF(ISERROR(INDIRECT($A5312&\"!F22\")),\"\",(INDIRECT($A5312&\"!F22\")))","v":""},{"$f":"IF(ISERROR(INDIRECT($A5312&\"!F23\")),\"\",(INDIRECT($A5312&\"!F23\")))","v":""},"",{"$f":"IF(ISERROR(INDIRECT($A5312&\"!F24\")),\"\",(INDIRECT($A5312&\"!F24\")))","v":""},{"$f":"IF(ISERROR(INDIRECT($A5312&\"!F25\")),\"\",(INDIRECT($A5312&\"!F25\")))","v":""},{"$f":"IF(ISERROR(INDIRECT($A5312&\"!F26\")),\"\",(INDIRECT($A5312&\"!F26\")))","v":""},{"$f":"IF(ISERROR(INDIRECT($A5312&\"!F27\")),\"\",(INDIRECT($A5312&\"!F27\")))","v":""},{"$f":"IF(ISERROR(INDIRECT($A5312&\"!F28\")),\"\",(INDIRECT($A5312&\"!F28\")))","v":""},{"$f":"IF(ISERROR(INDIRECT($A5312&\"!F29\")),\"\",(INDIRECT($A5312&\"!F29\")))","v":""},{"$f":"IF(ISERROR(INDIRECT($A5312&\"!F30\")),\"\",(INDIRECT($A5312&\"!F30\")))","v":""},{"$f":"IF(ISERROR(INDIRECT($A5312&\"!F31\")),\"\",(INDIRECT($A5312&\"!F31\")))","v":""},{"$f":"IF(ISERROR(INDIRECT($A5312&\"!F32\")),\"\",(INDIRECT($A5312&\"!F32\")))","v":""},{"$f":"IF(ISERROR(INDIRECT($A5312&\"!F33\")),\"\",(INDIRECT($A5312&\"!F33\")))","v":""},{"$f":"IF(ISERROR(INDIRECT($A5312&\"!F34\")),\"\",(INDIRECT($A5312&\"!F34\")))","v":""},{"$f":"IF(ISERROR(INDIRECT($A5312&\"!F35\")),\"\",(INDIRECT($A5312&\"!F35\")))","v":""}]
[null,"","","","","","","","","","","","","","","",""]
[null,"","","","","","","","","","","","","","","",""]
[null,"","","","","","","","","","","","","","","",""]
[null,"","","","","","","","","","","","","","","",""]
[null,"","","","","","","","","","","","","","","",""]
[null,"","","","","","","","","","","","","","","",""]
[null,"","","","","","","","","","","","","","","",""]
[null,"","","","","","","","","","","","","","","",""]
[null,"","","","","","","","","","","","","","","",""]
[null,"","","","","","","","","","","","","","","",""]
[null,"","","","","","","","","","","","","","","",""]
[null,"","","","","","","","","","","","","","","",""]
[null,"","","","","","","","","","","","","","","",""]
[null,"","","","","","","","","","","","","","","",""]
[null,"","","","","","","","","","","","","","","",""]
[null,"","","","","","","","","","","","","","","",""]
[null,"","","","","","","","","","","","","","","",""]
[null,"","","","","","","","","","","","","","","",""]
[null,"","","","","","","","","","","","","","","",""]
[null,"","","","","","","","","","","","","","","",""]
[null,"","","","","","","","","","","","","","","",""]
[null,"","","","","","","","","","","","","","","",""]
[null,"","","","","","","","","","","","","","","",""]
[null,"","","","","","","","","","","","","","","",""]
[null,"","","","","","","","","","","","","","","",""]
[null,"","","","","","","","","","","","","","","",""]
[null,"","","","","","","","","","","","","","","",""]
[null,"","","","","","","","","","","","","","","",""]
[null,{"$f":"IF(ISERROR(INDIRECT($A5376&\"!F21\")),\"\",(INDIRECT($A5376&\"!F21\")))","v":""},{"$f":"IF(ISERROR(INDIRECT($A5376&\"!F22\")),\"\",(INDIRECT($A5376&\"!F22\")))","v":""},{"$f":"IF(ISERROR(INDIRECT($A5376&\"!F23\")),\"\",(INDIRECT($A5376&\"!F23\")))","v":""},"",{"$f":"IF(ISERROR(INDIRECT($A5376&\"!F24\")),\"\",(INDIRECT($A5376&\"!F24\")))","v":""},{"$f":"IF(ISERROR(INDIRECT($A5376&\"!F25\")),\"\",(INDIRECT($A5376&\"!F25\")))","v":""},{"$f":"IF(ISERROR(INDIRECT($A5376&\"!F26\")),\"\",(INDIRECT($A5376&\"!F26\")))","v":""},{"$f":"IF(ISERROR(INDIRECT($A5376&\"!F27\")),\"\",(INDIRECT($A5376&\"!F27\")))","v":""},{"$f":"IF(ISERROR(INDIRECT($A5376&\"!F28\")),\"\",(INDIRECT($A5376&\"!F28\")))","v":""},{"$f":"IF(ISERROR(INDIRECT($A5376&\"!F29\")),\"\",(INDIRECT($A5376&\"!F29\")))","v":""},{"$f":"IF(ISERROR(INDIRECT($A5376&\"!F30\")),\"\",(INDIRECT($A5376&\"!F30\")))","v":""},{"$f":"IF(ISERROR(INDIRECT($A5376&\"!F31\")),\"\",(INDIRECT($A5376&\"!F31\")))","v":""},{"$f":"IF(ISERROR(INDIRECT($A5376&\"!F32\")),\"\",(INDIRECT($A5376&\"!F32\")))","v":""},{"$f":"IF(ISERROR(INDIRECT($A5376&\"!F33\")),\"\",(INDIRECT($A5376&\"!F33\")))","v":""},{"$f":"IF(ISERROR(INDIRECT($A5376&\"!F34\")),\"\",(INDIRECT($A5376&\"!F34\")))","v":""},{"$f":"IF(ISERROR(INDIRECT($A5376&\"!F35\")),\"\",(INDIRECT($A5376&\"!F35\")))","v":""}]
[null,"","","","","","","","","","","","","","","",""]
[null,"","","","","","","","","","","","","","","",""]
[null,"","","","","","","","","","","","","","","",""]
[null,"","","","","","","","","","","","","","","",""]
[null,"","","","","","","","","","","","","","","",""]
[null,"","","","","","","","","","","","","","","",""]
[null,"","","","","","","","","","","","","","","",""]
[null,"","","","","","","","","","","","","","","",""]
[null,"","","","","","","","","","","","","","","",""]
[null,"","","","","","","","","","","","","","","",""]
[null,"","","","","","","","","","","","","","","",""]
[null,"","","","","","","","","","","","","","","",""]
[null,"","","","","","","","","","","","","","","",""]
[null,"","","","","","","","","","","","","","","",""]
[null,"","","","","","","","","","","","","","","",""]
[null,"","","","","","","","","","","","","","","",""]
[null,"","","","","","","","","","","","","","","",""]
[null,"","","","","","","","","","","","","","","",""]
[null,"","","","","","","","","","","","","","","",""]
[null,"","","","","","","","","","","","","","","",""]
[null,"","","","","","","","","","","","","","","",""]
[null,"","","","","","","","","","","","","","","",""]
[null,"","","","","","","","","","","","","","","",""]
[null,"","","","","","","","","","","","","","","",""]
[null,"","","","","","","","","","","","","","","",""]
[null,"","","","","","","","","","","","","","","",""]
[null,"","","","","","","","","","","","","","","",""]
[null,"","","","","","","","","","","","","","","",""]
[null,"","","","","","","","","","","","","","","",""]
[null,"","","","","","","","","","","","","","","",""]
[null,"","","","","","","","","","","","","","","",""]
[null,"","","","","","","","","","","","","","","",""]
[null,"","","","","","","","","","","","","","","",""]
[null,"","","","","","","","","","","","","","","",""]
[null,"","","","","","","","","","","","","","","",""]
[null,"","","","","","","","","","","","","","","",""]
[null,"","","","","","","","","","","","","","","",""]
[null,"","","","","","","","","","","","","","","",""]
[null,"","","","","","","","","","","","","","","",""]
[null,"","","","","","","","","","","","","","","",""]
[null,"","","","","","","","","","","","","","","",""]
[null,"","","","","","","","","","","","","","","",""]
[null,"","","","","","","","","","","","","","","",""]
[null,"","","","","","","","","","","","","","","",""]
[null,"","","","","","","","","","","","","","","",""]
[null,"","","","","","","","","","","","","","","",""]
[null,"","","","","","","","","","","","","","","",""]
[null,"","","","","","","","","","","","","","","",""]
[null,"","","","","","","","","","","","","","","",""]
[null,"","","","","","","","","","","","","","","",""]
[null,"","","","","","","","","","","","","","","",""]
[null,"","","","","","","","","","","","","","","",""]
[null,"","","","","","","","","","","","","","","",""]
[null,"","","","","","","","","","","","","","","",""]
[null,"","","","","","","","","","","","","","","",""]
[null,"","","","","","","","","","","","","","","",""]
[null,"","","",{"$f":"IF(D5506<>\"\",DATEDIF(D5506,TODAY(),\"y\"),\"\")","v":""},"","","","","","","","","","","",""]
[null,"","","","","","","","","","","","","","","",""]
[null,"","","","","","","","","","","","","","","",""]
[null,"","","","","","","","","","","","","","","",""]
[null,"","","","","","","","","","","","","","","",""]
[null,"","","","","","","","","","","","","","","",""]
[null,"","","","","","","","","","","","","","","",""]
[null,"","","","","","","","","","","","","","","",""]
[null,"","","","","","","","","","","","","","","",""]
[null,"","","","","","","","","","","","","","","",""]
[null,"","","","","","","","","","","","","","","",""]
[null,"","","","","","","","","","","","","","","",""]
[null,"","","","","","","","","","","","","","","",""]
[null,"","","","","","","","","","","","","","","",""]
[null,"","","","","","","","","","","","","","","",""]
[null,"","","","","","","","","","","","","","","",""]
[null,"","","","","","","","","","","","","","","",""]
[null,"","","","","","","","","","","","","","","",""]
[null,"","","","","","","","","","","","","","","",""]
[null,"","","","","","","","","","","","","","","",""]
[null,"","","","","","","","","","","","","","","",""]
[null,"","","","","","","","","","","","","","","",""]
[null,"","","","","","","","","","","","","","","",""]
[null,"","","","","","","","","","","","","","","",""]
[null,"","","","","","","","","","","","","","","",""]
[null,"","","","","","","","","","","","","","","",""]
[null,"","","","","","","","","","","","","","","",""]
[null,"","","","","","","","","","","","","","","",""]
[null,"","","","","","","","","","","","","","","",""]
[null,"","","",{"$f":"IF(D5570<>\"\",DATEDIF(D5570,TODAY(),\"y\"),\"\")","v":""},"","","","","","","","","","","",""]
[null,"","","","","","","","","","","","","","","",""]
[null,"","","","","","","","","","","","","","","",""]
[null,"","","","","","","","","","","","","","","",""]
[null,"","","","","","","","","","","","","","","",""]
[null,"","","","","","","","","","","","","","","",""]
[null,"","","","","","","","","","","","","","","",""]
[null,"","","","","","","","","","","","","","","",""]
[null,"","","","","","","","","","","","","","","",""]
[null,"","","","","","","","","","","","","","","",""]
[null,"","","","","","","","","","","","","","","",""]
[null,"","","","","","","","","","","","","","","",""]
[null,"","","","","","","","","","","","","","","",""]
[null,"","","","","","","","","","","","","","","",""]
[null,"","","","","","","","","","","","","","","",""]
[null,"","","","","","","","","","","","","","","",""]
[null,"","","","","","","","","","","","","","","",""]
[null,"","","","","","","","","","","","","","","",""]
[null,"","","","","","","","","","","","","","","",""]
[null,"","","","","","","","","","","","","","","",""]
[null,"","","","","","","","","","","","","","","",""]
[null,"","","","","","","","","","","","","","","",""]
[null,"","","","","","","","","","","","","","","",""]
[null,"","","","","","","","","","","","","","","",""]
[null,"","","","","","","","","","","","","","","",""]
[null,"","","","","","","","","","","","","","","",""]
[null,"","","","","","","","","","","","","","","",""]
[null,{"$f":"IF(ISERROR(INDIRECT($A5632&\"!F21\")),\"\",(INDIRECT($A5632&\"!F21\")))","v":""},{"$f":"IF(ISERROR(INDIRECT($A5632&\"!F22\")),\"\",(INDIRECT($A5632&\"!F22\")))","v":""},{"$f":"IF(ISERROR(INDIRECT($A5632&\"!F23\")),\"\",(INDIRECT($A5632&\"!F23\")))","v":""},"",{"$f":"IF(ISERROR(INDIRECT($A5632&\"!F24\")),\"\",(INDIRECT($A5632&\"!F24\")))","v":""},{"$f":"IF(ISERROR(INDIRECT($A5632&\"!F25\")),\"\",(INDIRECT($A5632&\"!F25\")))","v":""},{"$f":"IF(ISERROR(INDIRECT($A5632&\"!F26\")),\"\",(INDIRECT($A5632&\"!F26\")))","v":""},{"$f":"IF(ISERROR(INDIRECT($A5632&\"!F27\")),\"\",(INDIRECT($A5632&\"!F27\")))","v":""},{"$f":"IF(ISERROR(INDIRECT($A5632&\"!F28\")),\"\",(INDIRECT($A5632&\"!F28\")))","v":""},{"$f":"IF(ISERROR(INDIRECT($A5632&\"!F29\")),\"\",(INDIRECT($A5632&\"!F29\")))","v":""},{"$f":"IF(ISERROR(INDIRECT($A5632&\"!F30\")),\"\",(INDIRECT($A5632&\"!F30\")))","v":""},{"$f":"IF(ISERROR(INDIRECT($A5632&\"!F31\")),\"\",(INDIRECT($A5632&\"!F31\")))","v":""},{"$f":"IF(ISERROR(INDIRECT($A5632&\"!F32\")),\"\",(INDIRECT($A5632&\"!F32\")))","v":""},{"$f":"IF(ISERROR(INDIRECT($A5632&\"!F33\")),\"\",(INDIRECT($A5632&\"!F33\")))","v":""},{"$f":"IF(ISERROR(INDIRECT($A5632&\"!F34\")),\"\",(INDIRECT($A5632&\"!F34\")))","v":""},{"$f":"IF(ISERROR(INDIRECT($A5632&\"!F35\")),\"\",(INDIRECT($A5632&\"!F35\")))","v":""}]
[null,"","","","","","","","","","","","","","","",""]
[null,"","","","","","","","","","","","","","","",""]
[null,"","","","","","","","","","","","","","","",""]
[null,"","","","","","","","","","","","","","","",""]
[null,"","","","","","","","","","","","","","","",""]
[null,"","","","","","","","","","","","","","","",""]
[null,"","","","","","","","","","","","","","","",""]
[null,"","","","","","","","","","","","","","","",""]
[null,"","","","","","","","","","","","","","","",""]
[null,"","","","","","","","","","","","","","","",""]
[null,"","","","","","","","","","","","","","","",""]
[null,"","","","","","","","","","","","","","","",""]
[null,"","","","","","","","","","","","","","","",""]
[null,"","","","","","","","","","","","","","","",""]
[null,"","","","","","","","","","","","","","","",""]
[null,"","","","","","","","","","","","","","","",""]
[null,"","","","","","","","","","","","","","","",""]
[null,"","","","","","","","","","","","","","","",""]
[null,"","","","","","","","","","","","","","","",""]
[null,"","","","","","","","","","","","","","","",""]
[null,"","","","","","","","","","","","","","","",""]
[null,"","","","","","","","","","","","","","","",""]
[null,"","","","","","","","","","","","","","","",""]
[null,"","","","","","","","","","","","","","","",""]
[null,"","","","","","","","","","","","","","","",""]
[null,"","","","","","","","","","","","","","","",""]
[null,"","","","","","","","","","","","","","","",""]
[null,"","","","","","","","","","","","","","","",""]
[null,{"$f":"IF(ISERROR(INDIRECT($A5696&\"!F21\")),\"\",(INDIRECT($A5696&\"!F21\")))","v":""},{"$f":"IF(ISERROR(INDIRECT($A5696&\"!F22\")),\"\",(INDIRECT($A5696&\"!F22\")))","v":""},{"$f":"IF(ISERROR(INDIRECT($A5696&\"!F23\")),\"\",(INDIRECT($A5696&\"!F23\")))","v":""},"",{"$f":"IF(ISERROR(INDIRECT($A5696&\"!F24\")),\"\",(INDIRECT($A5696&\"!F24\")))","v":""},{"$f":"IF(ISERROR(INDIRECT($A5696&\"!F25\")),\"\",(INDIRECT($A5696&\"!F25\")))","v":""},{"$f":"IF(ISERROR(INDIRECT($A5696&\"!F26\")),\"\",(INDIRECT($A5696&\"!F26\")))","v":""},{"$f":"IF(ISERROR(INDIRECT($A5696&\"!F27\")),\"\",(INDIRECT($A5696&\"!F27\")))","v":""},{"$f":"IF(ISERROR(INDIRECT($A5696&\"!F28\")),\"\",(INDIRECT($A5696&\"!F28\")))","v":""},{"$f":"IF(ISERROR(INDIRECT($A5696&\"!F29\")),\"\",(INDIRECT($A5696&\"!F29\")))","v":""},{"$f":"IF(ISERROR(INDIRECT($A5696&\"!F30\")),\"\",(INDIRECT($A5696&\"!F30\")))","v":""},{"$f":"IF(ISERROR(INDIRECT($A5696&\"!F31\")),\"\",(INDIRECT($A5696&\"!F31\")))","v":""},{"$f":"IF(ISERROR(INDIRECT($A5696&\"!F32\")),\"\",(INDIRECT($A5696&\"!F32\")))","v":""},{"$f":"IF(ISERROR(INDIRECT($A5696&\"!F33\")),\"\",(INDIRECT($A5696&\"!F33\")))","v":""},{"$f":"IF(ISERROR(INDIRECT($A5696&\"!F34\")),\"\",(INDIRECT($A5696&\"!F34\")))","v":""},{"$f":"IF(ISERROR(INDIRECT($A5696&\"!F35\")),\"\",(INDIRECT($A5696&\"!F35\")))","v":""}]
[null,"","","","","","","","","","","","","","","",""]
[null,"","","","","","","","","","","","","","","",""]
[null,"","","","","","","","","","","","","","","",""]
[null,"","","","","","","","","","","","","","","",""]
[null,"","","","","","","","","","","","","","","",""]
[null,"","","","","","","","","","","","","","","",""]
[null,"","","","","","","","","","","","","","","",""]
[null,"","","","","","","","","","","","","","","",""]
[null,"","","","","","","","","","","","","","","",""]
[null,"","","","","","","","","","","","","","","",""]
[null,"","","","","","","","","","","","","","","",""]
[null,"","","","","","","","","","","","","","","",""]
[null,"","","","","","","","","","","","","","","",""]
[null,"","","","","","","","","","","","","","","",""]
[null,"","","","","","","","","","","","","","","",""]
[null,"","","","","","","","","","","","","","","",""]
[null,"","","","","","","","","","","","","","","",""]
[null,"","","","","","","","","","","","","","","",""]
[null,"","","","","","","","","","","","","","","",""]
[null,"","","","","","","","","","","","","","","",""]
[null,"","","","","","","","","","","","","","","",""]
[null,"","","","","","","","","","","","","","","",""]
[null,"","","","","","","","","","","","","","","",""]
[null,"","","","","","","","","","","","","","","",""]
[null,"","","","","","","","","","","","","","","",""]
[null,"","","","","","","","","","","","","","","",""]
[null,"","","","","","","","","","","","","","","",""]
[null,"","","","","","","","","","","","","","","",""]
[null,"","","",{"$f":"IF(D5762<>\"\",DATEDIF(D5762,TODAY(),\"y\"),\"\")","v":""},"","","","","","","","","","","",""]
[null,"","","","","","","","","","","","","","","",""]
[null,"","","","","","","","","","","","","","","",""]
[null,"","","","","","","","","","","","","","","",""]
[null,"","","","","","","","","","","","","","","",""]
[null,"","","","","","","","","","","","","","","",""]
[null,"","","","","","","","","","","","","","","",""]
[null,"","","","","","","","","","","","","","","",""]
[null,"","","","","","","","","","","","","","","",""]
[null,"","","","","","","","","","","","","","","",""]
[null,"","","","","","","","","","","","","","","",""]
[null,"","","","","","","","","","","","","","","",""]
[null,"","","","","","","","","","","","","","","",""]
[null,"","","","","","","","","","","","","","","",""]
[null,"","","","","","","","","","","","","","","",""]
[null,"","","","","","","","","","","","","","","",""]
[null,"","","","","","","","","","","","","","","",""]
[null,"","","","","","","","","","","","","","","",""]
[null,"","","","","","","","","","","","","","","",""]
[null,"","","","","","","","","","","","","","","",""]
[null,"","","","","","","","","","","","","","","",""]
[null,"","","","","","","","","","","","","","","",""]
[null,"","","","","","","","","","","","","","","",""]
[null,"","","","","","","","","","","","","","","",""]
[null,"","","","","","","","","","","","","","","",""]
[null,"","","","","","","","","","","","","","","",""]
[null,"","","","","","","","","","","","","","","",""]
[null,"","","","","","","","","","","","","","","",""]
[null,"","","","","","","","","","","","","","","",""]
[null,"","","",{"$f":"IF(D5826<>\"\",DATEDIF(D5826,TODAY(),\"y\"),\"\")","v":""},"","","","","","","","","","","",""]
[null,"","","","","","","","","","","","","","","",""]
[null,"","","","","","","","","","","","","","","",""]
[null,"","","","","","","","","","","","","","","",""]
[null,"","","","","","","","","","","","","","","",""]
[null,"","","","","","","","","","","","","","","",""]
[null,"","","","","","","","","","","","","","","",""]
[null,"","","","","","","","","","","","","","","",""]
[null,"","","","","","","","","","","","","","","",""]
[null,"","","","","","","","","","","","","","","",""]
[null,"","","","","","","","","","","","","","","",""]
[null,"","","","","","","","","","","","","","","",""]
[null,"","","","","","","","","","","","","","","",""]
[null,"","","","","","","","","","","","","","","",""]
[null,"","","","","","","","","","","","","","","",""]
[null,"","","","","","","","","","","","","","","",""]
[null,"","","","","","","","","","","","","","","",""]
[null,"","","","","","","","","","","","","","","",""]
[null,"","","","","","","","","","","","","","","",""]
[null,"","","","","","","","","","","","","","","",""]
[null,"","","","","","","","","","","","","","","",""]
[null,"","","","","","","","","","","","","","","",""]
[null,"","","","","","","","","","","","","","","",""]
[null,"","","","","","","","","","","","","","","",""]
[null,"","","","","","","","","","","","","","","",""]
[null,"","","","","","","","","","","","","","","",""]
[null,"","","","","","","","","","","","","","","",""]
[null,{"$f":"IF(ISERROR(INDIRECT($A5888&\"!F21\")),\"\",(INDIRECT($A5888&\"!F21\")))","v":""},{"$f":"IF(ISERROR(INDIRECT($A5888&\"!F22\")),\"\",(INDIRECT($A5888&\"!F22\")))","v":""},{"$f":"IF(ISERROR(INDIRECT($A5888&\"!F23\")),\"\",(INDIRECT($A5888&\"!F23\")))","v":""},"",{"$f":"IF(ISERROR(INDIRECT($A5888&\"!F24\")),\"\",(INDIRECT($A5888&\"!F24\")))","v":""},{"$f":"IF(ISERROR(INDIRECT($A5888&\"!F25\")),\"\",(INDIRECT($A5888&\"!F25\")))","v":""},{"$f":"IF(ISERROR(INDIRECT($A5888&\"!F26\")),\"\",(INDIRECT($A5888&\"!F26\")))","v":""},{"$f":"IF(ISERROR(INDIRECT($A5888&\"!F27\")),\"\",(INDIRECT($A5888&\"!F27\")))","v":""},{"$f":"IF(ISERROR(INDIRECT($A5888&\"!F28\")),\"\",(INDIRECT($A5888&\"!F28\")))","v":""},{"$f":"IF(ISERROR(INDIRECT($A5888&\"!F29\")),\"\",(INDIRECT($A5888&\"!F29\")))","v":""},{"$f":"IF(ISERROR(INDIRECT($A5888&\"!F30\")),\"\",(INDIRECT($A5888&\"!F30\")))","v":""},{"$f":"IF(ISERROR(INDIRECT($A5888&\"!F31\")),\"\",(INDIRECT($A5888&\"!F31\")))","v":""},{"$f":"IF(ISERROR(INDIRECT($A5888&\"!F32\")),\"\",(INDIRECT($A5888&\"!F32\")))","v":""},{"$f":"IF(ISERROR(INDIRECT($A5888&\"!F33\")),\"\",(INDIRECT($A5888&\"!F33\")))","v":""},{"$f":"IF(ISERROR(INDIRECT($A5888&\"!F34\")),\"\",(INDIRECT($A5888&\"!F34\")))","v":""},{"$f":"IF(ISERROR(INDIRECT($A5888&\"!F35\")),\"\",(INDIRECT($A5888&\"!F35\")))","v":""}]
[null,"","","","","","","","","","","","","","","",""]
[null,"","","","","","","","","","","","","","","",""]
[null,"","","","","","","","","","","","","","","",""]
[null,"","","","","","","","","","","","","","","",""]
[null,"","","","","","","","","","","","","","","",""]
[null,"","","","","","","","","","","","","","","",""]
[null,"","","","","","","","","","","","","","","",""]
[null,"","","","","","","","","","","","","","","",""]
[null,"","","","","","","","","","","","","","","",""]
[null,"","","","","","","","","","","","","","","",""]
[null,"","","","","","","","","","","","","","","",""]
[null,"","","","","","","","","","","","","","","",""]
[null,"","","","","","","","","","","","","","","",""]
[null,"","","","","","","","","","","","","","","",""]
[null,"","","","","","","","","","","","","","","",""]
[null,"","","","","","","","","","","","","","","",""]
[null,"","","","","","","","","","","","","","","",""]
[null,"","","","","","","","","","","","","","","",""]
[null,"","","","","","","","","","","","","","","",""]
[null,"","","","","","","","","","","","","","","",""]
[null,"","","","","","","","","","","","","","","",""]
[null,"","","","","","","","","","","","","","","",""]
[null,"","","","","","","","","","","","","","","",""]
[null,"","","","","","","","","","","","","","","",""]
[null,"","","","","","","","","","","","","","","",""]
[null,"","","","","","","","","","","","","","","",""]
[null,"","","","","","","","","","","","","","","",""]
[null,"","","","","","","","","","","","","","","",""]
[null,{"$f":"IF(ISERROR(INDIRECT($A5952&\"!F21\")),\"\",(INDIRECT($A5952&\"!F21\")))","v":""},{"$f":"IF(ISERROR(INDIRECT($A5952&\"!F22\")),\"\",(INDIRECT($A5952&\"!F22\")))","v":""},{"$f":"IF(ISERROR(INDIRECT($A5952&\"!F23\")),\"\",(INDIRECT($A5952&\"!F23\")))","v":""},"",{"$f":"IF(ISERROR(INDIRECT($A5952&\"!F24\")),\"\",(INDIRECT($A5952&\"!F24\")))","v":""},{"$f":"IF(ISERROR(INDIRECT($A5952&\"!F25\")),\"\",(INDIRECT($A5952&\"!F25\")))","v":""},{"$f":"IF(ISERROR(INDIRECT($A5952&\"!F26\")),\"\",(INDIRECT($A5952&\"!F26\")))","v":""},{"$f":"IF(ISERROR(INDIRECT($A5952&\"!F27\")),\"\",(INDIRECT($A5952&\"!F27\")))","v":""},{"$f":"IF(ISERROR(INDIRECT($A5952&\"!F28\")),\"\",(INDIRECT($A5952&\"!F28\")))","v":""},{"$f":"IF(ISERROR(INDIRECT($A5952&\"!F29\")),\"\",(INDIRECT($A5952&\"!F29\")))","v":""},{"$f":"IF(ISERROR(INDIRECT($A5952&\"!F30\")),\"\",(INDIRECT($A5952&\"!F30\")))","v":""},{"$f":"IF(ISERROR(INDIRECT($A5952&\"!F31\")),\"\",(INDIRECT($A5952&\"!F31\")))","v":""},{"$f":"IF(ISERROR(INDIRECT($A5952&\"!F32\")),\"\",(INDIRECT($A5952&\"!F32\")))","v":""},{"$f":"IF(ISERROR(INDIRECT($A5952&\"!F33\")),\"\",(INDIRECT($A5952&\"!F33\")))","v":""},{"$f":"IF(ISERROR(INDIRECT($A5952&\"!F34\")),\"\",(INDIRECT($A5952&\"!F34\")))","v":""},{"$f":"IF(ISERROR(INDIRECT($A5952&\"!F35\")),\"\",(INDIRECT($A5952&\"!F35\")))","v":""}]
[null,"","","","","","","","","","","","","","","",""]
[null,"","","","","","","","","","","","","","","",""]
[null,"","","","","","","","","","","","","","","",""]
[null,"","","","","","","","","","","","","","","",""]
[null,"","","","","","","","","","","","","","","",""]
[null,"","","","","","","","","","","","","","","",""]
[null,"","","","","","","","","","","","","","","",""]
[null,"","","","","","","","","","","","","","","",""]
[null,"","","","","","","","","","","","","","","",""]
[null,"","","","","","","","","","","","","","","",""]
[null,"","","","","","","","","","","","","","","",""]
[null,"","","","","","","","","","","","","","","",""]
[null,"","","","","","","","","","","","","","","",""]
[null,"","","","","","","","","","","","","","","",""]
[null,"","","","","","","","","","","","","","","",""]
[null,"","","","","","","","","","","","","","","",""]
[null,"","","","","","","","","","","","","","","",""]
[null,"","","","","","","","","","","","","","","",""]
[null,"","","","","","","","","","","","","","","",""]
[null,"","","","","","","","","","","","","","","",""]
[null,"","","","","","","","","","","","","","","",""]
[null,"","","","","","","","","","","","","","","",""]
[null,"","","","","","","","","","","","","","","",""]
[null,"","","","","","","","","","","","","","","",""]
[null,"","","","","","","","","","","","","","","",""]
[null,"","","","","","","","","","","","","","","",""]
[null,"","","","","","","","","","","","","","","",""]
[null,"","","","","","","","","","","","","","","",""]
[null,"","","",{"$f":"IF(D6018<>\"\",DATEDIF(D6018,TODAY(),\"y\"),\"\")","v":""},"","","","","","","","","","","",""]
[null,"","","","","","","","","","","","","","","",""]
[null,"","","","","","","","","","","","","","","",""]
[null,"","","","","","","","","","","","","","","",""]
[null,"","","","","","","","","","","","","","","",""]
[null,"","","","","","","","","","","","","","","",""]
[null,"","","","","","","","","","","","","","","",""]
[null,"","","","","","","","","","","","","","","",""]
[null,"","","","","","","","","","","","","","","",""]
[null,"","","","","","","","","","","","","","","",""]
[null,"","","","","","","","","","","","","","","",""]
[null,"","","","","","","","","","","","","","","",""]
[null,"","","","","","","","","","","","","","","",""]
[null,"","","","","","","","","","","","","","","",""]
[null,"","","","","","","","","","","","","","","",""]
[null,"","","","","","","","","","","","","","","",""]
[null,"","","","","","","","","","","","","","","",""]
[null,"","","","","","","","","","","","","","","",""]
[null,"","","","","","","","","","","","","","","",""]
[null,"","","","","","","","","","","","","","","",""]
[null,"","","","","","","","","","","","","","","",""]
[null,"","","","","","","","","","","","","","","",""]
[null,"","","","","","","","","","","","","","","",""]
[null,"","","","","","","","","","","","","","","",""]
[null,"","","","","","","","","","","","","","","",""]
[null,"","","","","","","","","","","","","","","",""]
[null,"","","","","","","","","","","","","","","",""]
[null,"","","","","","","","","","","","","","","",""]
[null,"","","","","","","","","","","","","","","",""]
[null,"","","","","","","","","","","","","","","",""]
[null,"","","","","","","","","","","","","","","",""]
[null,"","","","","","","","","","","","","","","",""]
[null,"","","","","","","","","","","","","","","",""]
[null,"","","","","","","","","","","","","","","",""]
[null,"","","","","","","","","","","","","","","",""]
[null,"","","","","","","","","","","","","","","",""]
[null,"","","","","","","","","","","","","","","",""]
[null,"","","","","","","","","","","","","","","",""]
[null,"","","","","","","","","","","","","","","",""]
[null,"","","","","","","","","","","","","","","",""]
[null,"","","","","","","","","","","","","","","",""]
[null,"","","","","","","","","","","","","","","",""]
[null,"","","","","","","","","","","","","","","",""]
[null,"","","","","","","","","","","","","","","",""]
[null,"","","","","","","","","","","","","","","",""]
[null,"","","","","","","","","","","","","","","",""]
[null,"","","","","","","","","","","","","","","",""]
[null,"","","","","","","","","","","","","","","",""]
[null,"","","","","","","","","","","","","","","",""]
[null,"","","","","","","","","","","","","","","",""]
[null,"","","","","","","","","","","","","","","",""]
[null,"","","","","","","","","","","","","","","",""]
[null,"","","","","","","","","","","","","","","",""]
[null,"","","","","","","","","","","","","","","",""]
[null,"","","","","","","","","","","","","","","",""]
[null,"","","","","","","","","","","","","","","",""]
[null,{"$f":"IF(ISERROR(INDIRECT($A6144&\"!F21\")),\"\",(INDIRECT($A6144&\"!F21\")))","v":""},{"$f":"IF(ISERROR(INDIRECT($A6144&\"!F22\")),\"\",(INDIRECT($A6144&\"!F22\")))","v":""},{"$f":"IF(ISERROR(INDIRECT($A6144&\"!F23\")),\"\",(INDIRECT($A6144&\"!F23\")))","v":""},"",{"$f":"IF(ISERROR(INDIRECT($A6144&\"!F24\")),\"\",(INDIRECT($A6144&\"!F24\")))","v":""},{"$f":"IF(ISERROR(INDIRECT($A6144&\"!F25\")),\"\",(INDIRECT($A6144&\"!F25\")))","v":""},{"$f":"IF(ISERROR(INDIRECT($A6144&\"!F26\")),\"\",(INDIRECT($A6144&\"!F26\")))","v":""},{"$f":"IF(ISERROR(INDIRECT($A6144&\"!F27\")),\"\",(INDIRECT($A6144&\"!F27\")))","v":""},{"$f":"IF(ISERROR(INDIRECT($A6144&\"!F28\")),\"\",(INDIRECT($A6144&\"!F28\")))","v":""},{"$f":"IF(ISERROR(INDIRECT($A6144&\"!F29\")),\"\",(INDIRECT($A6144&\"!F29\")))","v":""},{"$f":"IF(ISERROR(INDIRECT($A6144&\"!F30\")),\"\",(INDIRECT($A6144&\"!F30\")))","v":""},{"$f":"IF(ISERROR(INDIRECT($A6144&\"!F31\")),\"\",(INDIRECT($A6144&\"!F31\")))","v":""},{"$f":"IF(ISERROR(INDIRECT($A6144&\"!F32\")),\"\",(INDIRECT($A6144&\"!F32\")))","v":""},{"$f":"IF(ISERROR(INDIRECT($A6144&\"!F33\")),\"\",(INDIRECT($A6144&\"!F33\")))","v":""},{"$f":"IF(ISERROR(INDIRECT($A6144&\"!F34\")),\"\",(INDIRECT($A6144&\"!F34\")))","v":""},{"$f":"IF(ISERROR(INDIRECT($A6144&\"!F35\")),\"\",(INDIRECT($A6144&\"!F35\")))","v":""}]
[null,"","","","","","","","","","","","","","","",""]
[null,"","","","","","","","","","","","","","","",""]
[null,"","","","","","","","","","","","","","","",""]
[null,"","","","","","","","","","","","","","","",""]
[null,"","","","","","","","","","","","","","","",""]
[null,"","","","","","","","","","","","","","","",""]
[null,"","","","","","","","","","","","","","","",""]
[null,"","","","","","","","","","","","","","","",""]
[null,"","","","","","","","","","","","","","","",""]
[null,"","","","","","","","","","","","","","","",""]
[null,"","","","","","","","","","","","","","","",""]
[null,"","","","","","","","","","","","","","","",""]
[null,"","","","","","","","","","","","","","","",""]
[null,"","","","","","","","","","","","","","","",""]
[null,"","","","","","","","","","","","","","","",""]
[null,"","","","","","","","","","","","","","","",""]
[null,"","","","","","","","","","","","","","","",""]
[null,"","","","","","","","","","","","","","","",""]
[null,"","","","","","","","","","","","","","","",""]
[null,"","","","","","","","","","","","","","","",""]
[null,"","","","","","","","","","","","","","","",""]
[null,"","","","","","","","","","","","","","","",""]
[null,"","","","","","","","","","","","","","","",""]
[null,"","","","","","","","","","","","","","","",""]
[null,"","","","","","","","","","","","","","","",""]
[null,"","","","","","","","","","","","","","","",""]
[null,"","","","","","","","","","","","","","","",""]
[null,"","","","","","","","","","","","","","","",""]
[null,"","","","","","","","","","","","","","","",""]
[null,"","","","","","","","","","","","","","","",""]
[null,"","","","","","","","","","","","","","","",""]
[null,"","","","","","","","","","","","","","","",""]
[null,"","","","","","","","","","","","","","","",""]
[null,"","","","","","","","","","","","","","","",""]
[null,"","","","","","","","","","","","","","","",""]
[null,"","","","","","","","","","","","","","","",""]
[null,"","","","","","","","","","","","","","","",""]
[null,"","","","","","","","","","","","","","","",""]
[null,"","","","","","","","","","","","","","","",""]
[null,"","","","","","","","","","","","","","","",""]
[null,"","","","","","","","","","","","","","","",""]
[null,"","","","","","","","","","","","","","","",""]
[null,"","","","","","","","","","","","","","","",""]
[null,"","","","","","","","","","","","","","","",""]
[null,"","","","","","","","","","","","","","","",""]
[null,"","","","","","","","","","","","","","","",""]
[null,"","","","","","","","","","","","","","","",""]
[null,"","","","","","","","","","","","","","","",""]
[null,"","","","","","","","","","","","","","","",""]
[null,"","","","","","","","","","","","","","","",""]
[null,"","","","","","","","","","","","","","","",""]
[null,"","","","","","","","","","","","","","","",""]
[null,"","","","","","","","","","","","","","","",""]
[null,"","","","","","","","","","","","","","","",""]
[null,"","","","","","","","","","","","","","","",""]
[null,"","","","","","","","","","","","","","","",""]
[null,"","","","","","","","","","","","","","","",""]
[null,"","","","","","","","","","","","","","","",""]
[null,"","","","","","","","","","","","","","","",""]
[null,"","","","","","","","","","","","","","","",""]
[null,"","","","","","","","","","","","","","","",""]
[null,"","","","","","","","","","","","","","","",""]
[null,"","","","","","","","","","","","","","","",""]
[null,"","","","","","","","","","","","","","","",""]
[null,"","","","","","","","","","","","","","","",""]
[null,"","","","","","","","","","","","","","","",""]
[null,"","","","","","","","","","","","","","","",""]
[null,"","","","","","","","","","","","","","","",""]
[null,"","","","","","","","","","","","","","","",""]
[null,"","","","","","","","","","","","","","","",""]
[null,"","","","","","","","","","","","","","","",""]
[null,"","","","","","","","","","","","","","","",""]
[null,"","","","","","","","","","","","","","","",""]
[null,"","","","","","","","","","","","","","","",""]
[null,"","","","","","","","","","","","","","","",""]
[null,"","","","","","","","","","","","","","","",""]
[null,"","","","","","","","","","","","","","","",""]
[null,"","","","","","","","","","","","","","","",""]
[null,"","","","","","","","","","","","","","","",""]
[null,"","","","","","","","","","","","","","","",""]
[null,"","","","","","","","","","","","","","","",""]
[null,"","","","","","","","","","","","","","","",""]
[null,"","","","","","","","","","","","","","","",""]
[null,"","","","","","","","","","","","","","","",""]
[null,{"$f":"IF(ISERROR(INDIRECT($A6336&\"!F21\")),\"\",(INDIRECT($A6336&\"!F21\")))","v":""},{"$f":"IF(ISERROR(INDIRECT($A6336&\"!F22\")),\"\",(INDIRECT($A6336&\"!F22\")))","v":""},{"$f":"IF(ISERROR(INDIRECT($A6336&\"!F23\")),\"\",(INDIRECT($A6336&\"!F23\")))","v":""},"",{"$f":"IF(ISERROR(INDIRECT($A6336&\"!F24\")),\"\",(INDIRECT($A6336&\"!F24\")))","v":""},{"$f":"IF(ISERROR(INDIRECT($A6336&\"!F25\")),\"\",(INDIRECT($A6336&\"!F25\")))","v":""},{"$f":"IF(ISERROR(INDIRECT($A6336&\"!F26\")),\"\",(INDIRECT($A6336&\"!F26\")))","v":""},{"$f":"IF(ISERROR(INDIRECT($A6336&\"!F27\")),\"\",(INDIRECT($A6336&\"!F27\")))","v":""},{"$f":"IF(ISERROR(INDIRECT($A6336&\"!F28\")),\"\",(INDIRECT($A6336&\"!F28\")))","v":""},{"$f":"IF(ISERROR(INDIRECT($A6336&\"!F29\")),\"\",(INDIRECT($A6336&\"!F29\")))","v":""},{"$f":"IF(ISERROR(INDIRECT($A6336&\"!F30\")),\"\",(INDIRECT($A6336&\"!F30\")))","v":""},{"$f":"IF(ISERROR(INDIRECT($A6336&\"!F31\")),\"\",(INDIRECT($A6336&\"!F31\")))","v":""},{"$f":"IF(ISERROR(INDIRECT($A6336&\"!F32\")),\"\",(INDIRECT($A6336&\"!F32\")))","v":""},{"$f":"IF(ISERROR(INDIRECT($A6336&\"!F33\")),\"\",(INDIRECT($A6336&\"!F33\")))","v":""},{"$f":"IF(ISERROR(INDIRECT($A6336&\"!F34\")),\"\",(INDIRECT($A6336&\"!F34\")))","v":""},{"$f":"IF(ISERROR(INDIRECT($A6336&\"!F35\")),\"\",(INDIRECT($A6336&\"!F35\")))","v":""}]
[null,{"$f":"IF(ISERROR(INDIRECT($A6338&\"!F21\")),\"\",(INDIRECT($A6338&\"!F21\")))","v":""},{"$f":"IF(ISERROR(INDIRECT($A6338&\"!F22\")),\"\",(INDIRECT($A6338&\"!F22\")))","v":""},{"$f":"IF(ISERROR(INDIRECT($A6338&\"!F23\")),\"\",(INDIRECT($A6338&\"!F23\")))","v":""},{"$f":"IF(D6338<>\"\",DATEDIF(D6338,TODAY(),\"y\"),\"\")","v":""},{"$f":"IF(ISERROR(INDIRECT($A6338&\"!F24\")),\"\",(INDIRECT($A6338&\"!F24\")))","v":""},{"$f":"IF(ISERROR(INDIRECT($A6338&\"!F25\")),\"\",(INDIRECT($A6338&\"!F25\")))","v":""},{"$f":"IF(ISERROR(INDIRECT($A6338&\"!F26\")),\"\",(INDIRECT($A6338&\"!F26\")))","v":""},{"$f":"IF(ISERROR(INDIRECT($A6338&\"!F27\")),\"\",(INDIRECT($A6338&\"!F27\")))","v":""},{"$f":"IF(ISERROR(INDIRECT($A6338&\"!F28\")),\"\",(INDIRECT($A6338&\"!F28\")))","v":""},{"$f":"IF(ISERROR(INDIRECT($A6338&\"!F29\")),\"\",(INDIRECT($A6338&\"!F29\")))","v":""},{"$f":"IF(ISERROR(INDIRECT($A6338&\"!F30\")),\"\",(INDIRECT($A6338&\"!F30\")))","v":""},{"$f":"IF(ISERROR(INDIRECT($A6338&\"!F31\")),\"\",(INDIRECT($A6338&\"!F31\")))","v":""},{"$f":"IF(ISERROR(INDIRECT($A6338&\"!F32\")),\"\",(INDIRECT($A6338&\"!F32\")))","v":""},{"$f":"IF(ISERROR(INDIRECT($A6338&\"!F33\")),\"\",(INDIRECT($A6338&\"!F33\")))","v":""},{"$f":"IF(ISERROR(INDIRECT($A6338&\"!F34\")),\"\",(INDIRECT($A6338&\"!F34\")))","v":""},{"$f":"IF(ISERROR(INDIRECT($A6338&\"!F35\")),\"\",(INDIRECT($A6338&\"!F35\")))","v":""}]
[null,{"$f":"IF(ISERROR(INDIRECT($A6339&\"!F21\")),\"\",(INDIRECT($A6339&\"!F21\")))","v":""},{"$f":"IF(ISERROR(INDIRECT($A6339&\"!F22\")),\"\",(INDIRECT($A6339&\"!F22\")))","v":""},{"$f":"IF(ISERROR(INDIRECT($A6339&\"!F23\")),\"\",(INDIRECT($A6339&\"!F23\")))","v":""},"",{"$f":"IF(ISERROR(INDIRECT($A6339&\"!F24\")),\"\",(INDIRECT($A6339&\"!F24\")))","v":""},{"$f":"IF(ISERROR(INDIRECT($A6339&\"!F25\")),\"\",(INDIRECT($A6339&\"!F25\")))","v":""},{"$f":"IF(ISERROR(INDIRECT($A6339&\"!F26\")),\"\",(INDIRECT($A6339&\"!F26\")))","v":""},{"$f":"IF(ISERROR(INDIRECT($A6339&\"!F27\")),\"\",(INDIRECT($A6339&\"!F27\")))","v":""},{"$f":"IF(ISERROR(INDIRECT($A6339&\"!F28\")),\"\",(INDIRECT($A6339&\"!F28\")))","v":""},{"$f":"IF(ISERROR(INDIRECT($A6339&\"!F29\")),\"\",(INDIRECT($A6339&\"!F29\")))","v":""},{"$f":"IF(ISERROR(INDIRECT($A6339&\"!F30\")),\"\",(INDIRECT($A6339&\"!F30\")))","v":""},{"$f":"IF(ISERROR(INDIRECT($A6339&\"!F31\")),\"\",(INDIRECT($A6339&\"!F31\")))","v":""},{"$f":"IF(ISERROR(INDIRECT($A6339&\"!F32\")),\"\",(INDIRECT($A6339&\"!F32\")))","v":""},{"$f":"IF(ISERROR(INDIRECT($A6339&\"!F33\")),\"\",(INDIRECT($A6339&\"!F33\")))","v":""},{"$f":"IF(ISERROR(INDIRECT($A6339&\"!F34\")),\"\",(INDIRECT($A6339&\"!F34\")))","v":""},{"$f":"IF(ISERROR(INDIRECT($A6339&\"!F35\")),\"\",(INDIRECT($A6339&\"!F35\")))","v":""}]
[null,"","","",null,"","","","","","","","","","","",""]
[null,"","","",null,"","","","","","","","","","","",""]
[null,"","","",null,"","","","","","","","","","","",""]
[null,"","","",null,"","","","","","","","","","","",""]
[null,"","","",null,"","","","","","","","","","","",""]
[null,"","","",null,"","","","","","","","","","","",""]
[null,"","","",null,"","","","","","","","","","","",""]
[null,"","","",null,"","","","","","","","","","","",""]
[null,"","","",null,"","","","","","","","","","","",""]
[null,"","","",null,"","","","","","","","","","","",""]
[null,"","","",null,"","","","","","","","","","","",""]
[null,"","","",null,"","","","","","","","","","","",""]
[null,"","","",null,"","","","","","","","","","","",""]
[null,"","","",null,"","","","","","","","","","","",""]
[null,"","","",null,"","","","","","","","","","","",""]
[null,"","","",null,"","","","","","","","","","","",""]
[null,"","","",null,"","","","","","","","","","","",""]
[null,"","","",null,"","","","","","","","","","","",""]
[null,"","","",null,"","","","","","","","","","","",""]
[null,"","","",null,"","","","","","","","","","","",""]
[null,"","","",null,"","","","","","","","","","","",""]
[null,"","","",null,"","","","","","","","","","","",""]
[null,"","","",null,"","","","","","","","","","","",""]
[null,"","","",null,"","","","","","","","","","","",""]
[null,"","","",null,"","","","","","","","","","","",""]
[null,"","","",null,"","","","","","","","","","","",""]
[null,"","","",null,"","","","","","","","","","","",""]
[null,"","","",null,"","","","","","","","","","","",""]
[null,"","","",null,"","","","","","","","","","","",""]
[null,"","","",null,"","","","","","","","","","","",""]
[null,"","","",null,"","","","","","","","","","","",""]
[null,"","","",null,"","","","","","","","","","","",""]
[null,"","","",null,"","","","","","","","","","","",""]
[null,"","","",null,"","","","","","","","","","","",""]
[null,"","","",null,"","","","","","","","","","","",""]
[null,"","","",null,"","","","","","","","","","","",""]
[null,"","","",null,"","","","","","","","","","","",""]
[null,"","","",null,"","","","","","","","","","","",""]
[null,"","","",null,"","","","","","","","","","","",""]
[null,"","","",null,"","","","","","","","","","","",""]
[null,"","","",null,"","","","","","","","","","","",""]
[null,"","","",null,"","","","","","","","","","","",""]
[null,"","","",null,"","","","","","","","","","","",""]
[null,"","","",null,"","","","","","","","","","","",""]
[null,"","","",null,"","","","","","","","","","","",""]
[null,"","","",null,"","","","","","","","","","","",""]
[null,"","","",null,"","","","","","","","","","","",""]
[null,"","","",null,"","","","","","","","","","","",""]
[null,"","","",null,"","","","","","","","","","","",""]
[null,"","","",null,"","","","","","","","","","","",""]
[null,"","","",null,"","","","","","","","","","","",""]
[null,"","","",null,"","","","","","","","","","","",""]
[null,"","","",null,"","","","","","","","","","","",""]
[null,"","","",null,"","","","","","","","","","","",""]
[null,{"$f":"IF(ISERROR(INDIRECT($A6464&\"!F21\")),\"\",(INDIRECT($A6464&\"!F21\")))","v":""},{"$f":"IF(ISERROR(INDIRECT($A6464&\"!F22\")),\"\",(INDIRECT($A6464&\"!F22\")))","v":""},{"$f":"IF(ISERROR(INDIRECT($A6464&\"!F23\")),\"\",(INDIRECT($A6464&\"!F23\")))","v":""},null,{"$f":"IF(ISERROR(INDIRECT($A6464&\"!F25\")),\"\",(INDIRECT($A6464&\"!F25\")))","v":""},{"$f":"IF(ISERROR(INDIRECT($A6464&\"!F26\")),\"\",(INDIRECT($A6464&\"!F26\")))","v":""},"","",{"$f":"IF(ISERROR(INDIRECT($A6464&\"!F28\")),\"\",(INDIRECT($A6464&\"!F28\")))","v":""},{"$f":"IF(ISERROR(INDIRECT($A6464&\"!F29\")),\"\",(INDIRECT($A6464&\"!F29\")))","v":""},{"$f":"IF(ISERROR(INDIRECT($A6464&\"!F30\")),\"\",(INDIRECT($A6464&\"!F30\")))","v":""},{"$f":"IF(ISERROR(INDIRECT($A6464&\"!F31\")),\"\",(INDIRECT($A6464&\"!F31\")))","v":""},{"$f":"IF(ISERROR(INDIRECT($A6464&\"!F32\")),\"\",(INDIRECT($A6464&\"!F32\")))","v":""},{"$f":"IF(ISERROR(INDIRECT($A6464&\"!F33\")),\"\",(INDIRECT($A6464&\"!F33\")))","v":""},{"$f":"IF(ISERROR(INDIRECT($A6464&\"!F34\")),\"\",(INDIRECT($A6464&\"!F34\")))","v":""},{"$f":"IF(ISERROR(INDIRECT($A6464&\"!F35\")),\"\",(INDIRECT($A6464&\"!F35\")))","v":""}]
[null,"","","",null,"","","","","","","","","","","",""]
[null,"","","",null,"","","","","","","","","","","",""]
[null,"","","",null,"","","","","","","","","","","",""]
[null,"","","",null,"","","","","","","","","","","",""]
[null,"","","",null,"","","","","","","","","","","",""]
[null,"","","",null,"","","","","","","","","","","",""]
[null,"","","",null,"","",{"$f":"IF(ISERROR(INDIRECT($A6480&\"!F27\")),\"\",(INDIRECT($A6480&\"!F27\")))","v":""},"","","","","","","","",""]
[null,"","","",null,"","","","","","","","","","","",""]
[null,"","","",null,"","","","","","","","","","","",""]
[null,"","","",null,"","","","","","","","","","","",""]
[null,"","","",null,"","","","","","","","","","","",""]
[null,"","","",null,"","","","","","","","","","","",""]
[null,"","","",null,"","","","","","","","","","","",""]
[null,"","","",null,"","","","","","","","","","","",""]
[null,"","","",null,"","","","","","","","","","","",""]
[null,"","","",null,"","","","","","","","","","","",""]
[null,"","","",null,"","","","","","","","","","","",""]
[null,"","","",null,"","","","","","","","","","","",""]
[null,"","","",null,"","","","","","","","","","","",""]
[null,"","","",null,"","","","","","","","","","","",""]
[null,"","","",null,"","","","","","","","","","","",""]
[null,"","","",null,"","","","","","","","","","","",""]
[null,"","","",null,"","","","","","","","","","","",""]
[null,"","","",null,"","","","","","","","","","","",""]
[null,"","","",null,"","","","","","","","","","","",""]
[null,"","","",null,"","","","","","","","","","","",""]
[null,"","","",null,"","","","","","","","","","","",""]
[null,"","","",null,"","","","","","","","","","","",""]
[null,"","","",null,"","","","","","","","","","","",""]
[null,"","","",null,"","","","","","","","","","","",""]
[null,"","","",null,"","","","","","","","","","","",""]
[null,"","","",null,"","","","","","","","","","","",""]
[null,"","","",null,"","","","","","","","","","","",""]
[null,"","","",null,"","","","","","","","","","","",""]
[null,"","","",null,"","","","","","","","","","","",""]
[null,"","","",null,"","","","","","","","","","","",""]
[null,"","","",null,"","","","","","","","","","","",""]
[null,"","","",null,"","","","","","","","","","","",""]
[null,"","","",null,"","","","","","","","","","","",""]
[null,"","","",null,"","","","","","","","","","","",""]
[null,"","","",null,"","","","","","","","","","","",""]
[null,"","","",null,"","","","","","","","","","","",""]
[null,"","","",null,"","","","","","","","","","","",""]
[null,"","","",null,"","","","","","","","","","","",""]
[null,{"$f":"IF(ISERROR(INDIRECT($A6528&\"!F21\")),\"\",(INDIRECT($A6528&\"!F21\")))","v":""},{"$f":"IF(ISERROR(INDIRECT($A6528&\"!F22\")),\"\",(INDIRECT($A6528&\"!F22\")))","v":""},{"$f":"IF(ISERROR(INDIRECT($A6528&\"!F23\")),\"\",(INDIRECT($A6528&\"!F23\")))","v":""},null,{"$f":"IF(ISERROR(INDIRECT($A6528&\"!F25\")),\"\",(INDIRECT($A6528&\"!F25\")))","v":""},{"$f":"IF(ISERROR(INDIRECT($A6528&\"!F26\")),\"\",(INDIRECT($A6528&\"!F26\")))","v":""},"","",{"$f":"IF(ISERROR(INDIRECT($A6528&\"!F28\")),\"\",(INDIRECT($A6528&\"!F28\")))","v":""},{"$f":"IF(ISERROR(INDIRECT($A6528&\"!F29\")),\"\",(INDIRECT($A6528&\"!F29\")))","v":""},{"$f":"IF(ISERROR(INDIRECT($A6528&\"!F30\")),\"\",(INDIRECT($A6528&\"!F30\")))","v":""},{"$f":"IF(ISERROR(INDIRECT($A6528&\"!F31\")),\"\",(INDIRECT($A6528&\"!F31\")))","v":""},{"$f":"IF(ISERROR(INDIRECT($A6528&\"!F32\")),\"\",(INDIRECT($A6528&\"!F32\")))","v":""},{"$f":"IF(ISERROR(INDIRECT($A6528&\"!F33\")),\"\",(INDIRECT($A6528&\"!F33\")))","v":""},{"$f":"IF(ISERROR(INDIRECT($A6528&\"!F34\")),\"\",(INDIRECT($A6528&\"!F34\")))","v":""},{"$f":"IF(ISERROR(INDIRECT($A6528&\"!F35\")),\"\",(INDIRECT($A6528&\"!F35\")))","v":""}]
[null,"","","",null,"","","","","","","","","","","",""]
[null,"","","",null,"","","","","","","","","","","",""]
[null,"","","",null,"","","","","","","","","","","",""]
[null,"","","",null,"","","","","","","","","","","",""]
[null,"","","",null,"","","","","","","","","","","",""]
[null,"","","",null,"","","","","","","","","","","",""]
[null,"","","",null,"","","","","","","","","","","",""]
[null,"","","",null,"","","","","","","","","","","",""]
[null,"","","",null,"","","","","","","","","","","",""]
[null,"","","",null,"","","","","","","","","","","",""]
[null,"","","",null,"","","","","","","","","","","",""]
[null,"","","",null,"","","","","","","","","","","",""]
[null,"","","",null,"","","","","","","","","","","",""]
[null,"","","",null,"","","","","","","","","","","",""]
[null,"","","",null,"","","","","","","","","","","",""]
[null,"","","",null,"","",{"$f":"IF(ISERROR(INDIRECT($A6544&\"!F27\")),\"\",(INDIRECT($A6544&\"!F27\")))","v":""},"","","","","","","","",""]
[null,"","","",null,"","","","","","","","","","","",""]
[null,"","","",null,"","","","","","","","","","","",""]
[null,"","","",null,"","","","","","","","","","","",""]
[null,"","","",null,"","","","","","","","","","","",""]
[null,"","","",null,"","","","","","","","","","","",""]
[null,"","","",null,"","","","","","","","","","","",""]
[null,"","","",null,"","","","","","","","","","","",""]
[null,"","","",null,"","","","","","","","","","","",""]
[null,"","","",null,"","","","","","","","","","","",""]
[null,"","","",null,"","","","","","","","","","","",""]
[null,"","","",null,"","","","","","","","","","","",""]
[null,"","","",null,"","","","","","","","","","","",""]
[null,"","","",null,"","","","","","","","","","","",""]
[null,"","","",null,"","","","","","","","","","","",""]
[null,"","","",null,"","","","","","","","","","","",""]
[null,"","","",null,"","","","","","","","","","","",""]
[null,"","","",null,"","","","","","","","","","","",""]
[null,"","","",null,"","","","","","","","","","","",""]
[null,"","","",null,"","","","","","","","","","","",""]
[null,"","","",null,"","","","","","","","","","","",""]
[null,"","","",null,"","","","","","","","","","","",""]
[null,"","","",null,"","","","","","","","","","","",""]
[null,"","","",null,"","","","","","","","","","","",""]
[null,"","","",null,"","","","","","","","","","","",""]
[null,"","","",null,"","","","","","","","","","","",""]
[null,"","","",null,"","","","","","","","","","","",""]
[null,"","","",null,"","","","","","","","","","","",""]
[null,"","","",null,"","","","","","","","","","","",""]
[null,"","","",null,"","","","","","","","","","","",""]
[null,"","","",null,"","","","","","","","","","","",""]
[null,"","","",null,"","","","","","","","","","","",""]
[null,"","","",null,"","","","","","","","","","","",""]
[null,"","","",null,"","","","","","","","","","","",""]
[null,"","","",null,"","","","","","","","","","","",""]
[null,"","","",null,"","","","","","","","","","","",""]
[null,"","","",null,"","","","","","","","","","","",""]
[null,"","","",null,"","","","","","","","","","","",""]
[null,"","","",null,"","","","","","","","","","","",""]
[null,"","","",null,"","","","","","","","","","","",""]
[null,"","","",null,"","","","","","","","","","","",""]
[null,"","","",null,"","","","","","","","","","","",""]
[null,"","","",null,"","","","","","","","","","","",""]
[null,"","","",null,"","","","","","","","","","","",""]
[null,"","","",null,"","","","","","","","","","","",""]
[null,"","","",null,"","","","","","","","","","","",""]
[null,"","","",null,"","","","","","","","","","","",""]
[null,"","","",null,"","","","","","","","","","","",""]
[null,{"$f":"IF(ISERROR(INDIRECT($A6592&\"!F21\")),\"\",(INDIRECT($A6592&\"!F21\")))","v":""},{"$f":"IF(ISERROR(INDIRECT($A6592&\"!F22\")),\"\",(INDIRECT($A6592&\"!F22\")))","v":""},{"$f":"IF(ISERROR(INDIRECT($A6592&\"!F23\")),\"\",(INDIRECT($A6592&\"!F23\")))","v":""},null,{"$f":"IF(ISERROR(INDIRECT($A6592&\"!F25\")),\"\",(INDIRECT($A6592&\"!F25\")))","v":""},{"$f":"IF(ISERROR(INDIRECT($A6592&\"!F26\")),\"\",(INDIRECT($A6592&\"!F26\")))","v":""},"","",{"$f":"IF(ISERROR(INDIRECT($A6592&\"!F28\")),\"\",(INDIRECT($A6592&\"!F28\")))","v":""},{"$f":"IF(ISERROR(INDIRECT($A6592&\"!F29\")),\"\",(INDIRECT($A6592&\"!F29\")))","v":""},{"$f":"IF(ISERROR(INDIRECT($A6592&\"!F30\")),\"\",(INDIRECT($A6592&\"!F30\")))","v":""},{"$f":"IF(ISERROR(INDIRECT($A6592&\"!F31\")),\"\",(INDIRECT($A6592&\"!F31\")))","v":""},{"$f":"IF(ISERROR(INDIRECT($A6592&\"!F32\")),\"\",(INDIRECT($A6592&\"!F32\")))","v":""},{"$f":"IF(ISERROR(INDIRECT($A6592&\"!F33\")),\"\",(INDIRECT($A6592&\"!F33\")))","v":""},{"$f":"IF(ISERROR(INDIRECT($A6592&\"!F34\")),\"\",(INDIRECT($A6592&\"!F34\")))","v":""},{"$f":"IF(ISERROR(INDIRECT($A6592&\"!F35\")),\"\",(INDIRECT($A6592&\"!F35\")))","v":""}]
[null,"","","",null,"","","","","","","","","","","",""]
[null,"","","",null,"","","","","","","","","","","",""]
[null,"","","",null,"","","","","","","","","","","",""]
[null,"","","",null,"","","","","","","","","","","",""]
[null,"","","",null,"","","","","","","","","","","",""]
[null,"","","",null,"","","","","","","","","","","",""]
[null,"","","",null,"","","","","","","","","","","",""]
[null,"","","",null,"","","","","","","","","","","",""]
[null,"","","",null,"","","","","","","","","","","",""]
[null,"","","",null,"","","","","","","","","","","",""]
[null,"","","",null,"","","","","","","","","","","",""]
[null,"","","",null,"","","","","","","","","","","",""]
[null,"","","",null,"","","","","","","","","","","",""]
[null,"","","",null,"","","","","","","","","","","",""]
[null,"","","",null,"","","","","","","","","","","",""]
[null,"","","",null,"","",{"$f":"IF(ISERROR(INDIRECT($A6608&\"!F27\")),\"\",(INDIRECT($A6608&\"!F27\")))","v":""},"","","","","","","","",""]
[null,"","","",null,"","","","","","","","","","","",""]
[null,"","","",null,"","","","","","","","","","","",""]
[null,"","","",null,"","","","","","","","","","","",""]
[null,"","","",null,"","","","","","","","","","","",""]
[null,"","","",null,"","","","","","","","","","","",""]
[null,"","","",null,"","","","","","","","","","","",""]
[null,"","","",null,"","","","","","","","","","","",""]
[null,"","","",null,"","","","","","","","","","","",""]
[null,"","","",null,"","","","","","","","","","","",""]
[null,"","","",null,"","","","","","","","","","","",""]
[null,"","","",null,"","","","","","","","","","","",""]
[null,"","","",null,"","","","","","","","","","","",""]
[null,"","","",null,"","","","","","","","","","","",""]
[null,"","","",null,"","","","","","","","","","","",""]
[null,"","","",null,"","","","","","","","","","","",""]
[null,"","","",null,"","","","","","","","","","","",""]
[null,"","","",null,"","","","","","","","","","","",""]
[null,"","","",null,"","","","","","","","","","","",""]
[null,"","","",null,"","","","","","","","","","","",""]
[null,"","","",null,"","","","","","","","","","","",""]
[null,"","","",null,"","","","","","","","","","","",""]
[null,"","","",null,"","","","","","","","","","","",""]
[null,"","","",null,"","","","","","","","","","","",""]
[null,"","","",null,"","","","","","","","","","","",""]
[null,"","","",null,"","","","","","","","","","","",""]
[null,"","","",null,"","","","","","","","","","","",""]
[null,"","","",null,"","","","","","","","","","","",""]
[null,"","","",null,"","","","","","","","","","","",""]
[null,"","","",null,"","","","","","","","","","","",""]
[null,"","","",null,"","","","","","","","","","","",""]
[null,"","","",null,"","","","","","","","","","","",""]
[null,"","","",null,"","","","","","","","","","","",""]
[null,"","","",null,"","","","","","","","","","","",""]
[null,"","","",null,"","","","","","","","","","","",""]
[null,"","","",null,"","","","","","","","","","","",""]
[null,"","","",null,"","","","","","","","","","","",""]
[null,"","","",null,"","","","","","","","","","","",""]
[null,"","","",null,"","","","","","","","","","","",""]
[null,"","","",null,"","","","","","","","","","","",""]
[null,"","","",null,"","","","","","","","","","","",""]
[null,"","","",null,"","","","","","","","","","","",""]
[null,"","","",null,"","","","","","","","","","","",""]
[null,"","","",null,"","","","","","","","","","","",""]
[null,"","","",null,"","","","","","","","","","","",""]
[null,"","","",null,"","","","","","","","","","","",""]
[null,"","","",null,"","","","","","","","","","","",""]
[null,"","","",null,"","","","","","","","","","","",""]
[null,{"$f":"IF(ISERROR(INDIRECT($A6656&\"!F21\")),\"\",(INDIRECT($A6656&\"!F21\")))","v":""},{"$f":"IF(ISERROR(INDIRECT($A6656&\"!F22\")),\"\",(INDIRECT($A6656&\"!F22\")))","v":""},{"$f":"IF(ISERROR(INDIRECT($A6656&\"!F23\")),\"\",(INDIRECT($A6656&\"!F23\")))","v":""},null,{"$f":"IF(ISERROR(INDIRECT($A6656&\"!F25\")),\"\",(INDIRECT($A6656&\"!F25\")))","v":""},{"$f":"IF(ISERROR(INDIRECT($A6656&\"!F26\")),\"\",(INDIRECT($A6656&\"!F26\")))","v":""},"","",{"$f":"IF(ISERROR(INDIRECT($A6656&\"!F28\")),\"\",(INDIRECT($A6656&\"!F28\")))","v":""},{"$f":"IF(ISERROR(INDIRECT($A6656&\"!F29\")),\"\",(INDIRECT($A6656&\"!F29\")))","v":""},{"$f":"IF(ISERROR(INDIRECT($A6656&\"!F30\")),\"\",(INDIRECT($A6656&\"!F30\")))","v":""},{"$f":"IF(ISERROR(INDIRECT($A6656&\"!F31\")),\"\",(INDIRECT($A6656&\"!F31\")))","v":""},{"$f":"IF(ISERROR(INDIRECT($A6656&\"!F32\")),\"\",(INDIRECT($A6656&\"!F32\")))","v":""},{"$f":"IF(ISERROR(INDIRECT($A6656&\"!F33\")),\"\",(INDIRECT($A6656&\"!F33\")))","v":""},{"$f":"IF(ISERROR(INDIRECT($A6656&\"!F34\")),\"\",(INDIRECT($A6656&\"!F34\")))","v":""},{"$f":"IF(ISERROR(INDIRECT($A6656&\"!F35\")),\"\",(INDIRECT($A6656&\"!F35\")))","v":""}]
[null,"","","",null,"","","","","","","","","","","",""]
[null,"","","",null,"","","","","","","","","","","",""]
[null,"","","",null,"","","","","","","","","","","",""]
[null,"","","",null,"","","","","","","","","","","",""]
[null,"","","",null,"","","","","","","","","","","",""]
[null,"","","",null,"","","","","","","","","","","",""]
[null,"","","",null,"","","","","","","","","","","",""]
[null,"","","",null,"","","","","","","","","","","",""]
[null,"","","",null,"","","","","","","","","","","",""]
[null,"","","",null,"","","","","","","","","","","",""]
[null,"","","",null,"","","","","","","","","","","",""]
[null,"","","",null,"","","","","","","","","","","",""]
[null,"","","",null,"","","","","","","","","","","",""]
[null,"","","",null,"","","","","","","","","","","",""]
[null,"","","",null,"","","","","","","","","","","",""]
[null,"","","",null,"","",{"$f":"IF(ISERROR(INDIRECT($A6672&\"!F27\")),\"\",(INDIRECT($A6672&\"!F27\")))","v":""},"","","","","","","","",""]
[null,"","","",null,"","","","","","","","","","","",""]
[null,"","","",null,"","","","","","","","","","","",""]
[null,"","","",null,"","","","","","","","","","","",""]
[null,"","","",null,"","","","","","","","","","","",""]
[null,"","","",null,"","","","","","","","","","","",""]
[null,"","","",null,"","","","","","","","","","","",""]
[null,"","","",null,"","","","","","","","","","","",""]
[null,"","","",null,"","","","","","","","","","","",""]
[null,"","","",null,"","","","","","","","","","","",""]
[null,"","","",null,"","","","","","","","","","","",""]
[null,"","","",null,"","","","","","","","","","","",""]
[null,"","","",null,"","","","","","","","","","","",""]
[null,"","","",null,"","","","","","","","","","","",""]
[null,"","","",null,"","","","","","","","","","","",""]
[null,"","","",null,"","","","","","","","","","","",""]
[null,"","","",null,"","","","","","","","","","","",""]
[null,"","","",null,"","","","","","","","","","","",""]
[null,"","","",null,"","","","","","","","","","","",""]
[null,"","","",null,"","","","","","","","","","","",""]
[null,"","","",null,"","","","","","","","","","","",""]
[null,"","","",null,"","","","","","","","","","","",""]
[null,"","","",null,"","","","","","","","","","","",""]
[null,"","","",null,"","","","","","","","","","","",""]
[null,"","","",null,"","","","","","","","","","","",""]
[null,"","","",null,"","","","","","","","","","","",""]
[null,"","","",null,"","","","","","","","","","","",""]
[null,"","","",null,"","","","","","","","","","","",""]
[null,"","","",null,"","","","","","","","","","","",""]
[null,"","","",null,"","","","","","","","","","","",""]
[null,"","","",null,"","","","","","","","","","","",""]
[null,"","","",null,"","","","","","","","","","","",""]
[null,"","","",null,"","","","","","","","","","","",""]
[null,"","","",null,"","","","","","","","","","","",""]
[null,"","","",null,"","","","","","","","","","","",""]
[null,"","","",null,"","","","","","","","","","","",""]
[null,"","","",null,"","","","","","","","","","","",""]
[null,"","","",null,"","","","","","","","","","","",""]
[null,"","","",null,"","","","","","","","","","","",""]
[null,"","","",null,"","","","","","","","","","","",""]
[null,"","","",null,"","","","","","","","","","","",""]
[null,"","","",null,"","","","","","","","","","","",""]
[null,"","","",null,"","","","","","","","","","","",""]
[null,"","","",null,"","","","","","","","","","","",""]
[null,"","","",null,"","","","","","","","","","","",""]
[null,"","","",null,"","","","","","","","","","","",""]
[null,"","","",null,"","","","","","","","","","","",""]
[null,"","","",null,"","","","","","","","","","","",""]
[null,{"$f":"IF(ISERROR(INDIRECT($A6720&\"!F21\")),\"\",(INDIRECT($A6720&\"!F21\")))","v":""},{"$f":"IF(ISERROR(INDIRECT($A6720&\"!F22\")),\"\",(INDIRECT($A6720&\"!F22\")))","v":""},{"$f":"IF(ISERROR(INDIRECT($A6720&\"!F23\")),\"\",(INDIRECT($A6720&\"!F23\")))","v":""},null,{"$f":"IF(ISERROR(INDIRECT($A6720&\"!F25\")),\"\",(INDIRECT($A6720&\"!F25\")))","v":""},{"$f":"IF(ISERROR(INDIRECT($A6720&\"!F26\")),\"\",(INDIRECT($A6720&\"!F26\")))","v":""},"","",{"$f":"IF(ISERROR(INDIRECT($A6720&\"!F28\")),\"\",(INDIRECT($A6720&\"!F28\")))","v":""},{"$f":"IF(ISERROR(INDIRECT($A6720&\"!F29\")),\"\",(INDIRECT($A6720&\"!F29\")))","v":""},{"$f":"IF(ISERROR(INDIRECT($A6720&\"!F30\")),\"\",(INDIRECT($A6720&\"!F30\")))","v":""},{"$f":"IF(ISERROR(INDIRECT($A6720&\"!F31\")),\"\",(INDIRECT($A6720&\"!F31\")))","v":""},{"$f":"IF(ISERROR(INDIRECT($A6720&\"!F32\")),\"\",(INDIRECT($A6720&\"!F32\")))","v":""},{"$f":"IF(ISERROR(INDIRECT($A6720&\"!F33\")),\"\",(INDIRECT($A6720&\"!F33\")))","v":""},{"$f":"IF(ISERROR(INDIRECT($A6720&\"!F34\")),\"\",(INDIRECT($A6720&\"!F34\")))","v":""},{"$f":"IF(ISERROR(INDIRECT($A6720&\"!F35\")),\"\",(INDIRECT($A6720&\"!F35\")))","v":""}]
[null,"","","",null,"","","","","","","","","","","",""]
[null,"","","",null,"","","","","","","","","","","",""]
[null,"","","",null,"","","","","","","","","","","",""]
[null,"","","",null,"","","","","","","","","","","",""]
[null,"","","",null,"","","","","","","","","","","",""]
[null,"","","",null,"","","","","","","","","","","",""]
[null,"","","",null,"","","","","","","","","","","",""]
[null,"","","",null,"","","","","","","","","","","",""]
[null,"","","",null,"","","","","","","","","","","",""]
[null,"","","",null,"","","","","","","","","","","",""]
[null,"","","",null,"","","","","","","","","","","",""]
[null,"","","",null,"","","","","","","","","","","",""]
[null,"","","",null,"","","","","","","","","","","",""]
[null,"","","",null,"","","","","","","","","","","",""]
[null,"","","",null,"","","","","","","","","","","",""]
[null,"","","",null,"","",{"$f":"IF(ISERROR(INDIRECT($A6736&\"!F27\")),\"\",(INDIRECT($A6736&\"!F27\")))","v":""},"","","","","","","","",""]
[null,"","","",null,"","","","","","","","","","","",""]
[null,"","","",null,"","","","","","","","","","","",""]
[null,"","","",null,"","","","","","","","","","","",""]
[null,"","","",null,"","","","","","","","","","","",""]
[null,"","","",null,"","","","","","","","","","","",""]
[null,"","","",null,"","","","","","","","","","","",""]
[null,"","","",null,"","","","","","","","","","","",""]
[null,"","","",null,"","","","","","","","","","","",""]
[null,"","","",null,"","","","","","","","","","","",""]
[null,"","","",null,"","","","","","","","","","","",""]
[null,"","","",null,"","","","","","","","","","","",""]
[null,"","","",null,"","","","","","","","","","","",""]
[null,"","","",null,"","","","","","","","","","","",""]
[null,"","","",null,"","","","","","","","","","","",""]
[null,"","","",null,"","","","","","","","","","","",""]
[null,"","","",null,"","","","","","","","","","","",""]
[null,"","","",null,"","","","","","","","","","","",""]
[null,"","","",null,"","","","","","","","","","","",""]
[null,"","","",null,"","","","","","","","","","","",""]
[null,"","","",null,"","","","","","","","","","","",""]
[null,"","","",null,"","","","","","","","","","","",""]
[null,"","","",null,"","","","","","","","","","","",""]
[null,"","","",null,"","","","","","","","","","","",""]
[null,"","","",null,"","","","","","","","","","","",""]
[null,"","","",null,"","","","","","","","","","","",""]
[null,"","","",null,"","","","","","","","","","","",""]
[null,"","","",null,"","","","","","","","","","","",""]
[null,"","","",null,"","","","","","","","","","","",""]
[null,"","","",null,"","","","","","","","","","","",""]
[null,"","","",null,"","","","","","","","","","","",""]
[null,"","","",null,"","","","","","","","","","","",""]
[null,"","","",null,"","","","","","","","","","","",""]
[null,"","","",null,"","","","","","","","","","","",""]
[null,"","","",null,"","","","","","","","","","","",""]
[null,"","","",null,"","","","","","","","","","","",""]
[null,"","","",null,"","","","","","","","","","","",""]
[null,"","","",null,"","","","","","","","","","","",""]
[null,"","","",null,"","","","","","","","","","","",""]
[null,"","","",null,"","","","","","","","","","","",""]
[null,"","","",null,"","","","","","","","","","","",""]
[null,"","","",null,"","","","","","","","","","","",""]
[null,"","","",null,"","","","","","","","","","","",""]
[null,"","","",null,"","","","","","","","","","","",""]
[null,"","","",null,"","","","","","","","","","","",""]
[null,"","","",null,"","","","","","","","","","","",""]
[null,"","","",null,"","","","","","","","","","","",""]
[null,"","","",null,"","","","","","","","","","","",""]
[null,{"$f":"IF(ISERROR(INDIRECT($A6784&\"!F21\")),\"\",(INDIRECT($A6784&\"!F21\")))","v":""},{"$f":"IF(ISERROR(INDIRECT($A6784&\"!F22\")),\"\",(INDIRECT($A6784&\"!F22\")))","v":""},{"$f":"IF(ISERROR(INDIRECT($A6784&\"!F23\")),\"\",(INDIRECT($A6784&\"!F23\")))","v":""},null,{"$f":"IF(ISERROR(INDIRECT($A6784&\"!F25\")),\"\",(INDIRECT($A6784&\"!F25\")))","v":""},{"$f":"IF(ISERROR(INDIRECT($A6784&\"!F26\")),\"\",(INDIRECT($A6784&\"!F26\")))","v":""},"","",{"$f":"IF(ISERROR(INDIRECT($A6784&\"!F28\")),\"\",(INDIRECT($A6784&\"!F28\")))","v":""},{"$f":"IF(ISERROR(INDIRECT($A6784&\"!F29\")),\"\",(INDIRECT($A6784&\"!F29\")))","v":""},{"$f":"IF(ISERROR(INDIRECT($A6784&\"!F30\")),\"\",(INDIRECT($A6784&\"!F30\")))","v":""},{"$f":"IF(ISERROR(INDIRECT($A6784&\"!F31\")),\"\",(INDIRECT($A6784&\"!F31\")))","v":""},{"$f":"IF(ISERROR(INDIRECT($A6784&\"!F32\")),\"\",(INDIRECT($A6784&\"!F32\")))","v":""},{"$f":"IF(ISERROR(INDIRECT($A6784&\"!F33\")),\"\",(INDIRECT($A6784&\"!F33\")))","v":""},{"$f":"IF(ISERROR(INDIRECT($A6784&\"!F34\")),\"\",(INDIRECT($A6784&\"!F34\")))","v":""},{"$f":"IF(ISERROR(INDIRECT($A6784&\"!F35\")),\"\",(INDIRECT($A6784&\"!F35\")))","v":""}]
[null,"","","",null,"","","","","","","","","","","",""]
[null,"","","",null,"","","","","","","","","","","",""]
[null,"","","",null,"","","","","","","","","","","",""]
[null,"","","",null,"","","","","","","","","","","",""]
[null,"","","",null,"","","","","","","","","","","",""]
[null,"","","",null,"","","","","","","","","","","",""]
[null,"","","",null,"","","","","","","","","","","",""]
[null,"","","",null,"","","","","","","","","","","",""]
[null,"","","",null,"","","","","","","","","","","",""]
[null,"","","",null,"","","","","","","","","","","",""]
[null,"","","",null,"","","","","","","","","","","",""]
[null,"","","",null,"","","","","","","","","","","",""]
[null,"","","",null,"","","","","","","","","","","",""]
[null,"","","",null,"","","","","","","","","","","",""]
[null,"","","",null,"","","","","","","","","","","",""]
[null,"","","",null,"","",{"$f":"IF(ISERROR(INDIRECT($A6800&\"!F27\")),\"\",(INDIRECT($A6800&\"!F27\")))","v":""},"","","","","","","","",""]
[null,"","","",null,"","","","","","","","","","","",""]
[null,"","","",null,"","","","","","","","","","","",""]
[null,"","","",null,"","","","","","","","","","","",""]
[null,"","","",null,"","","","","","","","","","","",""]
[null,"","","",null,"","","","","","","","","","","",""]
[null,"","","",null,"","","","","","","","","","","",""]
[null,"","","",null,"","","","","","","","","","","",""]
[null,"","","",null,"","","","","","","","","","","",""]
[null,"","","",null,"","","","","","","","","","","",""]
[null,"","","",null,"","","","","","","","","","","",""]
[null,"","","",null,"","","","","","","","","","","",""]
[null,"","","",null,"","","","","","","","","","","",""]
[null,"","","",null,"","","","","","","","","","","",""]
[null,"","","",null,"","","","","","","","","","","",""]
[null,"","","",null,"","","","","","","","","","","",""]
[null,"","","",null,"","","","","","","","","","","",""]
[null,"","","",null,"","","","","","","","","","","",""]
[null,"","","",null,"","","","","","","","","","","",""]
[null,"","","",null,"","","","","","","","","","","",""]
[null,"","","",null,"","","","","","","","","","","",""]
[null,"","","",null,"","","","","","","","","","","",""]
[null,"","","",null,"","","","","","","","","","","",""]
[null,"","","",null,"","","","","","","","","","","",""]
[null,"","","",null,"","","","","","","","","","","",""]
[null,"","","",null,"","","","","","","","","","","",""]
[null,"","","",null,"","","","","","","","","","","",""]
[null,"","","",null,"","","","","","","","","","","",""]
[null,"","","",null,"","","","","","","","","","","",""]
[null,"","","",null,"","","","","","","","","","","",""]
[null,"","","",null,"","","","","","","","","","","",""]
[null,"","","",null,"","","","","","","","","","","",""]
[null,"","","",null,"","","","","","","","","","","",""]
[null,"","","",null,"","","","","","","","","","","",""]
[null,"","","",null,"","","","","","","","","","","",""]
[null,"","","",null,"","","","","","","","","","","",""]
[null,"","","",null,"","","","","","","","","","","",""]
[null,"","","",null,"","","","","","","","","","","",""]
[null,"","","",null,"","","","","","","","","","","",""]
[null,"","","",null,"","","","","","","","","","","",""]
[null,"","","",null,"","","","","","","","","","","",""]
[null,"","","",null,"","","","","","","","","","","",""]
[null,"","","",null,"","","","","","","","","","","",""]
[null,"","","",null,"","","","","","","","","","","",""]
[null,"","","",null,"","","","","","","","","","","",""]
[null,"","","",null,"","","","","","","","","","","",""]
[null,"","","",null,"","","","","","","","","","","",""]
[null,"","","",null,"","","","","","","","","","","",""]
[null,{"$f":"IF(ISERROR(INDIRECT($A6848&\"!F21\")),\"\",(INDIRECT($A6848&\"!F21\")))","v":""},{"$f":"IF(ISERROR(INDIRECT($A6848&\"!F22\")),\"\",(INDIRECT($A6848&\"!F22\")))","v":""},{"$f":"IF(ISERROR(INDIRECT($A6848&\"!F23\")),\"\",(INDIRECT($A6848&\"!F23\")))","v":""},null,{"$f":"IF(ISERROR(INDIRECT($A6848&\"!F25\")),\"\",(INDIRECT($A6848&\"!F25\")))","v":""},{"$f":"IF(ISERROR(INDIRECT($A6848&\"!F26\")),\"\",(INDIRECT($A6848&\"!F26\")))","v":""},"","",{"$f":"IF(ISERROR(INDIRECT($A6848&\"!F28\")),\"\",(INDIRECT($A6848&\"!F28\")))","v":""},{"$f":"IF(ISERROR(INDIRECT($A6848&\"!F29\")),\"\",(INDIRECT($A6848&\"!F29\")))","v":""},{"$f":"IF(ISERROR(INDIRECT($A6848&\"!F30\")),\"\",(INDIRECT($A6848&\"!F30\")))","v":""},{"$f":"IF(ISERROR(INDIRECT($A6848&\"!F31\")),\"\",(INDIRECT($A6848&\"!F31\")))","v":""},{"$f":"IF(ISERROR(INDIRECT($A6848&\"!F32\")),\"\",(INDIRECT($A6848&\"!F32\")))","v":""},{"$f":"IF(ISERROR(INDIRECT($A6848&\"!F33\")),\"\",(INDIRECT($A6848&\"!F33\")))","v":""},{"$f":"IF(ISERROR(INDIRECT($A6848&\"!F34\")),\"\",(INDIRECT($A6848&\"!F34\")))","v":""},{"$f":"IF(ISERROR(INDIRECT($A6848&\"!F35\")),\"\",(INDIRECT($A6848&\"!F35\")))","v":""}]
[null,"","","",null,"","","","","","","","","","","",""]
[null,"","","",null,"","","","","","","","","","","",""]
[null,"","","",null,"","","","","","","","","","","",""]
[null,"","","",null,"","","","","","","","","","","",""]
[null,"","","",null,"","","","","","","","","","","",""]
[null,"","","",null,"","","","","","","","","","","",""]
[null,"","","",null,"","","","","","","","","","","",""]
[null,"","","",null,"","","","","","","","","","","",""]
[null,"","","",null,"","","","","","","","","","","",""]
[null,"","","",null,"","","","","","","","","","","",""]
[null,"","","",null,"","","","","","","","","","","",""]
[null,"","","",null,"","","","","","","","","","","",""]
[null,"","","",null,"","","","","","","","","","","",""]
[null,"","","",null,"","","","","","","","","","","",""]
[null,"","","",null,"","","","","","","","","","","",""]
[null,"","","",null,"","",{"$f":"IF(ISERROR(INDIRECT($A6864&\"!F27\")),\"\",(INDIRECT($A6864&\"!F27\")))","v":""},"","","","","","","","",""]
[null,"","","",null,"","","","","","","","","","","",""]
[null,"","","",null,"","","","","","","","","","","",""]
[null,"","","",null,"","","","","","","","","","","",""]
[null,"","","",null,"","","","","","","","","","","",""]
[null,"","","",null,"","","","","","","","","","","",""]
[null,"","","",null,"","","","","","","","","","","",""]
[null,"","","",null,"","","","","","","","","","","",""]
[null,"","","",null,"","","","","","","","","","","",""]
[null,"","","",null,"","","","","","","","","","","",""]
[null,"","","",null,"","","","","","","","","","","",""]
[null,"","","",null,"","","","","","","","","","","",""]
[null,"","","",null,"","","","","","","","","","","",""]
[null,"","","",null,"","","","","","","","","","","",""]
[null,"","","",null,"","","","","","","","","","","",""]
[null,"","","",null,"","","","","","","","","","","",""]
[null,"","","",null,"","","","","","","","","","","",""]
[null,"","","",null,"","","","","","","","","","","",""]
[null,"","","",null,"","","","","","","","","","","",""]
[null,"","","",null,"","","","","","","","","","","",""]
[null,"","","",null,"","","","","","","","","","","",""]
[null,"","","",null,"","","","","","","","","","","",""]
[null,"","","",null,"","","","","","","","","","","",""]
[null,"","","",null,"","","","","","","","","","","",""]
[null,"","","",null,"","","","","","","","","","","",""]
[null,"","","",null,"","","","","","","","","","","",""]
[null,"","","",null,"","","","","","","","","","","",""]
[null,"","","",null,"","","","","","","","","","","",""]
[null,"","","",null,"","","","","","","","","","","",""]
[null,"","","",null,"","","","","","","","","","","",""]
[null,"","","",null,"","","","","","","","","","","",""]
[null,"","","",null,"","","","","","","","","","","",""]
[null,"","","",null,"","","","","","","","","","","",""]
[null,"","","",null,"","","","","","","","","","","",""]
[null,"","","",null,"","","","","","","","","","","",""]
[null,"","","",null,"","","","","","","","","","","",""]
[null,"","","",null,"","","","","","","","","","","",""]
[null,"","","",null,"","","","","","","","","","","",""]
[null,"","","",null,"","","","","","","","","","","",""]
[null,"","","",null,"","","","","","","","","","","",""]
[null,"","","",null,"","","","","","","","","","","",""]
[null,"","","",null,"","","","","","","","","","","",""]
[null,"","","",null,"","","","","","","","","","","",""]
[null,"","","",null,"","","","","","","","","","","",""]
[null,"","","",null,"","","","","","","","","","","",""]
[null,"","","",null,"","","","","","","","","","","",""]
[null,"","","",null,"","","","","","","","","","","",""]
[null,"","","",null,"","","","","","","","","","","",""]
[null,{"$f":"IF(ISERROR(INDIRECT($A6912&\"!F21\")),\"\",(INDIRECT($A6912&\"!F21\")))","v":""},{"$f":"IF(ISERROR(INDIRECT($A6912&\"!F22\")),\"\",(INDIRECT($A6912&\"!F22\")))","v":""},{"$f":"IF(ISERROR(INDIRECT($A6912&\"!F23\")),\"\",(INDIRECT($A6912&\"!F23\")))","v":""},null,{"$f":"IF(ISERROR(INDIRECT($A6912&\"!F25\")),\"\",(INDIRECT($A6912&\"!F25\")))","v":""},{"$f":"IF(ISERROR(INDIRECT($A6912&\"!F26\")),\"\",(INDIRECT($A6912&\"!F26\")))","v":""},"","",{"$f":"IF(ISERROR(INDIRECT($A6912&\"!F28\")),\"\",(INDIRECT($A6912&\"!F28\")))","v":""},{"$f":"IF(ISERROR(INDIRECT($A6912&\"!F29\")),\"\",(INDIRECT($A6912&\"!F29\")))","v":""},{"$f":"IF(ISERROR(INDIRECT($A6912&\"!F30\")),\"\",(INDIRECT($A6912&\"!F30\")))","v":""},{"$f":"IF(ISERROR(INDIRECT($A6912&\"!F31\")),\"\",(INDIRECT($A6912&\"!F31\")))","v":""},{"$f":"IF(ISERROR(INDIRECT($A6912&\"!F32\")),\"\",(INDIRECT($A6912&\"!F32\")))","v":""},{"$f":"IF(ISERROR(INDIRECT($A6912&\"!F33\")),\"\",(INDIRECT($A6912&\"!F33\")))","v":""},{"$f":"IF(ISERROR(INDIRECT($A6912&\"!F34\")),\"\",(INDIRECT($A6912&\"!F34\")))","v":""},{"$f":"IF(ISERROR(INDIRECT($A6912&\"!F35\")),\"\",(INDIRECT($A6912&\"!F35\")))","v":""}]
[null,"","","",null,"","","","","","","","","","","",""]
[null,"","","",null,"","","","","","","","","","","",""]
[null,"","","",null,"","","","","","","","","","","",""]
[null,"","","",null,"","","","","","","","","","","",""]
[null,"","","",null,"","","","","","","","","","","",""]
[null,"","","",null,"","","","","","","","","","","",""]
[null,"","","",null,"","","","","","","","","","","",""]
[null,"","","",null,"","","","","","","","","","","",""]
[null,"","","",null,"","","","","","","","","","","",""]
[null,"","","",null,"","","","","","","","","","","",""]
[null,"","","",null,"","","","","","","","","","","",""]
[null,"","","",null,"","","","","","","","","","","",""]
[null,"","","",null,"","","","","","","","","","","",""]
[null,"","","",null,"","","","","","","","","","","",""]
[null,"","","",null,"","","","","","","","","","","",""]
[null,"","","",null,"","",{"$f":"IF(ISERROR(INDIRECT($A6928&\"!F27\")),\"\",(INDIRECT($A6928&\"!F27\")))","v":""},"","","","","","","","",""]
[null,"","","",null,"","","","","","","","","","","",""]
[null,"","","",null,"","","","","","","","","","","",""]
[null,"","","",null,"","","","","","","","","","","",""]
[null,"","","",null,"","","","","","","","","","","",""]
[null,"","","",null,"","","","","","","","","","","",""]
[null,"","","",null,"","","","","","","","","","","",""]
[null,"","","",null,"","","","","","","","","","","",""]
[null,"","","",null,"","","","","","","","","","","",""]
[null,{"$f":"IF(ISERROR(INDIRECT($A6937&\"!F20\")),\"\",(INDIRECT($A6937&\"!F20\")))","v":""},"","",null,"","","","","","","","","","","","",""]
[null,"","","",null,"","","","","","","","","","","","",""]
[null,"","","",null,"","","","","","","","","","","","",""]
[null,"","","",null,"","","","","","","","","","","","",""]
[null,"","","",null,"","","","","","","","","","","","",""]
[null,"","","",null,"","","","","","","","","","","","",""]
[null,"","","",null,"","","","","","","","","","","","",""]
[null,"","","",null,"","","","","","","","","","","","",""]
[null,"","","",null,"","","","","","","","","","","","",""]
[null,"","","",null,"","","","","","","","","","","","",""]
[null,"","","",null,"","","","","","","","","","","","",""]
[null,"","","",null,"","","","","","","","","","","","",""]
[null,"","","",null,"","","","","","","","","","","","",""]
[null,"","","",null,"","","","","","","","","","","","",""]
[null,"","","",null,"","","","","","","","","","","","",""]
[null,"","","",null,"","","","","","","","","","","","",""]
[null,"","","",null,"","","","","","","","","","","","",""]
[null,"","","",null,"","","","","","","","","","","","",""]
[null,"","","",null,"","","","","","","","","","","","",""]
[null,"","","",null,"","","","","","","","","","","","",""]
[null,"","","",null,"","","","","","","","","","","","",""]
[null,"","","",null,"","","","","","","","","","","","",""]
[null,"","","",null,"","","","","","","","","","","","",""]
[null,"","","",null,"","","","","","","","","","","","",""]
[null,"","","",null,"","","","","","","","","","","","",""]
[null,"","","",null,"","","","","","","","","","","","",""]
[null,"","","",null,"","","","","","","","","","","","",""]
[null,"","","",null,"","","","","","","","","","","","",""]
[null,"","","",null,"","","","","","","","","","","","",""]
[null,"","","",null,"","","","","","","","","","","","",""]
[null,"","","",null,"","","","","","","","","","","","",""]
[null,"","","",null,"","","","","","","","","","","","",""]
[null,"","","",null,"","","","","","","","","","","","",""]
[null,"","","",null,"","","","","","","","","","","","",""]
[null,"","","",null,"","","","","","","","","","","","",""]
[null,"","","",null,"","","","","","","","","","","","",""]
[null,"","","",null,"","","","","","","","","","","","",""]
[null,"","","",null,"","","","","","","","","","","","",""]
[null,"","","",null,"","","","","","","","","","","","",""]
[null,{"$f":"IF(ISERROR(INDIRECT($A6976&\"!F20\")),\"\",(INDIRECT($A6976&\"!F20\")))","v":""},{"$f":"IF(ISERROR(INDIRECT($A6976&\"!F21\")),\"\",(INDIRECT($A6976&\"!F21\")))","v":""},{"$f":"IF(ISERROR(INDIRECT($A6976&\"!F22\")),\"\",(INDIRECT($A6976&\"!F22\")))","v":""},null,{"$f":"IF(ISERROR(INDIRECT($A6976&\"!F23\")),\"\",(INDIRECT($A6976&\"!F23\")))","v":""},{"$f":"IF(ISERROR(INDIRECT($A6976&\"!F25\")),\"\",(INDIRECT($A6976&\"!F25\")))","v":""},{"$f":"IF(ISERROR(INDIRECT($A6976&\"!F26\")),\"\",(INDIRECT($A6976&\"!F26\")))","v":""},"","",{"$f":"IF(ISERROR(INDIRECT($A6976&\"!F28\")),\"\",(INDIRECT($A6976&\"!F28\")))","v":""},{"$f":"IF(ISERROR(INDIRECT($A6976&\"!F29\")),\"\",(INDIRECT($A6976&\"!F29\")))","v":""},{"$f":"IF(ISERROR(INDIRECT($A6976&\"!F30\")),\"\",(INDIRECT($A6976&\"!F30\")))","v":""},{"$f":"IF(ISERROR(INDIRECT($A6976&\"!F31\")),\"\",(INDIRECT($A6976&\"!F31\")))","v":""},{"$f":"IF(ISERROR(INDIRECT($A6976&\"!F32\")),\"\",(INDIRECT($A6976&\"!F32\")))","v":""},{"$f":"IF(ISERROR(INDIRECT($A6976&\"!F33\")),\"\",(INDIRECT($A6976&\"!F33\")))","v":""},{"$f":"IF(ISERROR(INDIRECT($A6976&\"!F34\")),\"\",(INDIRECT($A6976&\"!F34\")))","v":""},{"$f":"IF(ISERROR(INDIRECT($A6976&\"!F35\")),\"\",(INDIRECT($A6976&\"!F35\")))","v":""}]
[null,"","","",null,"","","","","","","","","","","","",""]
[null,"","","",null,"","","","","","","","","","","","",""]
[null,"","","",null,"","","","","","","","","","","","",""]
[null,"","","",null,"","","","","","","","","","","","",""]
[null,"","","",null,"","","","","","","","","","","","",""]
[null,"","","",null,"","","","","","","","","","","","",""]
[null,"","","",null,"","","","","","","","","","","","",""]
[null,"","","",null,"","","","","","","","","","","","",""]
[null,"","","",null,"","","","","","","","","","","","",""]
[null,"","","",null,"","","","","","","","","","","","",""]
[null,"","","",null,"","","","","","","","","","","","",""]
[null,"","","",null,"","","","","","","","","","","","",""]
[null,"","","",null,"","","","","","","","","","","","",""]
[null,"","","",null,"","","","","","","","","","","","",""]
[null,"","","",null,"","","","","","","","","","","","",""]
[null,"","","",null,"","","",{"$f":"IF(ISERROR(INDIRECT($A6992&\"!F27\")),\"\",(INDIRECT($A6992&\"!F27\")))","v":""},"","","","","","","","",""]
[null,"","","",null,"","","","","","","","","","","","",""]
[null,"","","",null,"","","","","","","","","","","","",""]
[null,"","","",null,"","","","","","","","","","","","",""]
[null,"","","",null,"","","","","","","","","","","","",""]
[null,"","","",null,"","","","","","","","","","","","",""]
[null,"","","",null,"","","","","","","","","","","","",""]